BEGIN:VCALENDAR
VERSION:2.0
PRODID:-//CWF Official Website - ECPv6.15.17.1//NONSGML v1.0//EN
CALSCALE:GREGORIAN
METHOD:PUBLISH
X-ORIGINAL-URL:https://www.cwf.ch
X-WR-CALDESC:Events for CWF Official Website
REFRESH-INTERVAL;VALUE=DURATION:PT1H
X-Robots-Tag:noindex
X-PUBLISHED-TTL:PT1H
BEGIN:VTIMEZONE
TZID:Europe/Zurich
BEGIN:DAYLIGHT
TZOFFSETFROM:+0100
TZOFFSETTO:+0200
TZNAME:CEST
DTSTART:20170326T010000
END:DAYLIGHT
BEGIN:STANDARD
TZOFFSETFROM:+0200
TZOFFSETTO:+0100
TZNAME:CET
DTSTART:20171029T010000
END:STANDARD
BEGIN:DAYLIGHT
TZOFFSETFROM:+0100
TZOFFSETTO:+0200
TZNAME:CEST
DTSTART:20180325T010000
END:DAYLIGHT
BEGIN:STANDARD
TZOFFSETFROM:+0200
TZOFFSETTO:+0100
TZNAME:CET
DTSTART:20181028T010000
END:STANDARD
BEGIN:DAYLIGHT
TZOFFSETFROM:+0100
TZOFFSETTO:+0200
TZNAME:CEST
DTSTART:20190331T010000
END:DAYLIGHT
BEGIN:STANDARD
TZOFFSETFROM:+0200
TZOFFSETTO:+0100
TZNAME:CET
DTSTART:20191027T010000
END:STANDARD
END:VTIMEZONE
BEGIN:VEVENT
DTSTART;TZID=Europe/Zurich:20180608T100000
DTEND;TZID=Europe/Zurich:20180608T120000
DTSTAMP:20260420T054616
CREATED:20180601T132837Z
LAST-MODIFIED:20180601T133827Z
UID:29700-1528452000-1528459200@www.cwf.ch
SUMMARY:Peter Singer: Ethics\, Technology and the Future of Humanity
DESCRIPTION:First Public Lecture on Ethics and Technology in the United Nations system \nLanguages: English/French (simultaneous interpretation) \nATTENDANCE IS FREE OF CHARGE\, REGISTRATION IS REQUIRED \nEminent Professor Peter Singer (Princeton\, Melbourne\, universities in Europe & USA); recipient of prestigious distinctions and awards\, ranked by Time Magazine\, The Sydney Morning Herald and The Age  as one of the most influential people in the world and by the (Swiss) Gottlieb Duttweiler Institute as “Global Thought Leader”. \nProfessor Singer is author\, co-author\, editor and/or co-editor of more than 40 books\, including The Life You Can Save\, Ethics in the Real World and The Most Good You Can Do. \nSee: interview by Sarah Jordan\, UN Special No 79\, May 2018 https://www.unspecial.org and www.petersinger.info \nEvent website and registration
URL:https://www.cwf.ch/event/peter-singer-ethics-technology-the-future-of-humanity/
LOCATION:WIPO – WCH\, 34\, chemin des Colombettes\, Geneva\, 1201\, Switzerland
CATEGORIES:Partners' Events
ATTACH;FMTTYPE=image/jpeg:https://www.cwf.ch/wp-content/uploads/2018/06/wipo.jpg
GEO:46.2220422;6.1369466
X-APPLE-STRUCTURED-LOCATION;VALUE=URI;X-ADDRESS=WIPO – WCH 34 chemin des Colombettes Geneva 1201 Switzerland;X-APPLE-RADIUS=500;X-TITLE=34\, chemin des Colombettes:geo:6.1369466,46.2220422
END:VEVENT
END:VCALENDAR