BEGIN:VCALENDAR
VERSION:2.0
PRODID:-//CWF Official Website - ECPv6.15.17.1//NONSGML v1.0//EN
CALSCALE:GREGORIAN
METHOD:PUBLISH
X-WR-CALNAME:CWF Official Website
X-ORIGINAL-URL:https://www.cwf.ch
X-WR-CALDESC:Events for CWF Official Website
REFRESH-INTERVAL;VALUE=DURATION:PT1H
X-Robots-Tag:noindex
X-PUBLISHED-TTL:PT1H
BEGIN:VTIMEZONE
TZID:Europe/Zurich
BEGIN:DAYLIGHT
TZOFFSETFROM:+0100
TZOFFSETTO:+0200
TZNAME:CEST
DTSTART:20240331T010000
END:DAYLIGHT
BEGIN:STANDARD
TZOFFSETFROM:+0200
TZOFFSETTO:+0100
TZNAME:CET
DTSTART:20241027T010000
END:STANDARD
BEGIN:DAYLIGHT
TZOFFSETFROM:+0100
TZOFFSETTO:+0200
TZNAME:CEST
DTSTART:20250330T010000
END:DAYLIGHT
BEGIN:STANDARD
TZOFFSETFROM:+0200
TZOFFSETTO:+0100
TZNAME:CET
DTSTART:20251026T010000
END:STANDARD
BEGIN:DAYLIGHT
TZOFFSETFROM:+0100
TZOFFSETTO:+0200
TZNAME:CEST
DTSTART:20260329T010000
END:DAYLIGHT
BEGIN:STANDARD
TZOFFSETFROM:+0200
TZOFFSETTO:+0100
TZNAME:CET
DTSTART:20261025T010000
END:STANDARD
END:VTIMEZONE
BEGIN:VEVENT
DTSTART;TZID=Europe/Zurich:20250326T180000
DTEND;TZID=Europe/Zurich:20250326T203000
DTSTAMP:20260421T202741
CREATED:20250213T103625Z
LAST-MODIFIED:20250325T101544Z
UID:202030-1743012000-1743021000@www.cwf.ch
SUMMARY:IA en action : Des cas concrets pour transformer votre quotidien professionnel
DESCRIPTION:Cet événement est réservé aux membres du CWF et aux employés\, femmes et hommes\, des membres entreprises du CWF . \nAccès Oracle \nL’intelligence artificielle n’est plus une promesse lointaine\, mais une réalité qui transforme déjà notre manière de travailler\, de décider et d’influencer. Que vous soyez dirigeante\, manager\, consultante ou experte métier\, l’IA peut être un puissant levier pour optimiser vos processus\, anticiper les tendances et convaincre vos clients et partenaires avec des analyses plus précises et des recommandations stratégiques. \nRejoignez-nous pour un atelier interactif qui vous plongera dans des cas d’usage concrets de l’IA en entreprise. À travers des scénarios inspirés de la réalité professionnelle\, nous explorerons comment l’IA peut vous faire gagner en efficacité\, améliorer la collaboration et renforcer votre impact décisionnel. Mieux encore\, vous aurez l’opportunité de travailler sur un cas pratique\, pour repartir avec des clés d’application immédiates et pertinentes pour votre activité. \nOracle\, membre entreprise du CWF  depuis 2012\,  est un leader mondial des solutions cloud et technologiques\, aidant les entreprises de toutes tailles à moderniser leurs infrastructures\, optimiser leurs processus et exploiter le plein potentiel de leurs données. En 2024\, Oracle a réalisé un chiffre d’affaires de 53 milliards de dollars et compte environ 160 000 employés à travers le monde. \nCet évènement sera l’occasion de découvrir comment l’entreprise intègre l’IA au cœur de ses solutions pour transformer le monde professionnel.Milyana Mcirdi – Oracle Cloud Sales Representative – et Yvan Cognasse – Oracle Senior Director Continental Europe – vous partageront les dernières avancées technologiques et répondront à vos questions pour vous aider à tirer le meilleur parti de cette révolution digitale. Un événement dynamique\, concret et inspirant à ne pas manquer ! \nMerci de noter: par respect envers Oracle qui offre généreusement cet événement et le cocktail aux membres du CWF\, nous facturerons un montant de CHF 30.- aux membres inscrits qui ne se présenteront pas à l’événement.
URL:https://www.cwf.ch/event/ia-en-action-des-cas-concrets-pour-transformer-votre-quotidien-professionnel/
LOCATION:Oracle Genève\, Route de Pré-Bois 29\, Meyrin\, Genève\, 1215\, Switzerland
CATEGORIES:Corporate Members' Events
ATTACH;FMTTYPE=image/png:https://www.cwf.ch/wp-content/uploads/2025/02/Oracle-AI.png
ORGANIZER;CN="CWF":MAILTO:administration@cwf.ch
GEO:46.2281462;6.1042491
X-APPLE-STRUCTURED-LOCATION;VALUE=URI;X-ADDRESS=Oracle Genève Route de Pré-Bois 29 Meyrin Genève 1215 Switzerland;X-APPLE-RADIUS=500;X-TITLE=Route de Pré-Bois 29:geo:6.1042491,46.2281462
END:VEVENT
END:VCALENDAR