BEGIN:VCALENDAR
VERSION:2.0
PRODID:-//CWF Official Website - ECPv6.15.17.1//NONSGML v1.0//EN
CALSCALE:GREGORIAN
METHOD:PUBLISH
X-ORIGINAL-URL:https://www.cwf.ch
X-WR-CALDESC:Events for CWF Official Website
REFRESH-INTERVAL;VALUE=DURATION:PT1H
X-Robots-Tag:noindex
X-PUBLISHED-TTL:PT1H
BEGIN:VTIMEZONE
TZID:Europe/Zurich
BEGIN:DAYLIGHT
TZOFFSETFROM:+0100
TZOFFSETTO:+0200
TZNAME:CEST
DTSTART:20160327T010000
END:DAYLIGHT
BEGIN:STANDARD
TZOFFSETFROM:+0200
TZOFFSETTO:+0100
TZNAME:CET
DTSTART:20161030T010000
END:STANDARD
BEGIN:DAYLIGHT
TZOFFSETFROM:+0100
TZOFFSETTO:+0200
TZNAME:CEST
DTSTART:20170326T010000
END:DAYLIGHT
BEGIN:STANDARD
TZOFFSETFROM:+0200
TZOFFSETTO:+0100
TZNAME:CET
DTSTART:20171029T010000
END:STANDARD
BEGIN:DAYLIGHT
TZOFFSETFROM:+0100
TZOFFSETTO:+0200
TZNAME:CEST
DTSTART:20180325T010000
END:DAYLIGHT
BEGIN:STANDARD
TZOFFSETFROM:+0200
TZOFFSETTO:+0100
TZNAME:CET
DTSTART:20181028T010000
END:STANDARD
BEGIN:DAYLIGHT
TZOFFSETFROM:+0100
TZOFFSETTO:+0200
TZNAME:CEST
DTSTART:20190331T010000
END:DAYLIGHT
BEGIN:STANDARD
TZOFFSETFROM:+0200
TZOFFSETTO:+0100
TZNAME:CET
DTSTART:20191027T010000
END:STANDARD
END:VTIMEZONE
BEGIN:VEVENT
DTSTART;TZID=Europe/Zurich:20180514T183000
DTEND;TZID=Europe/Zurich:20180514T213000
DTSTAMP:20260420T011735
CREATED:20180508T085230Z
LAST-MODIFIED:20180508T090923Z
UID:25693-1526322600-1526333400@www.cwf.ch
SUMMARY:Meet-up Jobsharing Genève
DESCRIPTION:Travailler autrement: le partage d’emploi! \nLe job sharing est un modèle de travail innovant qui amène de grands avantages à l’employeur et l’employé avec pour objectif un meilleur équilibre dans le monde professionnel entre femmes et hommes\, travail et famille\, formation et carrière\, activité indépendante et salariée (slash careers). C’est une troisième voie sur le marché du travail qui offre l’accès à des postes à responsabilité en travaillant à temps partiel. \nEtes-vous intéressé-e par le partage d’emploi ? Cherchez-vous un-e partenaire professionnel-le ? Souhaitez-vous savoir comment rencontrer un-e partenaire et comment postuler à deux ? \nPlus d’informations \nFlyer \nInscriptions jusqu’au 13 mai (Entrée: chf 20.-)
URL:https://www.cwf.ch/event/meet-up-jobsharing-geneve/
LOCATION:Impact Hub Geneva\, Rue Fendt 1\, Geneva\, 1201\, Switzerland
CATEGORIES:Partners' Events
ATTACH;FMTTYPE=image/jpeg:https://www.cwf.ch/wp-content/uploads/2018/05/Goforjobsharing.jpg
ORGANIZER;CN="Association PTO (Part Time Optimisation)":MAILTO:http://www.go-for-jobsharing.ch/fr/qui-sommes-nous/contact-pto.html
GEO:46.2105583;6.1412907
X-APPLE-STRUCTURED-LOCATION;VALUE=URI;X-ADDRESS=Impact Hub Geneva Rue Fendt 1 Geneva 1201 Switzerland;X-APPLE-RADIUS=500;X-TITLE=Rue Fendt 1:geo:6.1412907,46.2105583
END:VEVENT
BEGIN:VEVENT
DTSTART;TZID=Europe/Zurich:20180306T180000
DTEND;TZID=Europe/Zurich:20180306T200000
DTSTAMP:20260420T011735
CREATED:20180207T111044Z
LAST-MODIFIED:20180212T094916Z
UID:10595-1520359200-1520366400@www.cwf.ch
SUMMARY:Infoshop: La transformation digitale - comment s'y prendre?
DESCRIPTION:Le Career Women’s Forum recommande cet infoshop\, organisé par l’une de ses membres. \nInternet a changé plus que notre quotidien\, il a aussi changé notre façon de travailler et la façon dont les entreprises envisagent de gérer leur activité. Ce phénomène est appelé la transformation digitale: il faut évoluer pour ne pas être dépassé\, surtout quand les consommateurs changent leurs usages aussi vite. \n\n\n\nComment dois-je m’y prendre? Quels facteurs dois-je prendre en compte? Comment lever les freins internes et faire adherer les salariés de mon entreprise\, de mon département\, de mon équipe? Quels bénéfices en attendre? \nAutent de domande auxquelles nous répondrons par des exemples concrets concernant différentes fonctions de l’entreprise:\n\n\n1.      Direction: prendre des décisions grâce à la data\n\n\n2.      RH: recruter et gérer les talents\, analyzer l’absentéisme grâce la data\n\n\n3.      Marketing: mieux connaître ses clients grâce à la data\n\n\n\nCet infoshop est proposée par Corinne Fabre\, leader de Business Decision Suisse SA pour les collaborateurs et collaborateurs. Il est ouvert à toutes les personnes concernées e ne nécessite tecniques de compétences. \nInscriptions directement à l’adresse de Corinne Fabre \nPrix: Membres: CHF 10 / Non-membres: CHF 20 payables à l’entrée \nDowload digital flyer
URL:https://www.cwf.ch/event/infoshop-cwf-la-transformation-digitale-comment-sy-prendre/
LOCATION:Impact Hub Geneva\, Rue Fendt 1\, Geneva\, 1201\, Switzerland
CATEGORIES:Workshops
ATTACH;FMTTYPE=image/jpeg:https://www.cwf.ch/wp-content/uploads/2018/02/CorinneFabre.jpg
ORGANIZER;CN="CWF":MAILTO:administration@cwf.ch
GEO:46.2105583;6.1412907
X-APPLE-STRUCTURED-LOCATION;VALUE=URI;X-ADDRESS=Impact Hub Geneva Rue Fendt 1 Geneva 1201 Switzerland;X-APPLE-RADIUS=500;X-TITLE=Rue Fendt 1:geo:6.1412907,46.2105583
END:VEVENT
BEGIN:VEVENT
DTSTART;TZID=Europe/Zurich:20171116T193000
DTEND;TZID=Europe/Zurich:20171116T220000
DTSTAMP:20260420T011735
CREATED:20171011T173822Z
LAST-MODIFIED:20171115T154859Z
UID:880-1510860600-1510869600@www.cwf.ch
SUMMARY:Future of Jobs\, Skills and Gender Balance
DESCRIPTION:Saadia Zahidi\, Head of Education\, Gender and Work System Initiative\, Member of Executive Committee\, World Economic Forum Geneva\nAn award-winning economist Saadia Zahidi was previously WEF’s Global Competitiveness Programme; Head of Gender Parity Programme and Head of Civil Society. She has published reports on human capital\, gender gaps and future of jobs and is the author of Fifty Million Rising (2017). She holds a BA in Economics\, Smith College; MPhil in International Economics\, Graduate Institute Geneva; MPA\, Harvard University. \nOn the occasion of the publication of the World Economic Forum’s latest gender gap report\, Saadia Zahidi will discuss the future of jobs\, skills and impact on diversity. Her presentation will be followed by a networking cocktail.
URL:https://www.cwf.ch/event/future-of-jobs-skills-gender-balance/
LOCATION:Impact Hub Geneva\, Rue Fendt 1\, Geneva\, 1201\, Switzerland
CATEGORIES:Partners' Events
ATTACH;FMTTYPE=image/jpeg:https://www.cwf.ch/wp-content/uploads/2017/11/Saadia-Zahidi2.jpg
GEO:46.2105583;6.1412907
X-APPLE-STRUCTURED-LOCATION;VALUE=URI;X-ADDRESS=Impact Hub Geneva Rue Fendt 1 Geneva 1201 Switzerland;X-APPLE-RADIUS=500;X-TITLE=Rue Fendt 1:geo:6.1412907,46.2105583
END:VEVENT
END:VCALENDAR