BEGIN:VCALENDAR
VERSION:2.0
PRODID:-//CWF Official Website - ECPv6.15.17.1//NONSGML v1.0//EN
CALSCALE:GREGORIAN
METHOD:PUBLISH
X-ORIGINAL-URL:https://www.cwf.ch
X-WR-CALDESC:Events for CWF Official Website
REFRESH-INTERVAL;VALUE=DURATION:PT1H
X-Robots-Tag:noindex
X-PUBLISHED-TTL:PT1H
BEGIN:VTIMEZONE
TZID:Europe/Zurich
BEGIN:DAYLIGHT
TZOFFSETFROM:+0100
TZOFFSETTO:+0200
TZNAME:CEST
DTSTART:20190331T010000
END:DAYLIGHT
BEGIN:STANDARD
TZOFFSETFROM:+0200
TZOFFSETTO:+0100
TZNAME:CET
DTSTART:20191027T010000
END:STANDARD
BEGIN:DAYLIGHT
TZOFFSETFROM:+0100
TZOFFSETTO:+0200
TZNAME:CEST
DTSTART:20200329T010000
END:DAYLIGHT
BEGIN:STANDARD
TZOFFSETFROM:+0200
TZOFFSETTO:+0100
TZNAME:CET
DTSTART:20201025T010000
END:STANDARD
BEGIN:DAYLIGHT
TZOFFSETFROM:+0100
TZOFFSETTO:+0200
TZNAME:CEST
DTSTART:20210328T010000
END:DAYLIGHT
BEGIN:STANDARD
TZOFFSETFROM:+0200
TZOFFSETTO:+0100
TZNAME:CET
DTSTART:20211031T010000
END:STANDARD
BEGIN:DAYLIGHT
TZOFFSETFROM:+0100
TZOFFSETTO:+0200
TZNAME:CEST
DTSTART:20220327T010000
END:DAYLIGHT
BEGIN:STANDARD
TZOFFSETFROM:+0200
TZOFFSETTO:+0100
TZNAME:CET
DTSTART:20221030T010000
END:STANDARD
BEGIN:DAYLIGHT
TZOFFSETFROM:+0100
TZOFFSETTO:+0200
TZNAME:CEST
DTSTART:20230326T010000
END:DAYLIGHT
BEGIN:STANDARD
TZOFFSETFROM:+0200
TZOFFSETTO:+0100
TZNAME:CET
DTSTART:20231029T010000
END:STANDARD
BEGIN:DAYLIGHT
TZOFFSETFROM:+0100
TZOFFSETTO:+0200
TZNAME:CEST
DTSTART:20240331T010000
END:DAYLIGHT
BEGIN:STANDARD
TZOFFSETFROM:+0200
TZOFFSETTO:+0100
TZNAME:CET
DTSTART:20241027T010000
END:STANDARD
END:VTIMEZONE
BEGIN:VEVENT
DTSTART;TZID=Europe/Zurich:20230706T140000
DTEND;TZID=Europe/Zurich:20230706T220000
DTSTAMP:20260425T200553
CREATED:20230328T095852Z
LAST-MODIFIED:20230705T100052Z
UID:190933-1688652000-1688680800@www.cwf.ch
SUMMARY:Golf et summer cocktail au Golf de Bonmont
DESCRIPTION:Cet événement festif est ouvert à tous\, femmes et hommes\nLes activités golf et marche sont en option. Vous pouvez sans autre vous joindre à nous seulement pour le cocktail et profiter de la terrasse avec vue sur le Léman. \nNous avons le plaisir de vous inviter à fêter les vacances avec une partie de golf\, 9 trous pour les initiées\, initiation pour les néophytes\, suivie d’un cocktail dînatoire dans le grand salon du Golf & Country Club de Bonmont et sa magnifique terrasse. \nNouveau! Ellen Kocher\, membre du CWF et habitante de la région\, propose une promenade d’une heure pour des non-golfeuses et des non-golfeurs ! Le Château de Bonmont est situé au cœur d’un magnifique parc boisé surplombant le lac Léman et face au Mont Blanc. Ce lieu magique vaut la peine d’être découvert à pied entre amis. \nCe sera l’occasion de retrouver ou de découvrir cet endroit merveilleux et prestigieux avec vos amies pour essayer ou pratiquer le golf dans un cadre exceptionnel\, avec vue sur le lac Léman. \nEn nous rejoignant au Golf & Country Club de Bonmont à Chéserex le jeudi 6 juillet\, vous pourrez profiter (à choix) : \n\nd’un parcours 9 trous \, inscriptions dès 14h\, départ à 15h\nd’une séance d’initiation au golf d’une heure (par groupe de 8 personnes jusqu’à 30 personnes) animée par un professionnel du golf\, de 17 à 18h\nnouveau: une promenade dans la région sous la houlette d’Ellen Kocher\, rencontre dans la cours du Château à 16h30. Baskets ou chaussures confortables recommandés.\nd’un cocktail dînatoire\, dès 18.00\ndélai d’inscription: 29 juin 2023\n\nNous nous réjouissons de vous accueillir dans cet endroit magnifique avant l’été. \nLes membres du Comité CWF
URL:https://www.cwf.ch/event/parcours-de-golf-initiation-et-cocktail-au-golf-de-bonmont/
LOCATION:Golf and Country club de Bonmont\, Route de Bonmont 31\, Chéserex\, Nyon\, 1275\, Switzerland
CATEGORIES:Festive Events
ATTACH;FMTTYPE=image/jpeg:https://www.cwf.ch/wp-content/uploads/2020/09/CWF-GolfClubBonmont-01092020-Web-176.jpg
ORGANIZER;CN="CWF":MAILTO:administration@cwf.ch
GEO:46.4023944;6.1493083
X-APPLE-STRUCTURED-LOCATION;VALUE=URI;X-ADDRESS=Golf and Country club de Bonmont Route de Bonmont 31 Chéserex Nyon 1275 Switzerland;X-APPLE-RADIUS=500;X-TITLE=Route de Bonmont 31:geo:6.1493083,46.4023944
END:VEVENT
BEGIN:VEVENT
DTSTART;TZID=Europe/Zurich:20210601T140000
DTEND;TZID=Europe/Zurich:20210601T220000
DTSTAMP:20260425T200553
CREATED:20201201T123241Z
LAST-MODIFIED:20230608T102456Z
UID:172751-1622556000-1622584800@www.cwf.ch
SUMMARY:Women's Golf Day 2021
DESCRIPTION:Le délai d’inscription est passé. Vous pouvez nous joindre en envoyant un mail à administration@cwf.ch. \nAu vu du succès rencontré l’année passée lors de la première édition du Women’s Golf Day\, nous avons le plaisir de vous inviter pour le Women’s Golf Day 2021. Comme l’année passée\, il aura lieu au Golf & Country Club de Bonmont à Chéserex\, un endroit merveilleux et prestigieux. Ce sera l’occasion de nous retrouver en personne avec les membres du CWF et leurs amies pour essayer ou pratiquer le golf dans un cadre exceptionnel\, avec vue sur le lac Léman. \nEn nous rejoignant au Golf & Country Club de Bonmont à Chéserex le 1er juin\, vous pourrez profiter (à choix) : \n\nd’un parcours 9 trous \, inscriptions dès 13h\, départ à14h\nd’une séance d’initiation au golf d’une heure (par groupe de 10 personnes jusqu’à 40 personnes) animée par un professionnel du golf\, de 17 à 18h\nd’un cocktail dînatoire\, dès 18.30\n\nLe Women’s Golf Day se déroule dans le monde entier le 1er juin: c’est un moment qui permet aux femmes de faire du golf pour la première fois ou aux joueuses confirmées de jouer et de s’engager avec d’autres femmes intéressées par le golf. \nNous nous réjouissons de vous accueillir au Women’s Golf Day pour célébrer nos retrouvailles et le réseautage\, en attendant de pouvoir nous retrouver plus régulièrement à la rentrée. \nLes membres du Comité CWF \nJournée du golf féminin : https://womensgolfday.com/ \n\nDélai d’inscription: lundi 24 mai
URL:https://www.cwf.ch/event/womens-golf-day-2021/
LOCATION:Golf and Country club de Bonmont\, Route de Bonmont 31\, Chéserex\, Nyon\, 1275\, Switzerland
CATEGORIES:Festive Events
ATTACH;FMTTYPE=image/jpeg:https://www.cwf.ch/wp-content/uploads/2019/10/CWF-GolfClubBonmont-01092020-Web-81.jpg
ORGANIZER;CN="CWF":MAILTO:administration@cwf.ch
GEO:46.4023944;6.1493083
X-APPLE-STRUCTURED-LOCATION;VALUE=URI;X-ADDRESS=Golf and Country club de Bonmont Route de Bonmont 31 Chéserex Nyon 1275 Switzerland;X-APPLE-RADIUS=500;X-TITLE=Route de Bonmont 31:geo:6.1493083,46.4023944
END:VEVENT
BEGIN:VEVENT
DTSTART;TZID=Europe/Zurich:20200901T140000
DTEND;TZID=Europe/Zurich:20200901T220000
DTSTAMP:20260425T200553
CREATED:20191030T111139Z
LAST-MODIFIED:20200825T124604Z
UID:110695-1598968800-1598997600@www.cwf.ch
SUMMARY:Women's Golf Day et Cocktail de rentrée au Golf de Bonmont
DESCRIPTION:Les inscriptions sont closes. Vous pouvez nous adresser  un message à administration@cwf.ch \n \nEn tant que membre\, vous pouvez inviter une amie qui bénéficiera du prix membre\nChaque année\, la ” Rentrée ” est un moment très spécial.  Les vacances sont terminées\, l’école recommence\, ainsi que toutes les activités culturelles.  Cette année\, la “Rentrée” est encore plus spéciale pour le CWF car nous pourrons nous rencontrer en personne pour la première fois depuis 6 mois ! \nPour marquer l’occasion\, nous vous invitons dans un endroit merveilleux et prestigieux. C’est l’occasion pour nous de nous réunir avec les membres du CWF et leurs amies pour essayer ou pratiquer le golf dans un cadre exceptionnel\, avec vue sur le lac Léman\, lors du Women’s Golf Day. \nRejoignez-nous au Golf & Country Club de Bonmont à Chéserex le 1er septembre\, où vous pourrez profiter (à choix) : \n\nd’un parcours 9 trous\nd’une séance d’initiation au golf d’une heure (par groupe de 10 personnes jusqu’à 40 personnes) animée par un professionnel du golf\nd’un cocktail dînatoire.\n\nLe Women’s Golf Day se déroule dans le monde entier le 1er septembre: c’est un moment qui permet aux femmes de faire du golf pour la première fois ou aux joueuses confirmées de jouer et de s’engager avec d’autres femmes intéressées par le golf. \nNous nous réjouissons de vous accueillir au Women’s Golf Day pour célébrer dans la joie la rentrée et le retour de ce qui fait la réputation du CWF : le réseautage ! \nJournée du golf féminin : https://womensgolfday.com/ \n\nDélai d’inscription: lundi 24 août\, minuit\nParcours 9 trous: dès 14h\nInitiation: 17h-18h\, jusqu’à 40 joueuses (un enseignant pour 10 joueuses)\nCocktail dînatoire: de 18.30 à 22.00\nPossibilités de co-voiturage depuis la gare de Nyon pour l’initiation au golf et le cocktail dînatoire.
URL:https://www.cwf.ch/event/womens-golf-day/
LOCATION:Golf and Country club de Bonmont\, Route de Bonmont 31\, Chéserex\, Nyon\, 1275\, Switzerland
CATEGORIES:Festive Events
ATTACH;FMTTYPE=image/png:https://www.cwf.ch/wp-content/uploads/2019/10/Bonmont.png
ORGANIZER;CN="CWF":MAILTO:administration@cwf.ch
GEO:46.4023944;6.1493083
X-APPLE-STRUCTURED-LOCATION;VALUE=URI;X-ADDRESS=Golf and Country club de Bonmont Route de Bonmont 31 Chéserex Nyon 1275 Switzerland;X-APPLE-RADIUS=500;X-TITLE=Route de Bonmont 31:geo:6.1493083,46.4023944
END:VEVENT
END:VCALENDAR