BEGIN:VCALENDAR
VERSION:2.0
PRODID:-//CWF Official Website - ECPv6.15.17.1//NONSGML v1.0//EN
CALSCALE:GREGORIAN
METHOD:PUBLISH
X-WR-CALNAME:CWF Official Website
X-ORIGINAL-URL:https://www.cwf.ch
X-WR-CALDESC:Events for CWF Official Website
REFRESH-INTERVAL;VALUE=DURATION:PT1H
X-Robots-Tag:noindex
X-PUBLISHED-TTL:PT1H
BEGIN:VTIMEZONE
TZID:Europe/Zurich
BEGIN:DAYLIGHT
TZOFFSETFROM:+0100
TZOFFSETTO:+0200
TZNAME:CEST
DTSTART:20170326T010000
END:DAYLIGHT
BEGIN:STANDARD
TZOFFSETFROM:+0200
TZOFFSETTO:+0100
TZNAME:CET
DTSTART:20171029T010000
END:STANDARD
BEGIN:DAYLIGHT
TZOFFSETFROM:+0100
TZOFFSETTO:+0200
TZNAME:CEST
DTSTART:20180325T010000
END:DAYLIGHT
BEGIN:STANDARD
TZOFFSETFROM:+0200
TZOFFSETTO:+0100
TZNAME:CET
DTSTART:20181028T010000
END:STANDARD
BEGIN:DAYLIGHT
TZOFFSETFROM:+0100
TZOFFSETTO:+0200
TZNAME:CEST
DTSTART:20190331T010000
END:DAYLIGHT
BEGIN:STANDARD
TZOFFSETFROM:+0200
TZOFFSETTO:+0100
TZNAME:CET
DTSTART:20191027T010000
END:STANDARD
END:VTIMEZONE
BEGIN:VEVENT
DTSTART;TZID=Europe/Zurich:20180514T183000
DTEND;TZID=Europe/Zurich:20180514T213000
DTSTAMP:20260420T012027
CREATED:20180508T085230Z
LAST-MODIFIED:20180508T090923Z
UID:25693-1526322600-1526333400@www.cwf.ch
SUMMARY:Meet-up Jobsharing Genève
DESCRIPTION:Travailler autrement: le partage d’emploi! \nLe job sharing est un modèle de travail innovant qui amène de grands avantages à l’employeur et l’employé avec pour objectif un meilleur équilibre dans le monde professionnel entre femmes et hommes\, travail et famille\, formation et carrière\, activité indépendante et salariée (slash careers). C’est une troisième voie sur le marché du travail qui offre l’accès à des postes à responsabilité en travaillant à temps partiel. \nEtes-vous intéressé-e par le partage d’emploi ? Cherchez-vous un-e partenaire professionnel-le ? Souhaitez-vous savoir comment rencontrer un-e partenaire et comment postuler à deux ? \nPlus d’informations \nFlyer \nInscriptions jusqu’au 13 mai (Entrée: chf 20.-)
URL:https://www.cwf.ch/event/meet-up-jobsharing-geneve/
LOCATION:Impact Hub Geneva\, Rue Fendt 1\, Geneva\, 1201\, Switzerland
CATEGORIES:Partners' Events
ATTACH;FMTTYPE=image/jpeg:https://www.cwf.ch/wp-content/uploads/2018/05/Goforjobsharing.jpg
ORGANIZER;CN="Association PTO (Part Time Optimisation)":MAILTO:http://www.go-for-jobsharing.ch/fr/qui-sommes-nous/contact-pto.html
GEO:46.2105583;6.1412907
X-APPLE-STRUCTURED-LOCATION;VALUE=URI;X-ADDRESS=Impact Hub Geneva Rue Fendt 1 Geneva 1201 Switzerland;X-APPLE-RADIUS=500;X-TITLE=Rue Fendt 1:geo:6.1412907,46.2105583
END:VEVENT
END:VCALENDAR