BEGIN:VCALENDAR
VERSION:2.0
PRODID:-//CWF Official Website - ECPv6.15.17.1//NONSGML v1.0//EN
CALSCALE:GREGORIAN
METHOD:PUBLISH
X-ORIGINAL-URL:https://www.cwf.ch
X-WR-CALDESC:Events for CWF Official Website
REFRESH-INTERVAL;VALUE=DURATION:PT1H
X-Robots-Tag:noindex
X-PUBLISHED-TTL:PT1H
BEGIN:VTIMEZONE
TZID:Europe/Zurich
BEGIN:DAYLIGHT
TZOFFSETFROM:+0100
TZOFFSETTO:+0200
TZNAME:CEST
DTSTART:20240331T010000
END:DAYLIGHT
BEGIN:STANDARD
TZOFFSETFROM:+0200
TZOFFSETTO:+0100
TZNAME:CET
DTSTART:20241027T010000
END:STANDARD
BEGIN:DAYLIGHT
TZOFFSETFROM:+0100
TZOFFSETTO:+0200
TZNAME:CEST
DTSTART:20250330T010000
END:DAYLIGHT
BEGIN:STANDARD
TZOFFSETFROM:+0200
TZOFFSETTO:+0100
TZNAME:CET
DTSTART:20251026T010000
END:STANDARD
BEGIN:DAYLIGHT
TZOFFSETFROM:+0100
TZOFFSETTO:+0200
TZNAME:CEST
DTSTART:20260329T010000
END:DAYLIGHT
BEGIN:STANDARD
TZOFFSETFROM:+0200
TZOFFSETTO:+0100
TZNAME:CET
DTSTART:20261025T010000
END:STANDARD
END:VTIMEZONE
BEGIN:VEVENT
DTSTART;TZID=Europe/Zurich:20250508T130000
DTEND;TZID=Europe/Zurich:20250508T140000
DTSTAMP:20260423T195551
CREATED:20250428T124651Z
LAST-MODIFIED:20250428T125919Z
UID:203774-1746709200-1746712800@www.cwf.ch
SUMMARY:Mentoring for Leadership – Module 3
DESCRIPTION:This workshop is open only to the MENTORS of the 2025 Mentoring Program \nDear 2025 CWF mentors\, \nYou are invited to join us for the third module of the “Mentoring as a Leadership Skill” program. This module is part of a series of four\, all meant to enhance your understanding and mentoring ability. This is also to help you turn your mentoring experience into success and provide your mentee with a great experience. \nAll modules of this series will be highly interactive. The recording of the sessions will be sent to you after each session so that you can review them as many times as you wish and don’t feel lost if you cannot attend one of the four modules. \nThe session is free but needs your registration on the CWF website. \nLooking forward to e-meeting you on May 8 at 1pm for the third module. \nDomiique Ben Dhaou\nMentoring and Mastermind programs
URL:https://www.cwf.ch/event/mentoring-for-leadership-module-3/
LOCATION:Visioconference
CATEGORIES:Mentoring
ATTACH;FMTTYPE=image/jpeg:https://www.cwf.ch/wp-content/uploads/2025/03/Mentors-sessions-2025.jpg
ORGANIZER;CN="CWF":MAILTO:administration@cwf.ch
END:VEVENT
BEGIN:VEVENT
DTSTART;TZID=Europe/Zurich:20250514T130000
DTEND;TZID=Europe/Zurich:20250514T140000
DTSTAMP:20260423T195551
CREATED:20250428T125543Z
LAST-MODIFIED:20250509T092213Z
UID:203779-1747227600-1747231200@www.cwf.ch
SUMMARY:Mentoring for Leadership – Module 4
DESCRIPTION:This workshop is open only to the MENTORS of the 2025 Mentoring Program \nDear 2025 CWF mentors\, \nYou are invited to join us for the fourth and last module of the “Mentoring as a Leadership Skill” program. This module is part of a series of four\, all meant to enhance your understanding and mentoring ability. This is also to help you turn your mentoring experience into success and provide your mentee with a great experience. \nAll modules of this series will be highly interactive. The recording of the sessions will be sent to you after each session so that you can review them as many times as you wish and don’t feel lost if you cannot attend one of the four modules. \nThe session is free but needs your registration on the CWF website. \nLooking forward to e-meeting you on May 14 at 1pm for the last module. \nDomiique Ben Dhaou\nMentoring and Mastermind programs
URL:https://www.cwf.ch/event/mentoring-for-leadership-module-4/
LOCATION:Visioconference
CATEGORIES:Mentoring
ATTACH;FMTTYPE=image/jpeg:https://www.cwf.ch/wp-content/uploads/2025/03/Mentors-sessions-2025.jpg
ORGANIZER;CN="CWF":MAILTO:administration@cwf.ch
END:VEVENT
END:VCALENDAR