BEGIN:VCALENDAR
VERSION:2.0
PRODID:-//CWF Official Website - ECPv6.15.17.1//NONSGML v1.0//EN
CALSCALE:GREGORIAN
METHOD:PUBLISH
X-ORIGINAL-URL:https://www.cwf.ch
X-WR-CALDESC:Events for CWF Official Website
REFRESH-INTERVAL;VALUE=DURATION:PT1H
X-Robots-Tag:noindex
X-PUBLISHED-TTL:PT1H
BEGIN:VTIMEZONE
TZID:Europe/Zurich
BEGIN:DAYLIGHT
TZOFFSETFROM:+0100
TZOFFSETTO:+0200
TZNAME:CEST
DTSTART:20250330T010000
END:DAYLIGHT
BEGIN:STANDARD
TZOFFSETFROM:+0200
TZOFFSETTO:+0100
TZNAME:CET
DTSTART:20251026T010000
END:STANDARD
BEGIN:DAYLIGHT
TZOFFSETFROM:+0100
TZOFFSETTO:+0200
TZNAME:CEST
DTSTART:20260329T010000
END:DAYLIGHT
BEGIN:STANDARD
TZOFFSETFROM:+0200
TZOFFSETTO:+0100
TZNAME:CET
DTSTART:20261025T010000
END:STANDARD
BEGIN:DAYLIGHT
TZOFFSETFROM:+0100
TZOFFSETTO:+0200
TZNAME:CEST
DTSTART:20270328T010000
END:DAYLIGHT
BEGIN:STANDARD
TZOFFSETFROM:+0200
TZOFFSETTO:+0100
TZNAME:CET
DTSTART:20271031T010000
END:STANDARD
END:VTIMEZONE
BEGIN:VEVENT
DTSTART;TZID=Europe/Zurich:20260212T114500
DTEND;TZID=Europe/Zurich:20260212T140000
DTSTAMP:20260422T150847
CREATED:20251128T160855Z
LAST-MODIFIED:20260210T091229Z
UID:207184-1770896700-1770904800@www.cwf.ch
SUMMARY:Déjeuner avec Antje Kanngiesser\, CEO du Groupe Alpiq - "Our culture is our competitive advantage"
DESCRIPTION:PREMIER EVENEMENT “WOMEN ON BOARDS” à LAUSANNE\nOuvert à toutes et tous\, membres/non-membres\, sans distinction de genre \nLes inscriptions pour cet événement sont closes. Si vous souhaitez figurer sur la liste d’attente merci d’envoyer un message à administration@cwf.ch \nLe Career Women’s Forum vient à votre rencontre à Lausanne le temps d’un lunch inspirant\, placé sous le signe du leadership\, de la gouvernance et de la transformation. \nNous aurons l’honneur d’accueillir une invitée d’exception\, Antje Kanngiesser\, CEO du Groupe Alpiq et Entrepreneure/CEO de l’année 2025 distinguée par SEF.WomenAward 🏆 \nJuriste de formation\, docteure en droit\, EMBA IMD\, formée à l’INSEAD\, Antje Kanngiesser est une figure incontournable du secteur de l’énergie. Depuis plus de 20 ans\, elle œuvre pour un approvisionnement énergétique innovant et durable\, en occupant des fonctions de direction clés dans l’industrie et le conseil. \nSon leadership repose sur : \n\nune réorientation stratégique claire\,\nla transformation profonde des modèles d’affaires\,\nun management moderne fondé sur les valeurs et la collaboration inter-équipes\,\net une conviction forte : la performance peut rimer avec plaisir et humour.\n\nSon crédo :  \n“Our culture is our competitive advantage”\nAu programme:\nUn échange vivant et concret autour de son parcours et de sa conviction profonde que la culture d’entreprise est un facteur clé de succès\, aussi bien pour les individus que pour les équipes. \nAntje Kanngiesser est présidente de la direction générale (CEO) du Groupe Alpiq depuis mars 2021. \nLa juriste titulaire d’un doctorat\, d’un EMBA de l’IMD suisse et d’une formation financière à l’INSEAD français\, est une experte reconnue du secteur de l’énergie. Depuis plus de 20 ans\, elle s’engage pour un approvisionnement énergétique innovant et durable en occupant différentes fonctions de direction tout au long de la chaîne de création de valeur dans l’industrie et le conseil. \nAntje Kanngiesser met l’accent sur la réorientation stratégique et la transformation conséquente de modèles commerciaux et d’entreprises. L’humour\, un travail de direction moderne basé sur des valeurs et une collaboration inter-équipes cohérente avec le plaisir de la performance et du succès sont ses outils. \nAvant d’occuper son poste actuel\, Antje Kanngiesser a travaillé sept ans pour le groupe BKW et a été membre de la direction du groupe. Auparavant\, elle a occupé pendant six ans différents postes de direction au sein du groupe Alpiq\, qu’elle a rejoint en 2007 après une carrière d’avocate en Allemagne et plusieurs postes à l’étranger. \nAntje Kanngiesser possède les nationalités suisse et allemande\, parle couramment l’allemand\, le français et l’anglais et vit avec son mari et ses deux enfants dans le canton de Fribourg. En mars 2025\, Antje Kanngiesser a été désignée « Entrepreneure de l’année 2025 » lors de la cérémonie des SEF WomenAward. \n  \n💡 Présentation en français ET anglais
URL:https://www.cwf.ch/event/women-on-boards-dejeuner-avec-antje-kangiessen-ceo-du-groupe-alpiq/
LOCATION:ROYAL SAVOY HOTEL & SPA\, Avenue d'Ouchy 40\, Lausanne\, 1006\, Switzerland
CATEGORIES:Lunches,Women on Boards
ATTACH;FMTTYPE=image/jpeg:https://www.cwf.ch/wp-content/uploads/2025/11/Antje-Kanngiesser_site.jpg
ORGANIZER;CN="CWF":MAILTO:administration@cwf.ch
GEO:46.5112989;6.6284904
X-APPLE-STRUCTURED-LOCATION;VALUE=URI;X-ADDRESS=ROYAL SAVOY HOTEL & SPA Avenue d'Ouchy 40 Lausanne 1006 Switzerland;X-APPLE-RADIUS=500;X-TITLE=Avenue d'Ouchy 40:geo:6.6284904,46.5112989
END:VEVENT
END:VCALENDAR