BEGIN:VCALENDAR
VERSION:2.0
PRODID:-//CWF Official Website - ECPv6.15.17.1//NONSGML v1.0//EN
CALSCALE:GREGORIAN
METHOD:PUBLISH
X-ORIGINAL-URL:https://www.cwf.ch
X-WR-CALDESC:Events for CWF Official Website
REFRESH-INTERVAL;VALUE=DURATION:PT1H
X-Robots-Tag:noindex
X-PUBLISHED-TTL:PT1H
BEGIN:VTIMEZONE
TZID:Europe/Zurich
BEGIN:DAYLIGHT
TZOFFSETFROM:+0100
TZOFFSETTO:+0200
TZNAME:CEST
DTSTART:20240331T010000
END:DAYLIGHT
BEGIN:STANDARD
TZOFFSETFROM:+0200
TZOFFSETTO:+0100
TZNAME:CET
DTSTART:20241027T010000
END:STANDARD
BEGIN:DAYLIGHT
TZOFFSETFROM:+0100
TZOFFSETTO:+0200
TZNAME:CEST
DTSTART:20250330T010000
END:DAYLIGHT
BEGIN:STANDARD
TZOFFSETFROM:+0200
TZOFFSETTO:+0100
TZNAME:CET
DTSTART:20251026T010000
END:STANDARD
BEGIN:DAYLIGHT
TZOFFSETFROM:+0100
TZOFFSETTO:+0200
TZNAME:CEST
DTSTART:20260329T010000
END:DAYLIGHT
BEGIN:STANDARD
TZOFFSETFROM:+0200
TZOFFSETTO:+0100
TZNAME:CET
DTSTART:20261025T010000
END:STANDARD
END:VTIMEZONE
BEGIN:VEVENT
DTSTART;TZID=Europe/Zurich:20250602T114500
DTEND;TZID=Europe/Zurich:20250602T140000
DTSTAMP:20260423T033322
CREATED:20250409T115029Z
LAST-MODIFIED:20250409T121157Z
UID:203598-1748864700-1748872800@www.cwf.ch
SUMMARY:Embracing the Unknowns: Technology Innovation in Switzerland & Beyond
DESCRIPTION:For our June luncheon\, we are proud to welcome Lan Zuo Gillet\, Deputy Managing Director\, Fondation EPFL Innovation Park. With an inspiring career bridging high-tech innovation\, entrepreneurship\, and impact\, Lan has become a driving force for women in technology innovation in Switzerland and beyond. \nEducated in both engineering and business\, Lan brings a rare dual perspective to her work: a deep understanding of cutting-edge technology paired with the vision and agility of a seasoned entrepreneur. and she is the co-founder and Director of Tech4Eva\, Switzerland’s first accelerator dedicated to FemTech – technologies that focus on women’s health and well-being across all life stages\, \nUnder her leadership\, Tech4Eva has become a global platform that scales innovative startups and connects founders\, investors\, researchers\, and healthcare leaders to drive change in a traditionally underserved space. \nAt our luncheon\, she will share highlights from her journey\, insights on the power of purpose-driven tech\, and the bold future of FemTech innovation. \nLan Zuo Gillet is a senior executive with over 30 years of leadership experience across Swiss industry and innovation ecosystems. At EPFL Innovation Park\, she leads programs that empower startups through training\, incubation\, and acceleration. Lan is the founder of several national initiatives including Tech4Eva\, Tech4Trust\, and Tech4Growth\, and serves as an expert for the Swiss Innovation Agency. With a strong track record in building impactful public-private partnerships\, especially in Switzerland and China\, she brings a global outlook\, deep cross-sector expertise\, and a passion for advancing technology with purpose.
URL:https://www.cwf.ch/event/embracing-the-unknowns-technology-innovation-in-switzerland-beyond/
LOCATION:Hôtel Métropole\, 34 quai Général Guisan\, Geneva\, 1204\, Switzerland
CATEGORIES:Lunches
ATTACH;FMTTYPE=image/webp:https://www.cwf.ch/wp-content/uploads/2025/04/Lan-Zuo-Gillet.webp
ORGANIZER;CN="CWF":MAILTO:administration@cwf.ch
GEO:46.2033764;6.1521463
X-APPLE-STRUCTURED-LOCATION;VALUE=URI;X-ADDRESS=Hôtel Métropole 34 quai Général Guisan Geneva 1204 Switzerland;X-APPLE-RADIUS=500;X-TITLE=34 quai Général Guisan:geo:6.1521463,46.2033764
END:VEVENT
BEGIN:VEVENT
DTSTART;TZID=Europe/Zurich:20250605T170000
DTEND;TZID=Europe/Zurich:20250605T200000
DTSTAMP:20260423T033322
CREATED:20250417T145043Z
LAST-MODIFIED:20250604T101248Z
UID:203723-1749142800-1749153600@www.cwf.ch
SUMMARY:L’innovation dans l’administration publique
DESCRIPTION:L’entrée principale étant fermée dès 17h\, vous serez redirigés sur l’entrée de la rue du Tir \nVisite ouverte à toutes les personnes intéressées\, sans distinction de genre. Places limitées. \nDans le cadre de l’initiative Women On Boards\, nous avons le plaisir de vous proposer une découverte des coulisses de l’administration fiscale cantonale\, sur le thème :  \nL’innovation dans l’administration publique : pour mieux servir les usagers  \nEt si le secteur public pouvait être un véritable laboratoire d’innovation ? \nAujourd’hui plus que jamais\, les administrations doivent se réinventer pour mieux répondre aux attentes des citoyens. \nLe 5 juin prochain\, nous aurons l’opportunité de dialoguer avec Mesdames Charlotte Climonet et Rachel Perego-Pillet\, femmes engagées au cœur de la transformation du service public. Leur parcours inspire une conviction forte : l’innovation n’est pas un luxe\, c’est une nécessité – et elle prend vie à travers celles et ceux qui osent la porter. \nComment insuffler une culture de l’initiative dans un cadre institutionnel ? Comment placer l’humain et l’orientation usagers au centre des priorités ? Comment faire évoluer les pratiques\, soutenir les équipes et redonner un sens profond à l’action publique ? \nAutant de questions passionnantes que nous explorerons ensemble lors de cet échange interactif et transparent\, dans une ambiance conviviale et stimulante. \nEnvie de bousculer les idées reçues ? Rejoignez-nous pour un moment d’inspiration et de partage et d’élan collectif. Le service public de demain se construit aujourd’hui – avec vous. \nUne visite\, intitulée “Les coulisses de la numérisation à l’AFC” est prévue à 17 heures et sera suivie de la présentation Innovation dès 18 heures. \nIntervenantes:\nCharlotte Climonet\, Directrice générale AFC – Département des Finances – Etat de Genève\, Charlotte Climonet | LinkedIn \nAvocate de formation\, Charlotte Climonet a débuté sa carrière dans le conseil fiscal\, qu’elle exerce pendant dix ans chez Ernst & Young\, principalement en fiscalité des personnes physiques. Elle rejoint ensuite l’administration fiscale du canton de Genève\, où elle occupe successivement les fonctions de directrice des affaires juridiques\, directrice générale adjointe\, puis directrice générale. Elle est la première femme à accéder à ce poste. \nÀ la tête de l’administration\, elle pilote une organisation de plus de 600 collaborateurs\, supervise la taxation de 15 impôts et assure l’encaissement de près de 15 milliards de francs. \n  \nRachel Perego-Pillet\, Juriste\, AFC – Département des Finances – Etat de Genève. \nJuriste de formation\, Rachel Perego-Pillet\, débute sa carrière en tant que juriste dans le secteur privé\, pour rejoindre en 2002\, l’Administration fiscale cantonale genevoise\, où pendant quinze ans\, elle représente l’administration devant diverses instances judiciaires. \nAimant donner du sens à l’action publique\, elle œuvre depuis 2017\, au sein de la Direction générale\, d’abord en tant que juriste chargée de soutenir la politique fiscale du canton\, pour ensuite mettre son énergie à moderniser les services fiscaux avec une conviction : un service public peut être à la fois performant\, humain\, agile et proche des citoyens. \nProgramme : \n17:00:   Accueil\n17:15:   Visite du service numérisation\n18:00:   Présentation Innovation dans l’administration publique – Q&A\n19:00:   Cocktail & Networking (dans la cafétéria\, 1er étage)
URL:https://www.cwf.ch/event/innovation-administration-fiscale-ge/
LOCATION:Direction générale de l’Administration Fiscale Cantonale\, Rue du Stand 26\, Genève\, 1204
CATEGORIES:Women on Boards
ATTACH;FMTTYPE=image/jpeg:https://www.cwf.ch/wp-content/uploads/2025/04/hotel-des-finances-ge.jpg
ORGANIZER;CN="Career Women's Forum":MAILTO:administration@cwf.ch
END:VEVENT
END:VCALENDAR