BEGIN:VCALENDAR
VERSION:2.0
PRODID:-//CWF Official Website - ECPv6.15.17.1//NONSGML v1.0//EN
CALSCALE:GREGORIAN
METHOD:PUBLISH
X-ORIGINAL-URL:https://www.cwf.ch
X-WR-CALDESC:Events for CWF Official Website
REFRESH-INTERVAL;VALUE=DURATION:PT1H
X-Robots-Tag:noindex
X-PUBLISHED-TTL:PT1H
BEGIN:VTIMEZONE
TZID:Europe/Zurich
BEGIN:DAYLIGHT
TZOFFSETFROM:+0100
TZOFFSETTO:+0200
TZNAME:CEST
DTSTART:20240331T010000
END:DAYLIGHT
BEGIN:STANDARD
TZOFFSETFROM:+0200
TZOFFSETTO:+0100
TZNAME:CET
DTSTART:20241027T010000
END:STANDARD
BEGIN:DAYLIGHT
TZOFFSETFROM:+0100
TZOFFSETTO:+0200
TZNAME:CEST
DTSTART:20250330T010000
END:DAYLIGHT
BEGIN:STANDARD
TZOFFSETFROM:+0200
TZOFFSETTO:+0100
TZNAME:CET
DTSTART:20251026T010000
END:STANDARD
BEGIN:DAYLIGHT
TZOFFSETFROM:+0100
TZOFFSETTO:+0200
TZNAME:CEST
DTSTART:20260329T010000
END:DAYLIGHT
BEGIN:STANDARD
TZOFFSETFROM:+0200
TZOFFSETTO:+0100
TZNAME:CET
DTSTART:20261025T010000
END:STANDARD
END:VTIMEZONE
BEGIN:VEVENT
DTSTART;TZID=Europe/Zurich:20250519T114500
DTEND;TZID=Europe/Zurich:20250519T140000
DTSTAMP:20260423T045512
CREATED:20240913T092908Z
LAST-MODIFIED:20250520T091237Z
UID:200230-1747655100-1747663200@www.cwf.ch
SUMMARY:Une conversation avec Carine Bachmann (Directrice · Office fédéral de la culture)
DESCRIPTION:La culture est bien plus qu’un simple reflet d’une société : elle en est le cœur battant\, un pont entre passé et futur\, entre traditions et innovation. Quelle est la place de la culture en Suisse et au-delà ? \nLe 19 mai\, nous aurons le privilège d’accueillir Carine Bachmann\, Directrice de l’Office fédéral de la culture à Berne\, pour une conversation guidée entre femmes. À travers son parcours et sa vision\, nous explorerons ensemble la place de la culture en Suisse et dans le monde\, ainsi que les enjeux culturels actuels. \nElle partagera son expérience unique\, les liens profonds entre culture et démocratie\, ainsi que les défis et opportunités d’un paysage culturel en constante évolution – en Suisse\, en Europe et aux États-Unis. \nPlutôt qu’un discours formel\, cet échange se veut authentique\, interactif et inspirant – une invitation à repenser ensemble le rôle de la culture dans nos sociétés et dans nos vies. \nRejoignez-nous pour cette conversation captivante et enrichissante ! \nBIO: \nCarine Bachmann\, Directrice de l’OFC \nCarine Bachmann (1967) est titulaire d’un master en psychologie sociale\, sciences du cinéma et droit international public de l’Université de Zurich. Elle débute son parcours professionnel au Festival international du film et de la vidéo VIPER à Lucerne. Par la suite\, elle travaille en tant que chargée de communication et de projets dans le domaine social et mène en parallèle des travaux de recherche académique. \nEn 2001\, elle participe à la fondation de CIMERA\, organisation active dans la coopération et la promotion de la paix dans le Caucase et en Asie centrale qu’elle dirige jusqu’en 2009. Dans ce contexte elle travaille sur la politique des langues et la citoyenneté dans le contexte post-soviétique. \nEngagée en 2009 par la Ville de Genève\, Carine Bachmann prend en 2011 la direction du Département de la culture\, assurant notamment le pilotage des musées\, des bibliothèques et du soutien à la création. Pendant cette période\, elle siège au sein de la Conférence des villes en matière culturelle qu’elle représente également auprès du Dialogue culturel national. Carine Bachmann occupe le poste de Directrice de l’Office fédéral de la culture depuis le 1er février 2022.
URL:https://www.cwf.ch/event/inspirations-culturelles-rencontre-avec-carine-bachmann/
LOCATION:Four Seasons Hotel des Bergues Geneva\, Quai des Bergues 33\, Genève\, Genève\, 1201\, Switzerland
CATEGORIES:Lunches
ATTACH;FMTTYPE=image/jpeg:https://www.cwf.ch/wp-content/uploads/2024/09/CarineBachmann-2.jpg
ORGANIZER;CN="CWF":MAILTO:administration@cwf.ch
GEO:46.2070227;6.146962
X-APPLE-STRUCTURED-LOCATION;VALUE=URI;X-ADDRESS=Four Seasons Hotel des Bergues Geneva Quai des Bergues 33 Genève Genève 1201 Switzerland;X-APPLE-RADIUS=500;X-TITLE=Quai des Bergues 33:geo:6.146962,46.2070227
END:VEVENT
END:VCALENDAR