BEGIN:VCALENDAR
VERSION:2.0
PRODID:-//CWF Official Website - ECPv6.15.17.1//NONSGML v1.0//EN
CALSCALE:GREGORIAN
METHOD:PUBLISH
X-ORIGINAL-URL:https://www.cwf.ch
X-WR-CALDESC:Events for CWF Official Website
REFRESH-INTERVAL;VALUE=DURATION:PT1H
X-Robots-Tag:noindex
X-PUBLISHED-TTL:PT1H
BEGIN:VTIMEZONE
TZID:Europe/Zurich
BEGIN:DAYLIGHT
TZOFFSETFROM:+0100
TZOFFSETTO:+0200
TZNAME:CEST
DTSTART:20240331T010000
END:DAYLIGHT
BEGIN:STANDARD
TZOFFSETFROM:+0200
TZOFFSETTO:+0100
TZNAME:CET
DTSTART:20241027T010000
END:STANDARD
BEGIN:DAYLIGHT
TZOFFSETFROM:+0100
TZOFFSETTO:+0200
TZNAME:CEST
DTSTART:20250330T010000
END:DAYLIGHT
BEGIN:STANDARD
TZOFFSETFROM:+0200
TZOFFSETTO:+0100
TZNAME:CET
DTSTART:20251026T010000
END:STANDARD
BEGIN:DAYLIGHT
TZOFFSETFROM:+0100
TZOFFSETTO:+0200
TZNAME:CEST
DTSTART:20260329T010000
END:DAYLIGHT
BEGIN:STANDARD
TZOFFSETFROM:+0200
TZOFFSETTO:+0100
TZNAME:CET
DTSTART:20261025T010000
END:STANDARD
END:VTIMEZONE
BEGIN:VEVENT
DTSTART;TZID=Europe/Zurich:20250304T183000
DTEND;TZID=Europe/Zurich:20250304T210000
DTSTAMP:20260423T074823
CREATED:20250212T085919Z
LAST-MODIFIED:20250212T093745Z
UID:201995-1741113000-1741122000@www.cwf.ch
SUMMARY:THE STORY OF YOU\, the Art of connection
DESCRIPTION:Join Anne V. Mühlethaler\, former SVP of Global Communications at Christian Louboutin\, for an immersive workshop on the power of storytelling for connection. Drawing from her experience of transforming a limiting belief into a global communications career\, a journey that is not over as she is now an author and podcaster\, Anne will share her unique framework that blends coaching tools\, PR expertise\, mindful communication\, and storytelling techniques. \nIn this 90-minute interactive session\, you will: \n\nReflect on how stories shape our connections and understanding\nExplore your values and learn to weave them into your stories\nDiscover which experiences best illuminate who you are\nLearn to bring others into your world through mindful storytelling\n\nWhether you struggle with sharing your story or simply want to communicate with more impact\, you will leave with practical tools to express yourself authentically and create meaningful connections. \nAbout Anne V. \nAnne Virginie Mühlethaler is a strategic communications expert and mindful leadership coach who helps individuals and organisations tell transformative stories. Starting with core values and mission as the foundation\, she guides them in aligning their business objectives and communications to create authentic\, meaningful impact. Drawing from her 17-year career at Christian Louboutin\, where she rose from the shop floor to SVP of Global Communications\, and two decades living across London\, New York\, Paris\, and Rome\, Anne developed a unique approach to authentic storytelling and mindful communication. \nToday\, she guides visionaries and organisations in crafting meaningful narratives that create genuine connection. She is the founder of Le Trente\, a brand new community for purpose-driven individuals and brands\, and host of the Out of the Clouds podcast\, where she entertains deep conversations at the crossroads between business and mindfulness. Anne combines strategic insight with coaching tools to help others craft messages and communicate with clarity\, confidence\, and authenticity. \nAs a Loving Kindness meditation teacher and advocate for conscious communication\, Anne brings a holistic perspective to the art of storytelling\, empowering others to create meaningful connections that inspire collaboration and drive positive change. \nAgenda : \n\n18h30 – 19h00 – Welcome\n19h00 – 20h30 – Workshop\n20h30 – 21h00 – Networking\n\n 
URL:https://www.cwf.ch/event/the-story-of-you-the-art-of-connection/
LOCATION:Four Seasons Hotel des Bergues Geneva\, Quai des Bergues 33\, Genève\, Genève\, 1201\, Switzerland
CATEGORIES:Workshops
ATTACH;FMTTYPE=image/jpeg:https://www.cwf.ch/wp-content/uploads/2025/02/AnneMumenthaler2.jpg
ORGANIZER;CN="CWF":MAILTO:administration@cwf.ch
GEO:46.2070227;6.146962
X-APPLE-STRUCTURED-LOCATION;VALUE=URI;X-ADDRESS=Four Seasons Hotel des Bergues Geneva Quai des Bergues 33 Genève Genève 1201 Switzerland;X-APPLE-RADIUS=500;X-TITLE=Quai des Bergues 33:geo:6.146962,46.2070227
END:VEVENT
BEGIN:VEVENT
DTSTART;TZID=Europe/Zurich:20250319T180000
DTEND;TZID=Europe/Zurich:20250319T213000
DTSTAMP:20260423T074823
CREATED:20241203T151311Z
LAST-MODIFIED:20250328T125450Z
UID:201269-1742407200-1742419800@www.cwf.ch
SUMMARY:WAVE 2025: TRUST in an ever-changing world
DESCRIPTION:NEW! See photos of the event here!\n  \nIn an era of unprecedented technological innovation\, shifting social dynamics\, and an increasing demand for authentic leadership in business and beyond\, who\, how and why do we trust to ensure that progress and innovation are inclusive\, safe and sustainable? \nWe are proud to welcome leading academics\, practitioners and business leaders from across Switzerland to delve into how to navigate trust in a rapidly evolving landscape across digital innovation\, leadership and sustainability. \nPROGRAMME\nKeynote address\nLennig Pedron – CEO Trust Valley Initiative\, Program Director EPFL Innovation Park \nPanel discussions\nmoderated by Benoît Greindl – CEO of Resilience Institute: \nIn Digital We Trust: Building Trust in the Age of Artificial Intelligence\nBahar Sandal – WomenInTech Switzerland\, Romandie Ambassador and Alexandre Jotterand – Partner @ID EST Avocats\, Member of the Digital Trust Expert Group \nIn Sustainability We Trust: Corporate Sustainability – A Journey of Continuous Commitment\, Action and Humility\nNatalia Olynec – Chief Sustainability Officer\, IMD and Eric Enselme – Board Advisor / Former Executive Fellow at World Economic Forum \nIn Leadership We Trust: Trustworthy Leaders for the Future\nDr. Mara Catherine Harvey – Group Executive Board Member\, VP Bank\, CEO of SmartWayToStart and John Antonakis – Professor of Organizational Behaviour\, UNIL\, Leadership Expert \nThe discussions will continue with a dedicated Q&A session. \nThis event is open to members and non-members\, regardless of gender. \nThe WAVE Conference 2025 is sponsored by: \n \n*The Women’s Added Value to the Economy (WAVE) Conference is the flagship annual event of the Career Women’s Forum\, where ideas\, inspiration\, and action converge to shape tomorrow’s future. Every year\, WAVE brings together members of the public and the CWF community to foster business partnerships and discuss the pertinent issues of our time across leadership\, business and economy.
URL:https://www.cwf.ch/event/wave-2025-trust-in-ever-changing-world/
LOCATION:FER – Fédération des Entreprises Romandes\, Rue de Saint-Jean 98\, Genève\, 1201\, Switzerland
CATEGORIES:WAVE Conference
ATTACH;FMTTYPE=image/jpeg:https://www.cwf.ch/wp-content/uploads/2024/12/CWF_WAVE-2025_affiche-e1741699650760.jpg
GEO:46.2061064;6.1380696
X-APPLE-STRUCTURED-LOCATION;VALUE=URI;X-ADDRESS=FER – Fédération des Entreprises Romandes Rue de Saint-Jean 98 Genève 1201 Switzerland;X-APPLE-RADIUS=500;X-TITLE=Rue de Saint-Jean 98:geo:6.1380696,46.2061064
END:VEVENT
BEGIN:VEVENT
DTSTART;TZID=Europe/Zurich:20250327T114500
DTEND;TZID=Europe/Zurich:20250327T140000
DTSTAMP:20260423T074823
CREATED:20250306T161304Z
LAST-MODIFIED:20250306T163549Z
UID:202377-1743075900-1743084000@www.cwf.ch
SUMMARY:Business Luncheon with Micheline Calmy-Rey\, Swiss Federal Councillor\, 2003 to 2011
DESCRIPTION:This lunch is organised by the BSCC. CWF members and their guests can register at member’s price (CHF 130.00)\nEquitable\, inclusive and effective global governance in a context of current challenges: the future of multilateralism\nHow timely! How welcome! A visit from Switzerland’s long-serving\, former Federal Councillor for Foreign Affairs\, Geneva’s own Micheline Calmy-Rey. She makes a return visit to the Geneva Chapter – her third – to help us make sense of the swirl of current challenges\, not just in global affairs\, but right here in “international” Geneva too. \nMicheline was a member of the Swiss Federal Council from 2003 to 2011; and during that time was always head of the Federal Department of Foreign Affairs. Her insights\, based on experience\, are invaluable. Mme. Calmy-Rey was President of the Swiss Confederation twice\, in 2007 and 2011. \nCome and listen to her! Come and meet her! \nPlease register directly on the BSCC website (CWF credits are not valid for this event)
URL:https://www.cwf.ch/event/business-luncheon-with-micheline-calmy-rey-swiss-federal-councillor-2003-to-2011/
LOCATION:Mandarin Oriental\, Quai Turrettini 1\, Genève\, Genève\, 1201\, Switzerland
CATEGORIES:Partners' Events
ATTACH;FMTTYPE=image/jpeg:https://www.cwf.ch/wp-content/uploads/2019/03/BSCC.jpg
GEO:46.205716;6.1409019
X-APPLE-STRUCTURED-LOCATION;VALUE=URI;X-ADDRESS=Mandarin Oriental Quai Turrettini 1 Genève Genève 1201 Switzerland;X-APPLE-RADIUS=500;X-TITLE=Quai Turrettini 1:geo:6.1409019,46.205716
END:VEVENT
END:VCALENDAR