BEGIN:VCALENDAR
VERSION:2.0
PRODID:-//CWF Official Website - ECPv6.15.17.1//NONSGML v1.0//EN
CALSCALE:GREGORIAN
METHOD:PUBLISH
X-ORIGINAL-URL:https://www.cwf.ch
X-WR-CALDESC:Events for CWF Official Website
REFRESH-INTERVAL;VALUE=DURATION:PT1H
X-Robots-Tag:noindex
X-PUBLISHED-TTL:PT1H
BEGIN:VTIMEZONE
TZID:Europe/Zurich
BEGIN:DAYLIGHT
TZOFFSETFROM:+0100
TZOFFSETTO:+0200
TZNAME:CEST
DTSTART:20230326T010000
END:DAYLIGHT
BEGIN:STANDARD
TZOFFSETFROM:+0200
TZOFFSETTO:+0100
TZNAME:CET
DTSTART:20231029T010000
END:STANDARD
BEGIN:DAYLIGHT
TZOFFSETFROM:+0100
TZOFFSETTO:+0200
TZNAME:CEST
DTSTART:20240331T010000
END:DAYLIGHT
BEGIN:STANDARD
TZOFFSETFROM:+0200
TZOFFSETTO:+0100
TZNAME:CET
DTSTART:20241027T010000
END:STANDARD
BEGIN:DAYLIGHT
TZOFFSETFROM:+0100
TZOFFSETTO:+0200
TZNAME:CEST
DTSTART:20250330T010000
END:DAYLIGHT
BEGIN:STANDARD
TZOFFSETFROM:+0200
TZOFFSETTO:+0100
TZNAME:CET
DTSTART:20251026T010000
END:STANDARD
END:VTIMEZONE
BEGIN:VEVENT
DTSTART;TZID=Europe/Zurich:20241104T114500
DTEND;TZID=Europe/Zurich:20241104T140000
DTSTAMP:20260423T140421
CREATED:20240618T092831Z
LAST-MODIFIED:20241104T153332Z
UID:198932-1730720700-1730728800@www.cwf.ch
SUMMARY:Bâtonnière ou Bâtonnier... c'est là la Question
DESCRIPTION:Cet événement est complet. Si vous souhaitez figurer sur la liste d’attente\, merci d’envoyer un message à l’adresse: administration@cwf.ch\nSandrine Giroud\, nommée bâtonnière de l’Ordre des avocats de Genève en mai 2024\, est seulement la deuxième femme à occuper ce poste en 129 ans d’histoire. Lors de ce déjeuner\, elle partagera son parcours exceptionnel dans le domaine juridique\, les défis qu’elle a rencontrés\, et son engagement pour la mission des avocats et les droits humains. \nThèmes abordés : \n\nDéfis du Leadership Féminin : Sandrine discutera des dénominations genrées (“bâtonnière” vs “bâtonnier”) et de l’importance de ces discussions pour faire évoluer les mentalités dans un milieu dominé par les hommes.\nParcours Inspirant : Elle évoquera les obstacles qu’elle a surmontés pour s’intégrer à Genève et briser les plafonds de verre\, illustrant son parcours par des moments clés de sa carrière.\nDéfis Actuels du Droit en 2024 : Image du rôle et de la mission des avocats\, concurrence internationale\, enjeux liés à la digitalisation et santé mentale\, Sandrine évoquera les défis auxquels sont confrontés les métiers du droit. Elle parlera aussi de la sous-représentation des femmes dans les postes de direction et des écarts salariaux persistants.\nExpertise en Litiges Internationaux et Droit de l’Art : Sandrine partagera ses expériences dans ces domaines spécialisés.\n\nEnfin\, elle offrira des conseils pratiques pour réussir dans le domaine professionnel : agir\, oser\, créer des alliances\, investir en soi\, et persévérer. \nCe déjeuner est une occasion unique de découvrir comment le leadership féminin peut transformer le secteur juridique et de s’inspirer du parcours de Sandrine Giroud. \nSandrine Giroud est avocate associée au sein de l’étude LALIVE à Genève. Elle est spécialisée en contentieux suisse et international\, notamment en matière de litiges commerciaux\, de recouvrement d’actifs\, de criminalité économique\, de sanctions\, de droit de l’art et de droits humains. Elle est actuellement bâtonnière de l’Ordre des avocats de Genève\, devenant la deuxième femme à occuper ce poste en 129 ans. \n 
URL:https://www.cwf.ch/event/batonniere-ou-batonnier-cest-la-la-question/
LOCATION:Fairmont Grand Hotel Geneva\, Quai du Mont-Blanc 19\, Genève\, Genève\, 1201\, Switzerland
CATEGORIES:Lunches
ATTACH;FMTTYPE=image/jpeg:https://www.cwf.ch/wp-content/uploads/2024/06/Sandrine-Giroud-3.jpg
ORGANIZER;CN="CWF":MAILTO:administration@cwf.ch
GEO:46.210521;6.1501575
X-APPLE-STRUCTURED-LOCATION;VALUE=URI;X-ADDRESS=Fairmont Grand Hotel Geneva Quai du Mont-Blanc 19 Genève Genève 1201 Switzerland;X-APPLE-RADIUS=500;X-TITLE=Quai du Mont-Blanc 19:geo:6.1501575,46.210521
END:VEVENT
BEGIN:VEVENT
DTSTART;TZID=Europe/Zurich:20241119T180000
DTEND;TZID=Europe/Zurich:20241119T210000
DTSTAMP:20260423T140421
CREATED:20240828T132514Z
LAST-MODIFIED:20241118T120127Z
UID:199945-1732039200-1732050000@www.cwf.ch
SUMMARY:Speak up! Master. Lead. Impact.
DESCRIPTION:The workhop is fully booked. If you wish to be on the waiting list\, please send a message to administration@cwf.ch.\nFind your unique voice and value. Learn how to confidently articulate your worth in a panel of experts\, in boardroom discussions or executive meetings and influence decisions with charisma\, clarity\, and impact.\nSpeaking in public is an act that most women dread. When you are called upon to speak in front of an important audience\, at a strategic business meeting or on a panel of experts\, you are often very quickly judged by your ability to present. \nAt the many events she has hosted over the past 20 years\, Mélanie Freymond has often seen women on stage\, in TV and radio studios\, on panels (often in the minority) or as speakers who had a powerful message yet lacked impact. \nIn this workshop\, she’ll reveal her journey – the triumphs and challenges alike – and empower you to discover the confidence and impact that can truly transform your lives. \n*** \nMélanie Freymond is a well-known journalist\, presenter and moderator. She started her career as a presenter of children’s programs at RTS in 2000\, at the same time as her studies in sociology of communication and journalism at the University of Fribourg. After her master’s degree\, she worked as a journalist and columnist for various radio stations (Rouge FM\, LFM\, Radio Lac) for 9 years. \nBilingual in French and English\, and very fluent in German and Italian\, she continues to host entertainment programs for Swiss television\, as well as numerous events throughout Switzerland and beyond\, such as the Swiss Economic Forum\, Watches and Wonders or the Swiss Film Prize\, for over 20 years now. With passion and enthusiasm\, she has been hosting “The Swiss Voice Tour” for the last 7 years\, as well as several TV programmes such as “Agriculture Durable” and “Votre Argent” for La Télé. \n*** \nBeing in the spotlight is a whole job. \nCome and practise with us\, whether in English or French\, Mélanie will guide you in whichever language you feel comfortable in practicing. \n 
URL:https://www.cwf.ch/event/speak-up-master-lead-impact/
LOCATION:Royal Manotel Genève\, Rue de Lausanne 41\, Genève\, Genève\, 1201\, Switzerland
CATEGORIES:Women on Boards,Workshops
ATTACH;FMTTYPE=image/jpeg:https://www.cwf.ch/wp-content/uploads/2024/08/Melanie-Freymond_speakUp_1-e1730117322658.jpg
ORGANIZER;CN="CWF":MAILTO:administration@cwf.ch
GEO:46.2135447;6.1454261
X-APPLE-STRUCTURED-LOCATION;VALUE=URI;X-ADDRESS=Royal Manotel Genève Rue de Lausanne 41 Genève Genève 1201 Switzerland;X-APPLE-RADIUS=500;X-TITLE=Rue de Lausanne 41:geo:6.1454261,46.2135447
END:VEVENT
BEGIN:VEVENT
DTSTART;TZID=Europe/Zurich:20241126T183000
DTEND;TZID=Europe/Zurich:20241126T203000
DTSTAMP:20260423T140421
CREATED:20241016T084327Z
LAST-MODIFIED:20241125T092953Z
UID:200600-1732645800-1732653000@www.cwf.ch
SUMMARY:Corporate Event – “Shaping Your Career”
DESCRIPTION:This event is fully booked. \nWe are excited to invite you to an exclusive Corporate Event  where you’ll have the chance to engage in an inspiring conversation with Maddalena Chiarello\, Senior Director of HR at Bacardi. \nMaddalena will share her insights on how to craft a purposeful career path in today’s ever evolving and demanding world. \nTogether\, we will explore the importance of owning your career—taking responsibility for your professional growth\, feeling empowered\, and actively shaping your journey. We will also dive into the practical steps of making it happen—turning your ambitions and insights into concrete plans and actionable steps. \nFollowing the discussion\, Bacardi invites you to enjoy a relaxing aperitif at the same venue—a perfect opportunity to connect\, unwind\, and reflect on the evening in a delightful setting. \nWe look forward to welcoming you to this enriching experience! \nAbout the speaker: \nWith her passion for growing businesses through people development\, Maddalena Chiarello stands as a visionary HR leader committed to driving success through strategic HR practices\, cultural initiatives\, and talent management. \nWith nearly 20 years of global and local HR experience in multinational companies like L’Oréal\, Pirelli\, JTI and Bacardi\, Maddalena Chiarello holds a university degree in Philosophy and a Master degree in Organization and People Management from the SDA Bocconi Business School. \nIn the last years Maddalena’s focus has been on ideating and implementing new ways of working post-pandemic\, and on instilling and driving Inclusive leadership skills in the organization\, coaching leaders to become more ‘human’ to drive engagement and performance. \nNumber of seats: 30 (first come\, first served) – Registration deadline: November 15\, 2024 \nPlease note: Due to limited places and Bacardi generously offering CWF members the cocktail\, out of respect for our corporate member we will charge 30.- to registered members who do not show up on the day of the event. \nMap to Bacardi and transport information
URL:https://www.cwf.ch/event/corporate-event-shaping-your-career/
LOCATION:Bacardi HQ\, Route de Meyrin 265\, Meyrin\, Genève\, 1217\, Switzerland
CATEGORIES:Corporate Members' Events
ATTACH;FMTTYPE=image/png:https://www.cwf.ch/wp-content/uploads/2024/10/Bacardi-et-logo-3.png
ORGANIZER;CN="CWF":MAILTO:administration@cwf.ch
GEO:46.2265935;6.0774931
X-APPLE-STRUCTURED-LOCATION;VALUE=URI;X-ADDRESS=Bacardi HQ Route de Meyrin 265 Meyrin Genève 1217 Switzerland;X-APPLE-RADIUS=500;X-TITLE=Route de Meyrin 265:geo:6.0774931,46.2265935
END:VEVENT
END:VCALENDAR