BEGIN:VCALENDAR
VERSION:2.0
PRODID:-//CWF Official Website - ECPv6.15.17.1//NONSGML v1.0//EN
CALSCALE:GREGORIAN
METHOD:PUBLISH
X-WR-CALNAME:CWF Official Website
X-ORIGINAL-URL:https://www.cwf.ch
X-WR-CALDESC:Events for CWF Official Website
REFRESH-INTERVAL;VALUE=DURATION:PT1H
X-Robots-Tag:noindex
X-PUBLISHED-TTL:PT1H
BEGIN:VTIMEZONE
TZID:Europe/Zurich
BEGIN:DAYLIGHT
TZOFFSETFROM:+0100
TZOFFSETTO:+0200
TZNAME:CEST
DTSTART:20240331T010000
END:DAYLIGHT
BEGIN:STANDARD
TZOFFSETFROM:+0200
TZOFFSETTO:+0100
TZNAME:CET
DTSTART:20241027T010000
END:STANDARD
BEGIN:DAYLIGHT
TZOFFSETFROM:+0100
TZOFFSETTO:+0200
TZNAME:CEST
DTSTART:20250330T010000
END:DAYLIGHT
BEGIN:STANDARD
TZOFFSETFROM:+0200
TZOFFSETTO:+0100
TZNAME:CET
DTSTART:20251026T010000
END:STANDARD
BEGIN:DAYLIGHT
TZOFFSETFROM:+0100
TZOFFSETTO:+0200
TZNAME:CEST
DTSTART:20260329T010000
END:DAYLIGHT
BEGIN:STANDARD
TZOFFSETFROM:+0200
TZOFFSETTO:+0100
TZNAME:CET
DTSTART:20261025T010000
END:STANDARD
END:VTIMEZONE
BEGIN:VEVENT
DTSTART;TZID=Europe/Zurich:20250210T114500
DTEND;TZID=Europe/Zurich:20250210T140000
DTSTAMP:20260420T103353
CREATED:20241105T135235Z
LAST-MODIFIED:20250207T135336Z
UID:201012-1739187900-1739196000@www.cwf.ch
SUMMARY:Licia Chery : une artiste qui crée sans limites!
DESCRIPTION:Si à 17 ans\, Licia compose son premier album autoproduit\, à 21 ans\, elle achève déjà le second. \nSi à 23 ans\, elle finance seule son premier clip Mental Disease\, abordant le sujet de l’anorexie\, à 24 ans\, elle réunit 100’000 € sur un site de financement participatif pour produire son premier album professionnel. \nÀ 25 ans\, elle foule pour la première fois la scène du Montreux Jazz Festival\, avant d’enchaîner à 26 ans avec le Caprices Festival\, le Caribana\, le Paléo et le festival Influences Caraïbes. \nArtiste pluridisciplinaire\, Licia ne se fixe aucune limite. À 36 ans\, elle compte deux albums\, un EP\, de nombreuses scènes et collabore également en tant qu’autrice-compositrice pour d’autres artistes. \nEn 2020\, elle devient la première animatrice noire de la RTS (Télévision Suisse Romande) en présentant l’émission C’est Ma Question. \nC’est après avoir publié son premier livre pour enfants\, Tichéri a les cheveux crépus (Amalthée)\, qu’elle se passionne pour l’écriture de récits qui abordent des sujets sensibles et parfois tabous. Elle publie son premier roman\, Noir en Couleurs\, en 2021 aux éditions Favre. \nEn 2022\, elle franchit un nouveau cap en fondant Les Éditions Visibles\, une maison d’édition engagée dans la valorisation de la diversité et l’inclusion à travers des livres pour petits et grands. Forte de sa vision unique\, elle place la rémunération juste des auteurs et la traduction comme des priorités stratégiques. \nMaman d’un petit garçon\, Licia Chery prouve par l’exemple qu’il est possible d’exceller dans des domaines variés tout en restant fidèle à ses convictions. \nOn vous l’a dit\, Licia Chery fait ce qu’elle veut ! Pas pour vous narguer\, mais pour vous inviter à l’imiter… \nSource: www.leseditionsvisibles.com \nCe déjeuner est aussi ouvert aux membres de Phenomenal Women Global (PWG).  \nPWG est une association fondée en 2018 par des femmes africaines d’horizons professionnels divers\, qui s’attaque au manque de représentation des sexes et de la représentation géographique dans les entreprises et les organisations internationales. Avec pour mission de connecter\, d’autonomiser et de faire progresser les femmes et les filles\, PWG se concentre sur le développement du leadership\, le mentorat et la collaboration interculturelle. Liza Sekaggya\, spécialiste des droits de l’homme à l’ONU\, est l’une de ses fondatrices.
URL:https://www.cwf.ch/event/licia-chery-une-artiste-qui-cree-sans-limites/
LOCATION:InterContinental Genève\, Chemin du Petit-Saconnex 7-9\, Genève\, Genève\, 1209\, Switzerland
CATEGORIES:Lunches
ATTACH;FMTTYPE=image/jpeg:https://www.cwf.ch/wp-content/uploads/2024/11/Licia-chery-2.jpg
ORGANIZER;CN="CWF":MAILTO:administration@cwf.ch
GEO:46.223083;6.1330873
X-APPLE-STRUCTURED-LOCATION;VALUE=URI;X-ADDRESS=InterContinental Genève Chemin du Petit-Saconnex 7-9 Genève Genève 1209 Switzerland;X-APPLE-RADIUS=500;X-TITLE=Chemin du Petit-Saconnex 7-9:geo:6.1330873,46.223083
END:VEVENT
BEGIN:VEVENT
DTSTART;TZID=Europe/Zurich:20250213T080000
DTEND;TZID=Europe/Zurich:20250213T100000
DTSTAMP:20260420T103353
CREATED:20241203T145322Z
LAST-MODIFIED:20250206T100608Z
UID:201258-1739433600-1739440800@www.cwf.ch
SUMMARY:WOBs Breakfast & Workshop at the UNIGE
DESCRIPTION:   &\nRegistrations for this event are now closed. If you wish to have more information\, please send a message to administration@cwf.ch.\nMaster Global Leadership Challenges with the Geneva EMBA\nThe partnership between the Geneva EMBA and the CWF has been renewed\, through which a 20% discount is offered to 4 CWF members who enroll in the Geneva EMBA program.\nJoin us for a coffee while you experience the Geneva EMBA programme through a 1h30 workshop at the University of Geneva. \nOn the agenda: \n\nSelf-Leadership as a mean for integrating boards as a woman\nThe 4 pillars of your self-leadership\nThe Geneva EMBA: self- and responsible leadership for creating inclusion and impact\n\n→ Testimonial of an EMBA Alumna : Feeling legitimate more than looking for a diploma \nOutcome of the workshop: \n\nBetter understanding the mutual responsibility between companies (inclusion policies) and oneself (self-leadership)\nIdentifying the 4 pillars of one’s own self-leadership\nKnowing if the Geneva EMBA is the right tool for one’s own evolution\n\nWe look forward to seeing you there. \nThe Women On Boards Team
URL:https://www.cwf.ch/event/master-global-leadership-challenges-with-the-geneva-emba/
LOCATION:Uni-Mail – Salle M3383\, Boulevard du Pont-d'Arve 40\, Genève\, Genève\, 1205\, Switzerland
CATEGORIES:Breakfasts,Partners' Events,Women on Boards,Workshops
ATTACH;FMTTYPE=image/webp:https://www.cwf.ch/wp-content/uploads/2024/12/EMBA-NEWSROOM-1.webp
ORGANIZER;CN="CWF":MAILTO:administration@cwf.ch
GEO:46.1949154;6.139871
X-APPLE-STRUCTURED-LOCATION;VALUE=URI;X-ADDRESS=Uni-Mail – Salle M3383 Boulevard du Pont-d'Arve 40 Genève Genève 1205 Switzerland;X-APPLE-RADIUS=500;X-TITLE=Boulevard du Pont-d'Arve 40:geo:6.139871,46.1949154
END:VEVENT
BEGIN:VEVENT
DTSTART;TZID=Europe/Zurich:20250213T170000
DTEND;TZID=Europe/Zurich:20250213T180000
DTSTAMP:20260420T103354
CREATED:20250203T141629Z
LAST-MODIFIED:20250203T142711Z
UID:201895-1739466000-1739469600@www.cwf.ch
SUMMARY:Mentoring Program online presentation
DESCRIPTION:This presentation is open to members only\nDear Members\, \nYou are interested in the CWF Mentoring program\, but you would like more information before registering? \nJoin this online Q&A session to ask questions and allow you to take your decision. \nFor organisational reasons\, we thank you for registering below. \nWe look forward to welcoming you. \nBest regards\, \nDominique Ben Dhaou for the CWF committee \nMentoring program information 
URL:https://www.cwf.ch/event/mentoring-program-online-presentation-3/
LOCATION:Visioconference
CATEGORIES:Co-development,Mentoring
ATTACH;FMTTYPE=image/jpeg:https://www.cwf.ch/wp-content/uploads/2018/02/MentoringProgram_2.jpg
ORGANIZER;CN="CWF":MAILTO:administration@cwf.ch
END:VEVENT
END:VCALENDAR