BEGIN:VCALENDAR
VERSION:2.0
PRODID:-//CWF Official Website - ECPv6.15.17.1//NONSGML v1.0//EN
CALSCALE:GREGORIAN
METHOD:PUBLISH
X-WR-CALNAME:CWF Official Website
X-ORIGINAL-URL:https://www.cwf.ch
X-WR-CALDESC:Events for CWF Official Website
REFRESH-INTERVAL;VALUE=DURATION:PT1H
X-Robots-Tag:noindex
X-PUBLISHED-TTL:PT1H
BEGIN:VTIMEZONE
TZID:Europe/Zurich
BEGIN:DAYLIGHT
TZOFFSETFROM:+0100
TZOFFSETTO:+0200
TZNAME:CEST
DTSTART:20230326T010000
END:DAYLIGHT
BEGIN:STANDARD
TZOFFSETFROM:+0200
TZOFFSETTO:+0100
TZNAME:CET
DTSTART:20231029T010000
END:STANDARD
BEGIN:DAYLIGHT
TZOFFSETFROM:+0100
TZOFFSETTO:+0200
TZNAME:CEST
DTSTART:20240331T010000
END:DAYLIGHT
BEGIN:STANDARD
TZOFFSETFROM:+0200
TZOFFSETTO:+0100
TZNAME:CET
DTSTART:20241027T010000
END:STANDARD
BEGIN:DAYLIGHT
TZOFFSETFROM:+0100
TZOFFSETTO:+0200
TZNAME:CEST
DTSTART:20250330T010000
END:DAYLIGHT
BEGIN:STANDARD
TZOFFSETFROM:+0200
TZOFFSETTO:+0100
TZNAME:CET
DTSTART:20251026T010000
END:STANDARD
END:VTIMEZONE
BEGIN:VEVENT
DTSTART;TZID=Europe/Zurich:20240909T114500
DTEND;TZID=Europe/Zurich:20240909T140000
DTSTAMP:20260422T133549
CREATED:20240612T112312Z
LAST-MODIFIED:20240612T113731Z
UID:198832-1725882300-1725890400@www.cwf.ch
SUMMARY:Lunch Découverte avec Marie Robert\, cheffe de cuisine étoilée
DESCRIPTION:Venez découvrir l’univers fascinant de Marie Robert\, cheffe de cuisine étoilée et pionnière dans le monde de la gastronomie suisse. À la tête du Café Suisse à Bex depuis treize ans\, Marie a su transformer cet établissement en l’une des tables les plus renommées du pays. \nÀ propos de Marie Robert\n\nDistinctions : Élue « Cuisinière de l’année 2019 » par le prestigieux guide Gault&Millau\, Marie Robert a également reçu sa première étoile Michelin\, consolidant ainsi sa place parmi les grands noms de la cuisine.\nCarrière : Depuis son apprentissage dans des institutions telles que le Beau-Rivage Palace à Lausanne et auprès du célèbre Thierry Marx à Bordeaux\, jusqu’à l’ouverture de son propre restaurant\, Marie a tracé un parcours impressionnant dans un domaine traditionnellement dominé par les hommes.\nPhilosophie culinaire : Sa cuisine est un mélange savoureux de créativité et de rigueur\, mettant en avant des ingrédients locaux et des saveurs authentiques. Marie est reconnue pour sa capacité à allier goût\, esthétique et santé dans ses plats.\nEngagement : Sensibilisée aux enjeux alimentaires contemporains\, Marie milite pour une alimentation de qualité accessible à tous et s’engage à promouvoir l’éducation culinaire des jeunes.
URL:https://www.cwf.ch/event/lunch-decouverte-avec-marie-robert-cheffe-de-cuisine-etoilee/
LOCATION:Four Seasons Hotel des Bergues Geneva\, Quai des Bergues 33\, Genève\, Genève\, 1201\, Switzerland
CATEGORIES:Lunches
ATTACH;FMTTYPE=image/jpeg:https://www.cwf.ch/wp-content/uploads/2024/06/Marie-Robert-2.jpg
ORGANIZER;CN="CWF":MAILTO:administration@cwf.ch
GEO:46.2070227;6.146962
X-APPLE-STRUCTURED-LOCATION;VALUE=URI;X-ADDRESS=Four Seasons Hotel des Bergues Geneva Quai des Bergues 33 Genève Genève 1201 Switzerland;X-APPLE-RADIUS=500;X-TITLE=Quai des Bergues 33:geo:6.146962,46.2070227
END:VEVENT
BEGIN:VEVENT
DTSTART;TZID=Europe/Zurich:20240917T180000
DTEND;TZID=Europe/Zurich:20240917T210000
DTSTAMP:20260422T133549
CREATED:20240712T073101Z
LAST-MODIFIED:20240918T151303Z
UID:199259-1726596000-1726606800@www.cwf.ch
SUMMARY:Shannon Jenkins: The Power of Authentic Storytelling in Business
DESCRIPTION:The workshop is fully booked. If you wish to be on the waiting list\, please send a message to administration@cwf.ch\nDuring this deeply inspirational and engaging keynote & workshop\, you will learn: \n\nHow to deliver inspiring & impactful presentations\nWhy storytelling is critical to success in business & life\nBody language techniques to increase confidence & charisma\nBreathing techniques to reduce stress & anxiety\nHow to connect to yourself & others effectively\nThe power of authenticity for health & happiness\n\nWhat to expect: \n\nPart 1: Inspiring Keynote “The Power of Authentic Storytelling in Business” (30 minutes)\nPart 2: Presentation Tools Workshop (30 minutes)\nPart 3: Master Your Delivery: Body Language & Confidence Tips (30 minutes)\n\nShannon is a storytelling expert\, public speaking coach\, and the host of a top 5% global self-development podcast “Starting Over”. Her podcast features over 150 interviews with New York Times best-selling authors\, international thought leaders\, public figures\, and experts including Dr. Jill Bolte Taylor (TED talk viewed 40m times)\, Dr. George Kohlreiser (IMD Professor and hostage negotiator)\, and Dr. Eben Alexander (neurosurgeon and NY Times #1 best-selling author). \nShannon coaches executives at Fortune 500 companies\, renowned international brands like Nespresso\, entrepreneurs like David Perroud (mentor\, strategist\, best-selling author)\, start-ups such as m1nd-set (now a world leader in air transport research)\, and business professionals like Sarah Armstrong (VP of Google). \nShe regularly speaks on podcasts\, at conferences or on stages about the art of storytelling in business and draws upon her previous experience in a variety of settings including the British Civil Service\, an international consulting firm and underprivileged schools. \nShe holds degrees in political science\, business law and education from King’s College London\, Sciences Po\, Paris\, The University of Western Australia and The Australian Catholic University; she is also a certified mindfulness teacher (Eckhart Tolle).
URL:https://www.cwf.ch/event/shannon-jenkins-the-power-of-authentic-storytelling-in-business/
LOCATION:Four Seasons Hotel des Bergues Geneva\, Quai des Bergues 33\, Genève\, Genève\, 1201\, Switzerland
CATEGORIES:Workshops
ATTACH;FMTTYPE=image/jpeg:https://www.cwf.ch/wp-content/uploads/2024/07/Shannon-Jenkins-.jpg
ORGANIZER;CN="CWF":MAILTO:administration@cwf.ch
GEO:46.2070227;6.146962
X-APPLE-STRUCTURED-LOCATION;VALUE=URI;X-ADDRESS=Four Seasons Hotel des Bergues Geneva Quai des Bergues 33 Genève Genève 1201 Switzerland;X-APPLE-RADIUS=500;X-TITLE=Quai des Bergues 33:geo:6.146962,46.2070227
END:VEVENT
BEGIN:VEVENT
DTSTART;TZID=Europe/Zurich:20240919T173000
DTEND;TZID=Europe/Zurich:20240919T190000
DTSTAMP:20260422T133549
CREATED:20240912T101447Z
LAST-MODIFIED:20240912T120730Z
UID:200189-1726767000-1726772400@www.cwf.ch
SUMMARY:Kick-off workshop of the Mastermind program 2024
DESCRIPTION:This workshop is open ONLY to the members who registered for the mastermind program \nWe are happy to confirm the launch of our 2024 Mastermind program for our members. \nSeptember is well underway and we know many of you of have registered to join the 2024 program are looking forward to get started. This is fantastic! \nAs previously communicated\, we invite you to an online kick-off 90-minute workshop with the following agenda: \n\n\n\n\n\n\nMastermind Journey overview\nOrganizing the groups: logistics\nMeeting content\nThree steps to a working group relationship\nTry the GROW model live!\nNext steps\n\nSujet : Kick-off Mastemind program\nHeure : 19 sept. 2024 17:30 Paris \nParticiper à la réunion Zoom \nhttps://us06web.zoom.us/j/84188961446?pwd=uTha1GlWgwuHuCqGzhnMD9pkimHYG9.1
URL:https://www.cwf.ch/event/kick-off-workshop-of-the-mastermind-program-2024/
LOCATION:Visioconference
CATEGORIES:Co-development,Mastermind,Virtual workshop
ATTACH;FMTTYPE=image/png:https://www.cwf.ch/wp-content/uploads/2023/07/mastermind-program.png
ORGANIZER;CN="CWF":MAILTO:administration@cwf.ch
END:VEVENT
BEGIN:VEVENT
DTSTART;TZID=Europe/Zurich:20240919T180000
DTEND;TZID=Europe/Zurich:20240919T223000
DTSTAMP:20260422T133549
CREATED:20240704T094409Z
LAST-MODIFIED:20240903T103520Z
UID:199182-1726768800-1726785000@www.cwf.ch
SUMMARY:La Rentrée des Réseauteurs 2024
DESCRIPTION:Le Career Women’s Forum fait partie des clubs invités à participer à La Rentrée des Réseauteurs 2024 qui rassemblera les clubs de réseautage les plus importants de notre région. \nCet événement aura lieu à Lausanne\, Neuchâtel\, Annecy\, Lyon et Genève et nous serons présentes sur l’édition de Genève. \n\n\n\nGenève: le 19 septembre 2024\, Bâtiment Mystère (Rue de la Bergère 10\, 1242 Satigny)\n\n\n\nProgramme de la soirée: \n\n\n\n\n\n\n18h00: ouverture des portes\n\n\n\n\n18h45: accueil\, prise de parole\n\n\n\n\n19h30-: cocktail dinatoire\n\n\n\n\n21h30: remise des lots de la tombola\n\n\n\n\n22h30: fin de la soirée\n\n\n\n\n\n\n \nEvénement Partenaires:\nLes inscriptions se font directement sur le site de la Rentrée des Réseauteurs\nPrix CHF 57.- (crédits CWF pas acceptés)
URL:https://www.cwf.ch/event/la-rentree-des-reseauteurs-2024/
CATEGORIES:Partners' Events
ATTACH;FMTTYPE=image/jpeg:https://www.cwf.ch/wp-content/uploads/2023/06/RentreeReseauteurs2023.jpg
END:VEVENT
BEGIN:VEVENT
DTSTART;TZID=Europe/Zurich:20240924T080000
DTEND;TZID=Europe/Zurich:20240924T100000
DTSTAMP:20260422T133549
CREATED:20240712T131139Z
LAST-MODIFIED:20240923T080736Z
UID:199273-1727164800-1727172000@www.cwf.ch
SUMMARY:Durabilité et gouvernance\, les attentes des investisseurs envers des Conseils d’administration
DESCRIPTION:Petit-déjeuner avec Vincent Kaufmann\, CEO ETHOS Foundation et ETHOS Services\nCet événement est complet. Si vous souhaitez être sur la liste d’attente\, merci d’envoyer un message à administration@cwf.ch\nLes événements WOBs sont ouverts aux hommes.\n\n8.00-8.30: Petit-déjeuner – 8.30-10.00: Conférence \nNous avons le plaisir de vous inviter au prochain petit-déjeuner du cycle “Women on Boards” avec Vincent Kaufmann\, CEO de la Fondation Ethos et de la société Ethos Services SA (conférence en français\, slides en anglais). \nLa philosophie de la Fondation Ethos repose sur une conviction : les entreprises qui respectent les meilleures pratiques ESG ont plus de chances d’être durables sur le long terme. \nSon CEO\, Vincent Kaufmann – spécialiste de l’investissement socialement responsable et de la gouvernance d’entreprise – nous éclairera sur différents points clés dont un conseil d’administration devrait tenir compte dans sa gouvernance. Il parlera des nouvelles exigences en matière de reporting\, des attentes des investisseurs sur la composition d’un conseil d’administration et de la structure des rémunérations des instances. \nQue vous soyez membre d’un Conseil d’Administration\, investisseur·e ou simplement intéressé·e par le sujet\, rejoignez-nous pour une discussion fort intéressante. \n 
URL:https://www.cwf.ch/event/wobs-women-on-boards-breakfast-with-vincent-kaufmann/
LOCATION:Royal Manotel Genève\, Rue de Lausanne 41\, Genève\, Genève\, 1201\, Switzerland
CATEGORIES:Breakfasts,Women on Boards
ATTACH;FMTTYPE=image/jpeg:https://www.cwf.ch/wp-content/uploads/2024/07/Ethos_Vincent_006_Ethos.jpg
GEO:46.2135447;6.1454261
X-APPLE-STRUCTURED-LOCATION;VALUE=URI;X-ADDRESS=Royal Manotel Genève Rue de Lausanne 41 Genève Genève 1201 Switzerland;X-APPLE-RADIUS=500;X-TITLE=Rue de Lausanne 41:geo:6.1454261,46.2135447
END:VEVENT
BEGIN:VEVENT
DTSTART;TZID=Europe/Zurich:20240926T083000
DTEND;TZID=Europe/Zurich:20240926T170000
DTSTAMP:20260422T133549
CREATED:20240704T133903Z
LAST-MODIFIED:20240924T050810Z
UID:199197-1727339400-1727370000@www.cwf.ch
SUMMARY:Journée du Conseil d'administration 2024
DESCRIPTION:La prochaine Journée du Conseil d’administration se tiendra le 26 septembre 2024. Elle s’adresse aux membres de conseils d’administration et de directions générales d’entreprises cotées et non cotées de Suisse Romande et leur propose un forum pluridisciplinaire de qualité consacré à la fonction d’administrateur. \n\n\n\nLa Journée du Conseil d’administration est organisée par la Fondation Swiss Board Institute sous l’égide de l’Université de Genève (département GSEM) et en partenariat avec l’IMD.\n\n\n\n\n\n  \nProgramme et intervenants  \nPrésentation de la journée (clip vidéo) \nInscriptions \nTarif préférentiel de CHF 690.- (au lieu de CHF 890.-) pour les membres du Career Women’s Forum qui sont administratrices \n 
URL:https://www.cwf.ch/event/jounee-conseil-administration/
LOCATION:IMD Business School\, Chemin de Bellerive 34\, Lausanne\, 1003\, Switzerland
CATEGORIES:Partners' Events,Women on Boards
ATTACH;FMTTYPE=image/jpeg:https://www.cwf.ch/wp-content/uploads/2017/12/swiss-board-istitute-imd-lausanne.jpg
ORGANIZER;CN="Swiss Board Institute":MAILTO:contact@swissboardinstitute.ch
GEO:46.5109961;6.6193476
X-APPLE-STRUCTURED-LOCATION;VALUE=URI;X-ADDRESS=IMD Business School Chemin de Bellerive 34 Lausanne 1003 Switzerland;X-APPLE-RADIUS=500;X-TITLE=Chemin de Bellerive 34:geo:6.6193476,46.5109961
END:VEVENT
END:VCALENDAR