BEGIN:VCALENDAR
VERSION:2.0
PRODID:-//CWF Official Website - ECPv6.15.17.1//NONSGML v1.0//EN
CALSCALE:GREGORIAN
METHOD:PUBLISH
X-WR-CALNAME:CWF Official Website
X-ORIGINAL-URL:https://www.cwf.ch
X-WR-CALDESC:Events for CWF Official Website
REFRESH-INTERVAL;VALUE=DURATION:PT1H
X-Robots-Tag:noindex
X-PUBLISHED-TTL:PT1H
BEGIN:VTIMEZONE
TZID:Europe/Zurich
BEGIN:DAYLIGHT
TZOFFSETFROM:+0100
TZOFFSETTO:+0200
TZNAME:CEST
DTSTART:20230326T010000
END:DAYLIGHT
BEGIN:STANDARD
TZOFFSETFROM:+0200
TZOFFSETTO:+0100
TZNAME:CET
DTSTART:20231029T010000
END:STANDARD
BEGIN:DAYLIGHT
TZOFFSETFROM:+0100
TZOFFSETTO:+0200
TZNAME:CEST
DTSTART:20240331T010000
END:DAYLIGHT
BEGIN:STANDARD
TZOFFSETFROM:+0200
TZOFFSETTO:+0100
TZNAME:CET
DTSTART:20241027T010000
END:STANDARD
BEGIN:DAYLIGHT
TZOFFSETFROM:+0100
TZOFFSETTO:+0200
TZNAME:CEST
DTSTART:20250330T010000
END:DAYLIGHT
BEGIN:STANDARD
TZOFFSETFROM:+0200
TZOFFSETTO:+0100
TZNAME:CET
DTSTART:20251026T010000
END:STANDARD
END:VTIMEZONE
BEGIN:VEVENT
DTSTART;TZID=Europe/Zurich:20240605T173000
DTEND;TZID=Europe/Zurich:20240605T203000
DTSTAMP:20260422T181956
CREATED:20240314T171046Z
LAST-MODIFIED:20240603T163426Z
UID:196801-1717608600-1717619400@www.cwf.ch
SUMMARY:Planifier son avenir : Quelle est la bonne trajectoire pour bien planifier votre retraite?
DESCRIPTION:Aux participants: merci de noter qu’une pièce d’identité vous sera demandée à l’entrée \nCet événement est aimablement sponsorisé par HSBC\, ouvert à tous\, femmes et hommes \nRejoignez-nous pour une conférence instructive qui soulignera l’importance de ce sujet au cœur de l’actualité: la planification de votre retraite et son évolution au fil des étapes de notre cycle de vie. Que vous débutiez votre carrière\, que vous soyez à mi-parcours ou que vous vous approchiez de la retraite\, il est essentiel de bien comprendre les enjeux de cette planification afin de vous assurer un avenir financier stable correspondant à vos futurs besoins. \nNous aurons le plaisir d’accueillir autour de cette table ronde : \n\nMarie-Gabriella Burgio-Chiappa : Présidente de la Fondation de prévoyance des entités suisses du Groupe HSBC\nLaurence Jacquemoud : Notaire – Sautter Jacquemoud Etude de Notaires – membre du CWF\n\nAlbert Gallegos : Head of Wealth Solutions – BCGE\nDidier Sauteur : Expert Diplômé en Assurances de Pension – AON\n\nPrincipaux sujets abordés :\nUne Planification anticipée – Rappel des bases : \n\nRappeler pourquoi il est essentiel de commencer à penser à la planification de sa retraite dès le début de sa carrière professionnelle.\nBien comprendre notre système de retraite en Suisse afin de préparer sa stratégie et s’assurer une sécurité financière à long terme.\n\nUne Planification durant les étapes importantes de la vie : \n\nComment les événements de la vie tels que le mariage\, le divorce\, le décès de son conjoint ou partenaire\, la fondation d’une famille ou la réduction de son temps de travail peuvent avoir un impact sur votre plan de retraite.\nSe familiariser avec les ajustements nécessaires pour adapter votre stratégie à ces circonstances.\n\nUne Planification optimale – maximiser ses prestations de retraite : \n\nComment maximiser les prestations de retraite notamment en tirant parti des contributions de l’employeur\, des régimes publics et des différentes options d’épargne supplémentaires.\nQuelles sont les implications ainsi que les stratégies fiscales et financières?\nQuels sont les outils de planification pour optimiser votre retraite?\n\nL’Accès aux prestations de retraite : \n\nQuelles sont les différentes options disponibles pour accéder aux prestations de retraite?\nQuelles sont les incidences de chaque option et comment prendre des décisions éclairées en fonction de votre situation personnelle.\n\nProgramme: \n\n17:30 – 18:00 accueil avec boissons\n18:00 – 19:30 panel & Q&A\n19:30 – 20:30 cocktail\n\nAux participants: merci de noter qu’une pièce d’identité vous sera demandée à l’entrée \nCet événement est offert par HSBC. Par respect envers notre Partenaire entreprise qui le sponsorise\, un montant de CHF 20.- sera facturé aux personnes qui ne se présenteront pas. \nCet événement est complet. \nSi vous souhaitez figurer sur la liste d’attente\, merci d’envoyer un message à administration@cwf.ch
URL:https://www.cwf.ch/event/planning-for-your-future-the-journey-of-pension-planning/
LOCATION:HSBC Private Bank (Suisse) SA\, Rue des Etuves 9\, Genève\, Genève\, 1201\, Switzerland
CATEGORIES:Corporate Members' Events,Round table
ATTACH;FMTTYPE=image/jpeg:https://www.cwf.ch/wp-content/uploads/2024/03/HSBC.jpg
ORGANIZER;CN="CWF":MAILTO:administration@cwf.ch
GEO:46.206292;6.1433835
X-APPLE-STRUCTURED-LOCATION;VALUE=URI;X-ADDRESS=HSBC Private Bank (Suisse) SA Rue des Etuves 9 Genève Genève 1201 Switzerland;X-APPLE-RADIUS=500;X-TITLE=Rue des Etuves 9:geo:6.1433835,46.206292
END:VEVENT
BEGIN:VEVENT
DTSTART;TZID=Europe/Zurich:20240615T153000
DTEND;TZID=Europe/Zurich:20240615T210000
DTSTAMP:20260422T181956
CREATED:20240426T074917Z
LAST-MODIFIED:20240610T085438Z
UID:198150-1718465400-1718485200@www.cwf.ch
SUMMARY:Summer Event - Après-midi sportif et cocktail dînatoire au David Lloyd de Veigy
DESCRIPTION:Cet événement est ouvert aux membres et aux non-membres et à leurs invité.e.s\nInscriptions possibles jusqu’à jeudi 13 juin\nChères membres\, Chers amis\, \nVoici une occasion parfaite pour se dépenser\, se détendre et partager de bons moments entre membres et passionné.e.s de sport. C’est un samedi\, jour de détente… \nVous êtes cordialement invité.e.s à partager avec nous un moment dynamique et divertissant lors de notre après-midi sportif avec remise de prix suivi d’un cocktail dînatoire au David Lloyd de Veigy. \n\nActivités sportives: 15.00\nCocktail dînatoire: 18.00\nPossibilité de participer seulement au cocktail.\n\nAu programme de la partie sportive : \n\n15h00 : Accueil\n15h30 : Défis en équipe : Testez vos limites et tentez de gagner des prix!\n16h15 : Début du cours signature David Lloyd\, à choix:\n\nSpirit – 55 minutes – Niveau débutant et intermédiaire – Mélange d’éléments de yoga\, de Pilates et de méditation sonore. Sur une belle musique\, SPIRIT vous emmène dans un voyage de renforcement de la force et de la souplesse\, qui se termine par une méditation sonore.\nBlaze – 55 minutes – Niveau intermédiaire et avancé – Testez votre force\, votre endurance et votre volonté en alternant les zones de course\, de renforcement et de boxe lors de cette séance unique de haute intensité. Soyez prêt à vous dépasser\, à votre rythme !\n\n\n\nDeuxième partie: \n\n18h00 : Remise des prix et début du cocktail dînatoire\n21h00 : Fin de l’événement\n\nLe centre sportif nous offrira l’accès à toutes ses installations ainsi qu’à ses instructeurs diplômés pour nous faire découvrir toutes les nouveautés qu’il propose. \nQue vous soyez débutant.e ou athlète confirmé.e\, cet événement est ouvert à tous les niveaux et à tous les âges. \nVenez seule\, ou accompagnée d’une personne de votre choix\, afin de partager un moment convivial et sportif. \n \n  \nChampagne aimablement offert par Telmont \n  \n  \nEquipement nécessaire: vêtements adaptés\, chaussures de sport + un cadenas pour fermer votre casier \nPlus d’informations sur le centre: www.davidlloyd.fr \nCentre David Lloyd Veigy\, 740 route des Plantets– France (à 5 minutes de la frontière Genevoise et à 15 minutes du centre-ville de Genève)\, parking à disposition devant le club.
URL:https://www.cwf.ch/event/summer-event-apres-midi-sportif-et-cocktail-au-david-lloyd-de-veigy/
LOCATION:David Lloyd Veigy\, Route des Plantets 740\, Veigy-Foncenex\, Haute-Savoie\, 74140\, France
CATEGORIES:Festive Events
ATTACH;FMTTYPE=image/jpeg:https://www.cwf.ch/wp-content/uploads/2024/04/entree-club-veigy.jpg
ORGANIZER;CN="CWF":MAILTO:administration@cwf.ch
GEO:46.2754833;6.2475096
X-APPLE-STRUCTURED-LOCATION;VALUE=URI;X-ADDRESS=David Lloyd Veigy Route des Plantets 740 Veigy-Foncenex Haute-Savoie 74140 France;X-APPLE-RADIUS=500;X-TITLE=Route des Plantets 740:geo:6.2475096,46.2754833
END:VEVENT
BEGIN:VEVENT
DTSTART;TZID=Europe/Zurich:20240617T123000
DTEND;TZID=Europe/Zurich:20240617T133000
DTSTAMP:20260422T181956
CREATED:20240611T074515Z
LAST-MODIFIED:20240611T091229Z
UID:198798-1718627400-1718631000@www.cwf.ch
SUMMARY:Geneva EMBA Free Webinar - Special CWF Members
DESCRIPTION:As a part of the partnership between EMBA Geneva and the Career Women’s Forum\, we have the pleasure to invite you to this free webinar. \nThinking of pursuing an EMBA?\nJoin us on Monday 17th June 2024 for an informational webinar hosted by Jean-Yves Mercier\, Director of the Geneva EMBA programme at the University of Geneva. Gain valuable insights into the transformative power of an EMBA in today’s dynamic business landscape. \nWebinar topics:\n• Why an EMBA is needed more than ever\, in today’s business world\n• Discover the unique advantages of studying an EMBA in Geneva\n• Transformation & responsible leadership: what makes the Geneva EMBA different?\n• Insights into the application process with special benefit for CWF Members\n• Engage in a live Q&A with us \nRegistration link
URL:https://www.cwf.ch/event/geneva-emba-webinar-special-cwf-members/
LOCATION:Visioconference
CATEGORIES:Virtual Event,Workshops
ATTACH;FMTTYPE=image/jpeg:https://www.cwf.ch/wp-content/uploads/2024/04/UNIGE-EMBA-LOGO-WEB-L.jpg
ORGANIZER;CN="CWF":MAILTO:administration@cwf.ch
END:VEVENT
BEGIN:VEVENT
DTSTART;TZID=Europe/Zurich:20240624T114500
DTEND;TZID=Europe/Zurich:20240624T140000
DTSTAMP:20260422T181956
CREATED:20240508T101505Z
LAST-MODIFIED:20240524T094008Z
UID:198286-1719229500-1719237600@www.cwf.ch
SUMMARY:Stephania Bonilla-Feret - My Life Portfolio: Women\, Economics\, and Empowerment
DESCRIPTION:Join Us for the Career Women’s Forum Geneva June Lunch! \nWe are thrilled to invite you to our upcoming luncheon\, “My Life Portfolio: Women\, Economics\, and Empowerment\,” featuring the inspiring Stephania Bonilla-Feret. As a Senior Economic Affairs Officer at UNCTAD\, Stephania manages global projects that support the governments of developing countries through training\, policy advisory services\, and research in investment and entrepreneurship. \nWith a PhD in economics and a passion for gender equality\, Stephania has worked tirelessly to promote women’s empowerment across diverse cultural landscapes. From Mexico to Madagascar\, she has witnessed firsthand the universal importance of equality in driving sustainable development. Her extensive experience and dynamic approach will provide valuable insights into the intersection of economics and gender issues\, making this a luncheon you won’t want to miss. \nPlease join us to hear Stephania’s captivating journey and her thoughts on how we can all contribute to a more inclusive and empowered world. \nDon’t miss out on this opportunity to connect\, learn\, and be inspired.
URL:https://www.cwf.ch/event/dejeuner-mensuel-juin-2/
LOCATION:Four Seasons Hotel des Bergues Geneva\, Quai des Bergues 33\, Genève\, Genève\, 1201\, Switzerland
CATEGORIES:Lunches
ATTACH;FMTTYPE=image/jpeg:https://www.cwf.ch/wp-content/uploads/2024/05/STEPHANIA-BONILLA2.jpg
ORGANIZER;CN="CWF":MAILTO:administration@cwf.ch
GEO:46.2070227;6.146962
X-APPLE-STRUCTURED-LOCATION;VALUE=URI;X-ADDRESS=Four Seasons Hotel des Bergues Geneva Quai des Bergues 33 Genève Genève 1201 Switzerland;X-APPLE-RADIUS=500;X-TITLE=Quai des Bergues 33:geo:6.146962,46.2070227
END:VEVENT
BEGIN:VEVENT
DTSTART;TZID=Europe/Zurich:20240625T180000
DTEND;TZID=Europe/Zurich:20240625T200000
DTSTAMP:20260422T181956
CREATED:20240611T084248Z
LAST-MODIFIED:20240611T085216Z
UID:198802-1719338400-1719345600@www.cwf.ch
SUMMARY:Afterwork Mentoring
DESCRIPTION:This event is open ONLY to participants in the CWF mentoring program \nDear Mentors and Mentees of the CWF mentoring program\, \nAs we regularly do during the year\, we would like to invite you to share a moment of networking and face-to-face exchange with the other members involved in the CWF mentoring program. \nPlease come and join us at the Hotel N’vy: a warm and modern place in the center of Geneva\, where we can share experiences\, questions\, ideas… around a light collation. \nFor organisational reasons\, we thank you for registering below.
URL:https://www.cwf.ch/event/afterwork-mentoring-2/
LOCATION:Hotel N’vy Geneva\, Rue de Richemont 18\, Genève\, Genève\, 1202\, Switzerland
CATEGORIES:AfterWork,Co-development
ATTACH;FMTTYPE=image/jpeg:https://www.cwf.ch/wp-content/uploads/2024/06/AfterworkMentoring-oct2023-4.jpg
ORGANIZER;CN="CWF":MAILTO:administration@cwf.ch
GEO:46.2154761;6.1486893
X-APPLE-STRUCTURED-LOCATION;VALUE=URI;X-ADDRESS=Hotel N’vy Geneva Rue de Richemont 18 Genève Genève 1202 Switzerland;X-APPLE-RADIUS=500;X-TITLE=Rue de Richemont 18:geo:6.1486893,46.2154761
END:VEVENT
BEGIN:VEVENT
DTSTART;TZID=Europe/Zurich:20240626T173000
DTEND;TZID=Europe/Zurich:20240626T181500
DTSTAMP:20260422T181956
CREATED:20240619T130354Z
LAST-MODIFIED:20240626T084138Z
UID:199000-1719423000-1719425700@www.cwf.ch
SUMMARY:Mastermind Program - Online information session
DESCRIPTION:We will be online\, you can join even if you have not registered (CWF members only)\nZoom information below \nWe are delighted to launch the third session of our new members’ only program to help you thrive\, wherever you are in your career path: the MASTERMIND GROUPS. \nWHAT IS A MASTERMIND GROUP? \nA mastermind group is a peer-to-peer mentoring group used to help members solve their problems with input and advice from the other group members. In a group of 5 women\, the self-organised group meets every 4 weeks for around 2h\, to brainstorm on their current challenges. \nIt is basically a very powerful co-development opportunity\, from which you gain high motivation and more alignment in the process. \nFor more information\, we are proposing a 45 minutes online to any member interested in learning about this new program before applying\, for a short presentation + Q&A. \nFull information about the program \nFor organisational reasons\, please register below. \nYou can already register for this new program by filling this form (Deadline: July 31st) \nLink to join the visioconference \nSujet: Mastermind Information Session\nHeure: 26 juin 2024 17:30 Paris \nParticiper Zoom Réunion\nhttps://us02web.zoom.us/j/88424846122?pwd=KaDSvLFWmXwo7yaZ9bjaFzxRL3tGPD.1 \nID de réunion: 884 2484 6122\nCode secret: 446316
URL:https://www.cwf.ch/event/mastermind-program-online-information-session-2/
LOCATION:Visioconference
CATEGORIES:Co-development,Mastermind
ATTACH;FMTTYPE=image/png:https://www.cwf.ch/wp-content/uploads/2023/07/mastermind-program.png
ORGANIZER;CN="CWF":MAILTO:administration@cwf.ch
END:VEVENT
BEGIN:VEVENT
DTSTART;VALUE=DATE:20240630
DTEND;VALUE=DATE:20240701
DTSTAMP:20260422T181956
CREATED:20240417T152256Z
LAST-MODIFIED:20240612T085716Z
UID:198004-1719705600-1719791999@www.cwf.ch
SUMMARY:Partnership between the Geneva EMBA and the Career Women’s Forum
DESCRIPTION:Application Deadline: June 30\, 2024\nThe Career Women’s Forum is pleased to announce the launch of a partnership with the Geneva EMBA to help promote women’s careers. This will focus on two main areas:\n\n\n\na 20% discount for 3 to 4 CWF members who enroll in the Geneva EMBA program\n\n\nmentoring by the CWF for Geneva EMBA female students.\n\n\nThe Geneva EMBA has always enjoyed a wide diversity of nationalities among its students\, both because of the richness of the Geneva socio-economic region and its natural international orientation. For years\, gender diversity has also been fostered\, with an average of 50% female students. But this is not enough. The reality of the numbers is clear: 40% of women in the workforce in Switzerland\, 25% on boards of directors\, 22% in top management\, and about 10% on executive committees. There is still a long way to go to achieve diversity in companies so that responsibilities are better shared. The glass ceiling is still tough\, and when it fades\, it often gives way to the glass wall. This term is used to describe the fact that in companies where women manage to reach the highest positions\, these are most often in less strategic departments (HR\, administration\, communication). In line with its motto\, responsible leadership\, the Geneva EMBA’s mission is to ensure the education of women who wish to join our program and to work to support the career paths of our graduates. The partnership with the Career Women’s Forum (CWF) works towards this. \nThe primary objective of the partnership with the Career Women’s Forum is to encourage women to benefit from the Geneva EMBA. As mentioned they have 50% female participants. But the challenge and their action go beyond the numbers. \nOn average every 2 years\, one student gives birth during her studies. This involves combining work\, studies\, and motherhood\, a challenge that reflects the courage of the women who live it. Geneva EMBA’s collaboration in this matter is multifaceted. Firstly human\, at no time do they consider this stage of life as anything other than normal. Then\, responsibility towards the class: although the students naturally tend to support each other\, they make long-term thesis groups aware of planning well. Again\, naming motherhood as a normality to be considered removes many symbolic obstacles\, and therefore also practical ones. Lastly\, through flexibility that allows\, for example\, to postpone certain modules to the following year and thus spread out the program according to the needs of a future or new mother. \nFurthermore\, experience has shown that it is predominantly women who may have the most difficulty financing their studies. Only because their employer is less inclined to help them than they would be for a man. Therefore\, Geneva EMBA have decided to offer 3 to 4 places with a 20% reduction in the cost of studies for 3 to 4 women members of the CWF. That is 34\,000 CHF instead of 42\,500 CHF! \nGeneva EMBA’s second objective through this partnership is to support the success of their graduates in their post-MBA careers. While responsible leadership is indeed their main focus\, it is based on their second competitive advantage: developing the students’ self-leadership. The goal is not to lobby for the benefit of women\, but to give them the means to develop their own network and career. Starting from the August 2024 intake\, the CWF will therefore implement and offer mentoring actions with the Geneva EMBA’s women students\, based on our expertise.  \nIf the CWF and the Geneva EMBA quickly agreed on the objective and means of this partnership\, it is gratifying to see that the press is already echoing it. See in this regard the broadcast by Radio Lac orchestrated by the Geneva Chamber of Commerce and Industry (in french). \nGeneva EMBA thank the entire CWF team\, particularly its president Jamila Pradère\, but also Christelle Patriarca and Marianne Zutter\, for their commitment to a collaboration that can only bear fruit. \nSo\, if you are a member of the CWF\, you want to progress in your career and rely on an EMBA to do so\, get in touch by completing this contact form.  \nApplication Deadline: June 30\, 2024
URL:https://www.cwf.ch/event/partnership-between-the-geneva-emba-and-the-career-womens-forum/
CATEGORIES:Partners' Events
ATTACH;FMTTYPE=image/jpeg:https://www.cwf.ch/wp-content/uploads/2024/04/UNIGE-EMBA-LOGO-WEB-L.jpg
END:VEVENT
END:VCALENDAR