BEGIN:VCALENDAR
VERSION:2.0
PRODID:-//CWF Official Website - ECPv6.15.17.1//NONSGML v1.0//EN
CALSCALE:GREGORIAN
METHOD:PUBLISH
X-ORIGINAL-URL:https://www.cwf.ch
X-WR-CALDESC:Events for CWF Official Website
REFRESH-INTERVAL;VALUE=DURATION:PT1H
X-Robots-Tag:noindex
X-PUBLISHED-TTL:PT1H
BEGIN:VTIMEZONE
TZID:Europe/Zurich
BEGIN:DAYLIGHT
TZOFFSETFROM:+0100
TZOFFSETTO:+0200
TZNAME:CEST
DTSTART:20230326T010000
END:DAYLIGHT
BEGIN:STANDARD
TZOFFSETFROM:+0200
TZOFFSETTO:+0100
TZNAME:CET
DTSTART:20231029T010000
END:STANDARD
BEGIN:DAYLIGHT
TZOFFSETFROM:+0100
TZOFFSETTO:+0200
TZNAME:CEST
DTSTART:20240331T010000
END:DAYLIGHT
BEGIN:STANDARD
TZOFFSETFROM:+0200
TZOFFSETTO:+0100
TZNAME:CET
DTSTART:20241027T010000
END:STANDARD
BEGIN:DAYLIGHT
TZOFFSETFROM:+0100
TZOFFSETTO:+0200
TZNAME:CEST
DTSTART:20250330T010000
END:DAYLIGHT
BEGIN:STANDARD
TZOFFSETFROM:+0200
TZOFFSETTO:+0100
TZNAME:CET
DTSTART:20251026T010000
END:STANDARD
END:VTIMEZONE
BEGIN:VEVENT
DTSTART;TZID=Europe/Zurich:20240516T180000
DTEND;TZID=Europe/Zurich:20240516T203000
DTSTAMP:20260422T195949
CREATED:20240227T113830Z
LAST-MODIFIED:20240516T110955Z
UID:196370-1715882400-1715891400@www.cwf.ch
SUMMARY:Aging Workforce MasterClass
DESCRIPTION:For organizations and leaders who want to include age in their DEI Initiatives\, People Strategies\, and Processes\nThis event is kindly sponsored by our Corporate Parner SIG Services Industriels de Genève\, open to everyone\, women and men \nThe number of seats is limited\, registrations will be taken on a first come first served basis \nThis 90-minute MasterClass Workshop is geared toward decision-makers who are committed to supporting and preparing mid-life professionals through this phase of life. HR\, Well-being\, or other Business Leaders who know it’s important\, but aren’t quite sure where to start. \nApproximately 35% of our population is over 50. This is projected to be 45% by 2050\, resulting in over 400\,000 jobs to fill if everyone retires on time. A square-shaped workforce with more senior employees is already a reality\, but only 8% of organizations include age in their DEI Programs. Let’s shake up the conversation now\, whether it be to optimize their current role inside or outside the organization\, or to prepare for retirement (however that may look). \nIn this Workshop you will: \n\nDISCOVER why you and your organization cannot afford NOT to take demographics seriously.\nEXPLORE the 5 dimensions of well-being and discover where your organization stands on each through live quizzes.\nLEARN how to turn disruptive demographics into productive possibilities for both employers and employees by exchanging with experts and like-minded professionals and leave with relevant tips to put into action immediately.\n\nThis MasterClass will be moderated by Ellen Kocher and Dominique Ben-Dhaou. \nTogether\, Ellen and Dominique entered entrepreneurship in their early 50’s. Today\, they focus much of their work on the 50+ demographic\, including their recently released book “Wake-Up\, Shake-Up\, Thrive! How to Lift Up Your Life in Your 50’s and Beyond” (Swiss Secrets to Not Growing Old). They founded “Wake-Up\, Shake-Up\, Thrive!” \nDominique Ben Dhaou is a Swiss National who has been working in Human Resources leadership roles in international organizations for over 30 years. She has experience in 12 different industries across continents. As the Founder and Managing Director of PointNorth International\, she helps professionals and executives reinvent a career that truly fits their experience\, values\, skills\, and purpose. Dominique received her Bachelor of Science in Hospitality & Hotel Management from Ecole Hoteliere de Lausanne. In 2016 she was named “Top Professional of the Year in Human Resources.” An accredited member of several Boards of Directors\, she is certified in NLP from the American Board\, is a certified Executive Mentor\, and a certified coach in Positive Intelligence. Dominique resides with her family in Geneva Switzerland. \nEllen Kocher is an Economist and Certified Workplace Wellness Consultant. Master’s degree in health and Wellness Coaching\, ICF PCC\, NBHWC\, Health\, and Mindful Eating Coach\, Holding multiple global leadership roles in the Workplace Wellness Field. Educated in the USA\, Ellen made some major lifestyles changes and has dedicated the past 20+ years to walking her talk through workplace well-being\, promoting a holistic approach to eating\, physical activity\, health\, resilience\, and self-care. Through her company\, Whealthness\, Ellen has coached hundreds of individuals and groups in dozens of organizations to make sustainable lifestyle changes empowering them to go from knowing what to do to actually doing it! Ellen resides in Geneva Switzerland with her husband and three children. \nThe workshop  will include a light collation\, kindly offered by SIG. \nDue to limited places and SIG generously offering the collation\, out of respect for our corporate member we will charge 20.- to registered participants who do not show up on the evening of the event. \nAccès au Centre polyvalent: \nThe Centre is located in an industrial area. The CWF logo will show you the door of the location.  \nIf necessary you can call 079 347 06 68. \n\nEn deux roues : Le Stand dispose d’un garage à vélos couvert.\nEn transports publics : Le Stand est desservi par de nombreuses lignes aux deux principaux arrêts suivants :\n\n« Palladium » (tram 14 et bus 4)\n« Jonction » (bus 2 ; 11 et 19)\n\n\nEn voiture : Les parkings payants Hôtel des Finances et David-Dufour se trouvent à proximité
URL:https://www.cwf.ch/event/aging-workforce-masterclass/
LOCATION:SIG Centre Polyvalent\, Rue des Jardins 5\, Genève\, Genève\, 1205\, Switzerland
CATEGORIES:Workshops
ATTACH;FMTTYPE=image/png:https://www.cwf.ch/wp-content/uploads/2024/02/Aging-worksforces-1.png
ORGANIZER;CN="CWF":MAILTO:administration@cwf.ch
GEO:46.2022016;6.1326635
X-APPLE-STRUCTURED-LOCATION;VALUE=URI;X-ADDRESS=SIG Centre Polyvalent Rue des Jardins 5 Genève Genève 1205 Switzerland;X-APPLE-RADIUS=500;X-TITLE=Rue des Jardins 5:geo:6.1326635,46.2022016
END:VEVENT
BEGIN:VEVENT
DTSTART;TZID=Europe/Zurich:20240530T170000
DTEND;TZID=Europe/Zurich:20240530T200000
DTSTAMP:20260422T195949
CREATED:20240416T144335Z
LAST-MODIFIED:20240529T163314Z
UID:197977-1717088400-1717099200@www.cwf.ch
SUMMARY:Visite de l’aéroport de Genève et conférence sur la gestion des risques
DESCRIPTION:INFORMATIONS IMPORTANTES A DESTINATION DES PARTICIPANTES A L A VISITE DE L’AÉROPORT \n\nRendez-vous à la salle de presse de l’aéroport à 17.00\nLe départ pour la visite aura lieu à 17.15 précises\, pas d’attente des retardataires\nVous devrez présenter la pièce d’identité dont vous avez donné le numéro et la date d’échéance. Aucune autre pièce d’identité ne sera acceptée\, la visite vous sera refusée.\n\nLa conférence aura aussi lieu à la salle de presse de l’aéroport \nLa salle de presse se trouve au niveau enregistrement. L’accès se fait par le couloir se situant à côté du guichet d’enregistrement 61. Il faut suivre ce couloir puis tourner à gauche.   \nPlan-localisation-Salle-de-presse \nDans le cadre de l’initiative Women On Boards\, nous avons le plaisir de vous convier à une visite exclusive de l’aéroport de Genève qui nous offrira l’opportunité d’appréhender sur le terrain les multiples enjeux auxquels doit faire face une telle organisation. \nAu terme de la visite\, une présentation de la gestion des risques en entreprise sera faite par Aurélie Amselem\, Head of Risk Management pour la Direction générale. \nAurélie Amselem a débuté sa carrière professionnelle à Zurich en tant que consultante dans une Big4. Pendant plusieurs années\, elle a accompagné des fonds d’investissement\, multinationales et PME dans leurs opérations de fusions-acquisitions en Suisse et à l’étranger.  \nEn 2015\, elle rejoint Genève Aéroport avec comme première mission la mise en place et le pilotage d’un système de gestion des risques intégré au sein de l’organisation. Dans le cadre de sa fonction\, elle est également responsable de la gestion de projets transversaux\, tant stratégiques que opérationnels\, pour le compte de la Direction générale.  \nAurélie est présidente du comité de sélection de GENILEM Genève\, une association qui accompagne des start-ups de la région dans leur développement. Elle a également œuvré comme membre indépendante du conseil d’administration d’une protech active dans le domaine de l’optimisation énergétique.   \nAurélie est experte comptable diplômée (ACCA). Elle détient un Master en comptabilité\, contrôle et finances de HEC Lausanne.   \nPourquoi mettre en place un système de gestion des risques d’entreprise ? Quels sont les enjeux à prendre en considération ? Comment se positionner afin d’assurer la prise en compte d’une vision transversale des activités? Comment dialoguer avec la direction générale et le conseil d’administration autour de cette thématique ? \nUne occasion unique de visiter les coulisses de l’aéroport de Genève\, suivie d’une présentation riche en enseignements\, que nous clôturerons avec un cocktail qui permettra de poursuivre les échanges de façon conviviale.
URL:https://www.cwf.ch/event/197977/
LOCATION:Aéroport de Genève-Salle de presse\, Route de l'Aéroport 21\, Le Grand-Saconnex\, Genève\, 1215\, Switzerland
CATEGORIES:Women on Boards
ATTACH;FMTTYPE=image/jpeg:https://www.cwf.ch/wp-content/uploads/2024/04/Aurelie-Amselem2.jpg
ORGANIZER;CN="CWF":MAILTO:administration@cwf.ch
GEO:46.2311506;6.1087
X-APPLE-STRUCTURED-LOCATION;VALUE=URI;X-ADDRESS=Aéroport de Genève-Salle de presse Route de l'Aéroport 21 Le Grand-Saconnex Genève 1215 Switzerland;X-APPLE-RADIUS=500;X-TITLE=Route de l'Aéroport 21:geo:6.1087,46.2311506
END:VEVENT
END:VCALENDAR