BEGIN:VCALENDAR
VERSION:2.0
PRODID:-//CWF Official Website - ECPv6.15.17.1//NONSGML v1.0//EN
CALSCALE:GREGORIAN
METHOD:PUBLISH
X-WR-CALNAME:CWF Official Website
X-ORIGINAL-URL:https://www.cwf.ch
X-WR-CALDESC:Events for CWF Official Website
REFRESH-INTERVAL;VALUE=DURATION:PT1H
X-Robots-Tag:noindex
X-PUBLISHED-TTL:PT1H
BEGIN:VTIMEZONE
TZID:Europe/Zurich
BEGIN:DAYLIGHT
TZOFFSETFROM:+0100
TZOFFSETTO:+0200
TZNAME:CEST
DTSTART:20220327T010000
END:DAYLIGHT
BEGIN:STANDARD
TZOFFSETFROM:+0200
TZOFFSETTO:+0100
TZNAME:CET
DTSTART:20221030T010000
END:STANDARD
BEGIN:DAYLIGHT
TZOFFSETFROM:+0100
TZOFFSETTO:+0200
TZNAME:CEST
DTSTART:20230326T010000
END:DAYLIGHT
BEGIN:STANDARD
TZOFFSETFROM:+0200
TZOFFSETTO:+0100
TZNAME:CET
DTSTART:20231029T010000
END:STANDARD
BEGIN:DAYLIGHT
TZOFFSETFROM:+0100
TZOFFSETTO:+0200
TZNAME:CEST
DTSTART:20240331T010000
END:DAYLIGHT
BEGIN:STANDARD
TZOFFSETFROM:+0200
TZOFFSETTO:+0100
TZNAME:CET
DTSTART:20241027T010000
END:STANDARD
END:VTIMEZONE
BEGIN:VEVENT
DTSTART;TZID=Europe/Zurich:20231107T170000
DTEND;TZID=Europe/Zurich:20231107T173000
DTSTAMP:20260423T045108
CREATED:20231017T120331Z
LAST-MODIFIED:20231103T092214Z
UID:194262-1699376400-1699378200@www.cwf.ch
SUMMARY:CWF discovery for non-members online tour
DESCRIPTION:We will be online\, if you decide to join at the last minute\, you are welcome\nDear Potential Members\, \nYou are invited to our regular “CWF Discovery for non-members online tour” organised for non-members who would like to discover our association before attending one of our events open to non-members. \nThese sessions are meant to give you a better view of what you need to do to  become a member and what you would benefit from your membership. It will also be an opportunity to meet the Committee members. \nThis online event is proposed every three month\, alternatively in the morning or in the late afternoon (Zoom link below). \nFor organisational reasons\, we thank you for registering below\, but you can join at the last minute\, we will be online. \nWe are looking forward to meeting you\, \nKind regards\, \nThe CWF Committee \nInformation already on the website: Become a member \nSujet: CWF discovery for non-membres online tour\nHeure: 7 nov. 2023 17:00 Paris \nRejoindre Zoom Réunion\nhttps://us02web.zoom.us/j/81273643116?pwd=VEdFSFduUTB1V0UrbGR5SU01SlYzZz09 \nID de réunion: 812 7364 3116\nCode secret: 044693 \n 
URL:https://www.cwf.ch/event/cwf-discovery-for-non-membres-online-tour/
LOCATION:Visioconference
CATEGORIES:Virtual Event
ATTACH;FMTTYPE=image/jpeg:https://www.cwf.ch/wp-content/uploads/2023/10/discover-cwf.jpg
ORGANIZER;CN="CWF":MAILTO:administration@cwf.ch
END:VEVENT
BEGIN:VEVENT
DTSTART;VALUE=DATE:20231110
DTEND;VALUE=DATE:20231111
DTSTAMP:20260423T045108
CREATED:20230922T110009Z
LAST-MODIFIED:20231018T082805Z
UID:193916-1699574400-1699660799@www.cwf.ch
SUMMARY:Délai d'inscription pour la Course de l'Escalade - parcours Walking
DESCRIPTION:Intéressée à vous joindre au Comité du CWF  pour la traditionnelle Course de l’Escalade\, parcours Walking? Vos maris\, compagnons\, amis\, amies\, sont les bienvenus. \nLa course aura lieu le 2 décembre\, départ dès 19.00 de Veyrier\, arrivée au Parc des Bastions\, Genève (8.720 km)\nMerci de vous inscrire jusqu’au 10 novembre\, de manière à ce que nous puissions inscrire le TEAM CWF officiellement dans les délais (les crédits ne sont pas valables pour cette activité). \nLe Comité du CWF se charge de retirer les dossards pour le Team CWF et vous donne rendez-vous directement à Veyrier le 2 décembre à 18h. Une confirmation et un lieu de rendez-vous précis sera transmis aux participants quelques jours avant la course. \nPlus d’informations sur le site officiel de l’Escalade
URL:https://www.cwf.ch/event/delai-dinscription-pour-la-course-de-lescalade-parcours-walking-2/
LOCATION:Départ de la course walking\, Chemin des Rasses\, Veyrier\, Genève\, 1255\, Switzerland
CATEGORIES:Evening Events,Festive Events
ATTACH;FMTTYPE=image/jpeg:https://www.cwf.ch/wp-content/uploads/2023/07/Escalade2023.jpg
GEO:46.1660651;6.1781682
X-APPLE-STRUCTURED-LOCATION;VALUE=URI;X-ADDRESS=Départ de la course walking Chemin des Rasses Veyrier Genève 1255 Switzerland;X-APPLE-RADIUS=500;X-TITLE=Chemin des Rasses:geo:6.1781682,46.1660651
END:VEVENT
BEGIN:VEVENT
DTSTART;TZID=Europe/Zurich:20231113T183000
DTEND;TZID=Europe/Zurich:20231113T213000
DTSTAMP:20260423T045108
CREATED:20230909T105310Z
LAST-MODIFIED:20231031T094734Z
UID:193711-1699900200-1699911000@www.cwf.ch
SUMMARY:Une soirée avec Peggy Bouchet - Navigatrice\, Aventurière\, Conférencière\, Femme engagée
DESCRIPTION:Cet événement (conférence et cocktail) est ouvert à tous\, femmes et hommes.\n“Oser toujours\, Céder parfois\, Renoncer jamais”\nIngénieur financier dans un grand Groupe après des études de droit et gestion\, Peggy Bouchet devient à 25 ans\, par goût de l’Aventure\, la première femme à oser traverser l’Atlantique à la rame. Entrepreneure et conférencière connue et reconnue\, elle est intervenue récemment à la plénière du Women’s Forum à Paris. \nA 23 ans\, on lui reproche son manque d’expérience de la haute mer\, son jeune âge et le fait d’être une femme. A force de combativité\, d’efforts\, de sacrifices\, de courage et de pugnacité\, elle réussit avec son équipe\, à préparer cette belle aventure humaine. \nAprès 79 jours de mer\, avoir parcouru 5 500 km à bout de bras\, la veille de l’arrivée\, elle fait naufrage dans une mer démontée et reste pendant près de 9 heures en survie à califourchon sur la coque de son bateau retourné\, elle est sauvée in extremis. 18 mois plus tard\, elle recommence et c’est victorieuse qu’elle atteint la Martinique. \nPeggy met en avant les valeurs communes à l’Aventure et à l’Entreprise : audace\, résilience\, courage\, curiosité\, adaptabilité et prise de risques. \nEn plus de voir la vie en OSE\, c’est une femme engagée sur les sujets en lien avec l’inclusion\, l’accompagnement et l’engagement des jeunes porteurs de projets\, pour les aider à traverser « leur Atlantique ». \nPeggy est également Présidente/créatrice de l’Association « Enfants du Léman »\, qui a pour but de réaliser les rêves d’enfants atteints de lourdes pathologies à l’échelle locale (dans un périmètre compris autour du Lac Léman en France et en Suisse) \nSa devise : « Oser toujours\, Céder parfois\, Renoncer jamais ». \nCet événement (conférence et cocktail) est ouvert à tous\, femmes et hommes.\nProgramme:\n18.30-19.15 : accueil et cocktail dinatoire\n19.15-20.15 : présentation de l’invitée et conférence\n20.15-20.30 : Q&A\n20.30-21.00 : networking \n \n 
URL:https://www.cwf.ch/event/une-soiree-avec-peggy-bouchet-navigatrice-aventuriere-conferenciere/
LOCATION:Four Seasons Hotel des Bergues Geneva\, Quai des Bergues 33\, Genève\, Genève\, 1201\, Switzerland
CATEGORIES:Evening Events,Lunches
ATTACH;FMTTYPE=image/png:https://www.cwf.ch/wp-content/uploads/2023/09/Peggy-Bouchet3-1.png
ORGANIZER;CN="CWF":MAILTO:administration@cwf.ch
GEO:46.2070227;6.146962
X-APPLE-STRUCTURED-LOCATION;VALUE=URI;X-ADDRESS=Four Seasons Hotel des Bergues Geneva Quai des Bergues 33 Genève Genève 1201 Switzerland;X-APPLE-RADIUS=500;X-TITLE=Quai des Bergues 33:geo:6.146962,46.2070227
END:VEVENT
BEGIN:VEVENT
DTSTART;TZID=Europe/Zurich:20231120T180000
DTEND;TZID=Europe/Zurich:20231120T210000
DTSTAMP:20260423T045108
CREATED:20231024T142530Z
LAST-MODIFIED:20231117T145606Z
UID:194312-1700503200-1700514000@www.cwf.ch
SUMMARY:L’Art Oratoire : comment captiver et inspirer une audience ?
DESCRIPTION:Les secrets de l’art du pitch par 2 expertes & coachs TEDx \nCe workshop est complet\, si vous souhaitez vous inscrire sur la liste d’attente\,  merci d’envoyer un message à administration@cwf.ch\nProgramme:\n18.00-19.00 : accueil\, cocktail et networking\n19.00-21.00 : workshop\n21.00-21.30 : networking pour celles qui le souhaitent \nComment captiver votre audience dès les premières secondes ? Comment construire un pitch inspirant et mémorable qui retienne immédiatement l’attention ? Comment gérer votre stress et créer une véritable connexion avec le public ? \nQu’il s’agisse de prise de parole en public dans le monde professionnel\, le milieu associatif\, en réunion ou devant un auditoire\, la prise de parole en public est une compétence puissante et transversale (que ce soit pour défendre une idée\, partager une passion ou simplement s’exprimer clairement et avec confiance). \nPour certains\, prendre la parole en public est synonyme d’opportunité\, tandis que pour d’autres\, cela peut être source d’anxiété\, de peur et de stress. \nC’est pourquoi\, dans cet atelier animé par Bouchra Grich et Michèle Girardin\, deux expertes et coachs spécialisées dans les conférences TEDx*\, vous apprendrez comment transformer cette épreuve en une occasion d’expression de soi et de partage passionné. \nVous découvrirez comment formuler votre idée à la manière d’un TED Talk\, de la conception d’un pitch accrocheur à la création d’un discours captivant. Vous explorerez également les meilleures méthodes pour surmonter la peur de parler en public et gérer vos émotions afin d’optimiser votre prestation. \nVenez donc vous approprier les techniques qui ont contribué au succès des orateurs les plus charismatiques et convaincants. \nAu programme : \n• Introduction aux concepts TED Talks et TEDx.\n• Transformation d’une idée simple en un discours puissant : développement et structuration de votre pensée selon les méthodes TED & TEDx.\n• Captivation de l’audience dès les premières secondes et construction d’un pitch inspirant et mémorable.\n• Tissage d’un lien unique avec l’auditoire et création d’une connexion authentique pour partager votre passion.\n• Gestion du stress \nVous repartirez avec : \n• Acquisition de techniques pour élaborer un pitch impactant.\n• Apprentissage de méthodes éprouvées pour garantir le succès de votre présentation.\n• Compréhension approfondie de la peur de parler en public et découverte de techniques efficaces pour la surmonter. \nVous serez probablement très surpris(e)s de découvrir ce qui se cache derrière votre manière de vous exprimer en public et la façon dont cette dernière peut être un véritable levier de développement personnel et professionnel \nRejoignez-nous le 20.11.2023 sur la scène de ce workshop inédit\, passionnant et très convivial avec 2 speakers d’exception\, authentiques et très sympathiques. \nChaleureusement\, \nLe Comité du Career Women’s Forum \nCet événement est ouvert à tous\, femmes et hommes\n*Qu’est ce qu’une conférence TED ou TEDx ? Elle se distingue par sa puissance évocatrice et sa capacité à susciter la réflexion.Bien plus qu’une simple narration d’histoires personnelles ou une conférence traditionnelle\, un discours TEDx pose des questions pertinentes\, mettant en lumière des problèmes cruciaux.Il ne se contente pas de souligner ces problématiques\, mais propose également des solutions innovantes\, tout en stimulant la curiosité des auditeurs. \n\n\n\n\n\n\n\nTEDx in Geneva\, Switzerland\n\n\n\n\n\n\n\n\nSpeakers :\nBouchra Grich\nMentore TEDx & Coach | Experte en organisation d’événements professionnels I Formatrice certifiée NYU\ncontact@bouchragrich.com\n+41798188283\nwww.tedxgeneva.net\nlinkedin.com/in/bouchragrich \nMichèle Girardin\nExperte coach en développement personnel -TEDx Coach – praticienne Access Bars® & Coach de vie certifiée ICF\ncoachbymichele@gmail.com\n+41787136735\nwww.coachdeviebymichele.ch\nlinkedin.com/in/michèlegirardin \n  \n 
URL:https://www.cwf.ch/event/lart-oratoire-comment-captiver-et-inspirer-une-audience/
LOCATION:Four Seasons Hotel des Bergues Geneva\, Quai des Bergues 33\, Genève\, Genève\, 1201\, Switzerland
CATEGORIES:Workshops
ATTACH;FMTTYPE=image/jpeg:https://www.cwf.ch/wp-content/uploads/2023/10/ArtOratoire20nov2023-square.jpeg
ORGANIZER;CN="CWF":MAILTO:administration@cwf.ch
GEO:46.2070227;6.146962
X-APPLE-STRUCTURED-LOCATION;VALUE=URI;X-ADDRESS=Four Seasons Hotel des Bergues Geneva Quai des Bergues 33 Genève Genève 1201 Switzerland;X-APPLE-RADIUS=500;X-TITLE=Quai des Bergues 33:geo:6.146962,46.2070227
END:VEVENT
BEGIN:VEVENT
DTSTART;TZID=Europe/Zurich:20231128T170000
DTEND;TZID=Europe/Zurich:20231128T174500
DTSTAMP:20260423T045108
CREATED:20230927T082331Z
LAST-MODIFIED:20231127T130333Z
UID:194020-1701190800-1701193500@www.cwf.ch
SUMMARY:November Onboarding Session for CWF members
DESCRIPTION:Our onboarding sessions are open to CWF members only \nDear Members\, \nYou are invited to our regular “Onboarding sessions” organised for our new members. \nThese sessions are meant to give you a better understanding of what you can benefit from your membership\, either if you are a new member or if you need a refresh! This is also an opportunity to meet the Committee\, ask questions and make suggestions. \nThis online event is proposed once a month\, alternatively in the morning or in the late afternoon (Zoom link below). \nThe 2024 Onboarding Sessions will soon be scheduled. \nWe are looking forward to this informal moment with you 🙂 \nKind regards\, \nThe CWF Committee \nCareer Women’s Forum CWF vous invite à une réunion Zoom planifiée. \nSujet: Onboarding Session November\nHeure: 28 nov. 2023 17:00 Paris \nRejoindre Zoom Réunion\nhttps://us02web.zoom.us/j/85963108298?pwd=MERWY042eUFmZGVHc1pDS2pEVXhoQT09 \nID de réunion: 859 6310 8298\nCode secret: 553444
URL:https://www.cwf.ch/event/november-onboarding-session-for-cwf-members/
LOCATION:Visioconference
CATEGORIES:Onboarding
ATTACH;FMTTYPE=image/jpeg:https://www.cwf.ch/wp-content/uploads/2023/09/WelcomeOnBoard.jpg
ORGANIZER;CN="CWF":MAILTO:administration@cwf.ch
END:VEVENT
END:VCALENDAR