BEGIN:VCALENDAR
VERSION:2.0
PRODID:-//CWF Official Website - ECPv6.15.17.1//NONSGML v1.0//EN
CALSCALE:GREGORIAN
METHOD:PUBLISH
X-WR-CALNAME:CWF Official Website
X-ORIGINAL-URL:https://www.cwf.ch
X-WR-CALDESC:Events for CWF Official Website
REFRESH-INTERVAL;VALUE=DURATION:PT1H
X-Robots-Tag:noindex
X-PUBLISHED-TTL:PT1H
BEGIN:VTIMEZONE
TZID:Europe/Zurich
BEGIN:DAYLIGHT
TZOFFSETFROM:+0100
TZOFFSETTO:+0200
TZNAME:CEST
DTSTART:20220327T010000
END:DAYLIGHT
BEGIN:STANDARD
TZOFFSETFROM:+0200
TZOFFSETTO:+0100
TZNAME:CET
DTSTART:20221030T010000
END:STANDARD
BEGIN:DAYLIGHT
TZOFFSETFROM:+0100
TZOFFSETTO:+0200
TZNAME:CEST
DTSTART:20230326T010000
END:DAYLIGHT
BEGIN:STANDARD
TZOFFSETFROM:+0200
TZOFFSETTO:+0100
TZNAME:CET
DTSTART:20231029T010000
END:STANDARD
BEGIN:DAYLIGHT
TZOFFSETFROM:+0100
TZOFFSETTO:+0200
TZNAME:CEST
DTSTART:20240331T010000
END:DAYLIGHT
BEGIN:STANDARD
TZOFFSETFROM:+0200
TZOFFSETTO:+0100
TZNAME:CET
DTSTART:20241027T010000
END:STANDARD
END:VTIMEZONE
BEGIN:VEVENT
DTSTART;TZID=Europe/Zurich:20231003T080000
DTEND;TZID=Europe/Zurich:20231003T100000
DTSTAMP:20260423T061934
CREATED:20230823T134530Z
LAST-MODIFIED:20230926T090932Z
UID:193208-1696320000-1696327200@www.cwf.ch
SUMMARY:Corporate Breakfast at DuPont
DESCRIPTION:This event is open to CWF members only\nDear Members\, \nCWF Corporate Partner DuPont is delighted to invite you to a special breakfast session! \nThe event will witness the presence of Alexa Dembek\, the Chief Technology Officer and Sustainability Officer of DuPont\, who is a shining example of a female role model. She will share her insights on the latest advancements in sustainability\, diversity\, and innovation achievements of DuPont. As an added highlight\, you will get a chance to witness a life burn test on a high-tech garment\, offering you a first-hand opportunity to see the power of innovation. \nWe hope to see you there for this educational and networking opportunity. \nThe event will start at 8am and adjourn at 10am. \nWe welcome all CWF members\, individual members\, corporate members and employees\, including men and women\, to participate in this event.\nDue to limited places and DuPont generously offering CWF members a breakfast\, out of respect for our corporate member we will charge 20.- to registered members who do not show up on the day of the event.\n \nNumber of seats: 30 (first come\, first served) – \nRegistration deadline: September 27\, 2023
URL:https://www.cwf.ch/event/corporate-breakfast-at-dupont/
LOCATION:DuPont\, Route du Nant-d'Avril 154\, Meyrin\, Genève\, 1217\, Switzerland
CATEGORIES:Breakfasts,Corporate Members' Events
ATTACH;FMTTYPE=image/png:https://www.cwf.ch/wp-content/uploads/2023/08/Thermo-man-Dupont.png
ORGANIZER;CN="CWF":MAILTO:administration@cwf.ch
GEO:46.227;6.0569129
X-APPLE-STRUCTURED-LOCATION;VALUE=URI;X-ADDRESS=DuPont Route du Nant-d'Avril 154 Meyrin Genève 1217 Switzerland;X-APPLE-RADIUS=500;X-TITLE=Route du Nant-d'Avril 154:geo:6.0569129,46.227
END:VEVENT
BEGIN:VEVENT
DTSTART;TZID=Europe/Zurich:20231009T114500
DTEND;TZID=Europe/Zurich:20231009T140000
DTSTAMP:20260423T061934
CREATED:20230328T094853Z
LAST-MODIFIED:20231003T082549Z
UID:190923-1696851900-1696860000@www.cwf.ch
SUMMARY:Déjeuner WOBs : Rencontre avec Céline Richa - Board member\, entrepreneure\, experte en droit fiscal et ultra-marathonienne
DESCRIPTION:Comme tous les événements WOBs\, ce déjeuner est ouvert à tous\, femmes et hommes. \nDans le cadre de l’initiative « Women on Boards »\, nous sommes ravies de vous accueillir aux côtés de Céline Richa pour un partage autour de la gouvernance d’entreprise\, du rôle d’administratrice et de cheffe d’entreprise. \nComme nous pouvons le retrouver dans le parcours de Céline Richa\, experte fiscale diplômée et réviseur agréée ASR\, de nombreuses compétences\, outre celles purement techniques\, sont à développer pour atteindre et contribuer à la gouvernance d’entreprise. \n\nQuelles sont ces compétences ?\nComment contribuer efficacement en apportant son expertise au sein d’un comité ?\nQuels sont les besoins des dirigeants d’entreprises et comment les accompagner au mieux au sein d’un Board ?\nComment trouver son équilibre avec des rôles professionnels et personnels multiples?\n\nCéline Richa\, associée chez Richa & Partners S.A\, bénéficie d’une expérience professionnelle de 24 ans\, dont 15 ans dans l’investissement et la gestion de fortune. Céline a débuté sa carrière chez Arthur Andersen & Co en 1997\, se spécialisant dans la gestion des risques financiers et l’audit de portefeuilles de produits dérivés pour des clients basés à Paris\, Zurich\, Londres et Genève. Elle a ensuite rejoint la banque Lombard Odier & Cie\, où elle a occupé différents rôles\, y compris la gestion de la gamme de fonds “matières premières”. \nDepuis 2012\, Céline exerce avec succès dans son propre bureau. Elle a fondé Richa & Partners S.A.\, où elle met à profit son expertise en droit fiscal et en expertises financières pour accompagner ses clients dans une optique de transmission d’entreprise. \nSon parcours entrepreneurial est un exemple de réussite\, d’autonomie professionnelle et de réalisation personnelle. \nNous reviendrons ainsi le temps du déjeuner sur les différentes étapes de son parcours\, son expertise en termes d’entreprenariat et d’administration d’entreprise\, ses challenges et ses sources de motivation. \nNous nous réjouissons de vous retrouver nombreuses et nombreux pour ce déjeuner riche de partages et d’inspiration.
URL:https://www.cwf.ch/event/dejeuner-avec-celine-richa/
LOCATION:Four Seasons Hotel des Bergues Geneva\, Quai des Bergues 33\, Genève\, Genève\, 1201\, Switzerland
CATEGORIES:Lunches,Women on Boards
ATTACH;FMTTYPE=image/jpeg:https://www.cwf.ch/wp-content/uploads/2023/03/Celiine-Richa.jpg
ORGANIZER;CN="CWF":MAILTO:administration@cwf.ch
GEO:46.2070227;6.146962
X-APPLE-STRUCTURED-LOCATION;VALUE=URI;X-ADDRESS=Four Seasons Hotel des Bergues Geneva Quai des Bergues 33 Genève Genève 1201 Switzerland;X-APPLE-RADIUS=500;X-TITLE=Quai des Bergues 33:geo:6.146962,46.2070227
END:VEVENT
BEGIN:VEVENT
DTSTART;TZID=Europe/Zurich:20231017T180000
DTEND;TZID=Europe/Zurich:20231017T200000
DTSTAMP:20260423T061934
CREATED:20231017T145341Z
LAST-MODIFIED:20240611T083857Z
UID:193909-1697565600-1697572800@www.cwf.ch
SUMMARY:Afterwork Mentoring-Mastermind
DESCRIPTION:This event is open ONLY to participants in the CWF mentoring and mastermind programs \nDear Mentors and Mentees of the CWF mentoring program\,\nDear participants in the Mastermind program\, \nAs we regularly do during the year\, we would like to invite you to share a moment of networking and face-to-face exchange with the other members involved in the CWF mentoring and mastermind programs. \nPlease come and join us at the Hotel N’vy: a warm and modern place in the center of Geneva\, where we can share experiences\, questions\, ideas… around a light collation. \nFor organisational reasons\, we thank you for registering below.
URL:https://www.cwf.ch/event/afterwork-mentoring-mastermind-2/
LOCATION:Hotel N’vy Geneva\, Rue de Richemont 18\, Genève\, Genève\, 1202\, Switzerland
CATEGORIES:AfterWork,Co-development,Mastermind
ATTACH;FMTTYPE=image/jpeg:https://www.cwf.ch/wp-content/uploads/2021/11/Mentoring-event-1.jpg
ORGANIZER;CN="CWF":MAILTO:administration@cwf.ch
GEO:46.2154761;6.1486893
X-APPLE-STRUCTURED-LOCATION;VALUE=URI;X-ADDRESS=Hotel N’vy Geneva Rue de Richemont 18 Genève Genève 1202 Switzerland;X-APPLE-RADIUS=500;X-TITLE=Rue de Richemont 18:geo:6.1486893,46.2154761
END:VEVENT
BEGIN:VEVENT
DTSTART;TZID=Europe/Zurich:20231031T083000
DTEND;TZID=Europe/Zurich:20231031T091500
DTSTAMP:20260423T061934
CREATED:20230906T165159Z
LAST-MODIFIED:20231031T075252Z
UID:193668-1698741000-1698743700@www.cwf.ch
SUMMARY:October Onboarding session for CWF members
DESCRIPTION:Our onboarding sessions are open to CWF members only \nDear Members\, \nYou are invited to our regular “Onboarding sessions” organised for our new members. \nThese sessions are meant to give you a better understanding of what you can benefit from your membership\, either if you are a new member or if you need a refresh! This is also an opportunity to meet the Committee\, ask questions and make suggestions. \nThis online event is proposed once a month\, alternatively in the morning or in the late afternoon (Zoom link below). \nOther scheduled session: November 28\, 2023 – 5pm \nWe are looking forward to this informal moment with you 🙂 \nKind regards\, \nThe CWF Committee \n  \nSujet: Onboarding Session October 2023\nHeure: 31 oct. 2023 08:30 Paris \nRejoindre Zoom Réunion\nhttps://us02web.zoom.us/j/83188519273?pwd=NXlYbGVmTHlrNlk5dE5RUU9tWnIxQT09 \nID de réunion: 831 8851 9273\nCode secret: 067180 \n 
URL:https://www.cwf.ch/event/october-onboarding-session-for-cwf-members/
LOCATION:Visioconference
CATEGORIES:Onboarding,Virtual Event
ATTACH;FMTTYPE=image/jpeg:https://www.cwf.ch/wp-content/uploads/2023/09/WelcomeOnBoard.jpg
ORGANIZER;CN="CWF":MAILTO:administration@cwf.ch
END:VEVENT
END:VCALENDAR