BEGIN:VCALENDAR
VERSION:2.0
PRODID:-//CWF Official Website - ECPv6.15.17.1//NONSGML v1.0//EN
CALSCALE:GREGORIAN
METHOD:PUBLISH
X-WR-CALNAME:CWF Official Website
X-ORIGINAL-URL:https://www.cwf.ch
X-WR-CALDESC:Events for CWF Official Website
REFRESH-INTERVAL;VALUE=DURATION:PT1H
X-Robots-Tag:noindex
X-PUBLISHED-TTL:PT1H
BEGIN:VTIMEZONE
TZID:Europe/Zurich
BEGIN:DAYLIGHT
TZOFFSETFROM:+0100
TZOFFSETTO:+0200
TZNAME:CEST
DTSTART:20220327T010000
END:DAYLIGHT
BEGIN:STANDARD
TZOFFSETFROM:+0200
TZOFFSETTO:+0100
TZNAME:CET
DTSTART:20221030T010000
END:STANDARD
BEGIN:DAYLIGHT
TZOFFSETFROM:+0100
TZOFFSETTO:+0200
TZNAME:CEST
DTSTART:20230326T010000
END:DAYLIGHT
BEGIN:STANDARD
TZOFFSETFROM:+0200
TZOFFSETTO:+0100
TZNAME:CET
DTSTART:20231029T010000
END:STANDARD
BEGIN:DAYLIGHT
TZOFFSETFROM:+0100
TZOFFSETTO:+0200
TZNAME:CEST
DTSTART:20240331T010000
END:DAYLIGHT
BEGIN:STANDARD
TZOFFSETFROM:+0200
TZOFFSETTO:+0100
TZNAME:CET
DTSTART:20241027T010000
END:STANDARD
END:VTIMEZONE
BEGIN:VEVENT
DTSTART;TZID=Europe/Zurich:20230612T114500
DTEND;TZID=Europe/Zurich:20230612T140000
DTSTAMP:20260425T183138
CREATED:20230202T091137Z
LAST-MODIFIED:20230516T150713Z
UID:189818-1686570300-1686578400@www.cwf.ch
SUMMARY:Anne Marion-Bouchacourt - Echanges & partages d’expériences
DESCRIPTION:Comme c’est la tradition pour les événements WOB\, ce déjeuner est ouvert à tous\, femmes et hommes \nDans le cadre de l’initiative Women on Board\, nous vous proposons de découvrir le parcours d’Anne Marion-Bouchacourt\, Responsable Pays du groupe Société Générale en Suisse. \nDepuis février 2019\, Anne Marion-Bouchacourt exerce différentes hautes responsabilités : \n\nResponsable Pays du groupe Société Générale en Suisse.\nPrésidente du Conseil d’administration de Société Générale Private Banking Suisse.\nCEO de Société Générale Corporate & Investment Banking Suisse.\n\nUne très belle évolution depuis ses débuts au sein du groupe Société Générale en 2004 en tant que Directrice des Ressources Humaines de Société Générale Corporate and Investment Banking. \nCe moment d’échange nous permettra de découvrir le parcours brillant et inspirant d’Anne Marion-Bouchacourt. Quels ont été ses défis et ses plus belles réussites ? Quels sont ses projets et son ambition à ce stade de sa carrière ? Quelles sont ses conseils pour les femmes évoluant dans un monde du travail en pleine mutation ? \nUn déjeuner riche en apprentissage et dans le partage d’expériences. Nous vous y attendons nombreuses et nombreux.
URL:https://www.cwf.ch/event/anne-marion-bouchacourt-echanges-partages-dexperiences/
LOCATION:Four Seasons Hotel des Bergues Geneva\, Quai des Bergues 33\, Genève\, Genève\, 1201\, Switzerland
CATEGORIES:Lunches,Women on Boards
ATTACH;FMTTYPE=image/jpeg:https://www.cwf.ch/wp-content/uploads/2023/02/Anne_Marion-Bouchacourt.jpg
ORGANIZER;CN="CWF":MAILTO:administration@cwf.ch
GEO:46.2070227;6.146962
X-APPLE-STRUCTURED-LOCATION;VALUE=URI;X-ADDRESS=Four Seasons Hotel des Bergues Geneva Quai des Bergues 33 Genève Genève 1201 Switzerland;X-APPLE-RADIUS=500;X-TITLE=Quai des Bergues 33:geo:6.146962,46.2070227
END:VEVENT
BEGIN:VEVENT
DTSTART;TZID=Europe/Zurich:20230615T180000
DTEND;TZID=Europe/Zurich:20230615T200000
DTSTAMP:20260425T183138
CREATED:20230328T091214Z
LAST-MODIFIED:20230531T124557Z
UID:190918-1686852000-1686859200@www.cwf.ch
SUMMARY:Afterwork Mentoring-Mastermind
DESCRIPTION:This event is open ONLY to participants in the CWF mentoring and mastermind programs \nDear Mentors and Mentees of the CWF mentoring programs\,\nDear participants in the Mastermind program\, \nAs we regularly do during the year\, we would like to invite you to share a moment of networking and face-to-face exchange with the other pairs involved at different stages in the programs. For this session will will also invite the partitipants involved in the new Mastermind program. \nPlease come and join us at the Hotel Jade: a quiet inside terrace in the center of Geneva\, where can share experiences\, questions\, ideas… around a light collation. \nFor organisational reasons\, we thank you for registering below.
URL:https://www.cwf.ch/event/afterwork-mentoring-mastermind/
LOCATION:Hotel Jade\, Rue Rothschild 55\, Genève\, Genève\, 1202\, Switzerland
CATEGORIES:AfterWork,Co-development,Mastermind
ATTACH;FMTTYPE=image/jpeg:https://www.cwf.ch/wp-content/uploads/2022/09/Mentoring-Carosello-05.07.2022.jpg
ORGANIZER;CN="CWF":MAILTO:administration@cwf.ch
GEO:46.2153018;6.1476392
X-APPLE-STRUCTURED-LOCATION;VALUE=URI;X-ADDRESS=Hotel Jade Rue Rothschild 55 Genève Genève 1202 Switzerland;X-APPLE-RADIUS=500;X-TITLE=Rue Rothschild 55:geo:6.1476392,46.2153018
END:VEVENT
BEGIN:VEVENT
DTSTART;TZID=Europe/Zurich:20230622T170000
DTEND;TZID=Europe/Zurich:20230622T174500
DTSTAMP:20260425T183138
CREATED:20230428T134644Z
LAST-MODIFIED:20230616T082644Z
UID:191611-1687453200-1687455900@www.cwf.ch
SUMMARY:June Onboarding session for CWF members
DESCRIPTION:Dear Members\, \nYou are invited to our regular “Onboarding sessions” organised for our new members. \nThese sessions are meant to give you a better understanding of what you can benefit from your membership\, either if you are a new member or if you need a refresh! This is also an opportunity to meet the Committee\, ask questions and make suggestions. \nThis online event is proposed once a month\, alternatively in the morning or in the late afternoon (Zoom link below). \nOther scheduled session: August 31\, 2023 – 8.30am \nWe are looking forward to this informal moment with you 🙂 \nKind regards\, \nThe CWF Committee \n  \nSujet : Onboarding Session June 2023\nHeure : 22 juin 2023 17:00 Paris \nParticiper à la réunion Zoom\nhttps://us02web.zoom.us/j/89305850964?pwd=T3VkdC9sV3l1bmxOTmJKbTBobEZtdz09 \nID de réunion : 893 0585 0964\nCode secret : 659371
URL:https://www.cwf.ch/event/june-onboarding-session-for-cwf-members/
LOCATION:Visioconference
CATEGORIES:Virtual Event
ATTACH;FMTTYPE=image/png:https://www.cwf.ch/wp-content/uploads/2023/02/Onboarding-sessions.png
ORGANIZER;CN="CWF":MAILTO:administration@cwf.ch
END:VEVENT
BEGIN:VEVENT
DTSTART;TZID=Europe/Zurich:20230626T173000
DTEND;TZID=Europe/Zurich:20230626T181500
DTSTAMP:20260425T183138
CREATED:20230606T105453Z
LAST-MODIFIED:20230626T091703Z
UID:192578-1687800600-1687803300@www.cwf.ch
SUMMARY:Mastermind Program - Online information session
DESCRIPTION:We are delighted to launch the second session of our new members’ only program to help you thrive\, wherever you are in your career path: the MASTERMIND GROUPS. \nWHAT IS A MASTERMIND GROUP? \nA mastermind group is a peer-to-peer mentoring group used to help members solve their problems with input and advice from the other group members. In a group of 5-6 women\, the self-organised group meets every 4 to 6 weeks for around 2h\, to brainstorm on their current challenges. \nIt is basically a very powerful co-development opportunity\, from which you gain high motivation and more alignment in the process. \nFor more information\, we are proposing a 45 minutes online to any member interested in learning about this new program before applying\, for a short presentation + Q&A. \nFull information about the program \nFor organisational reasons\, please register below. \nYou can already register for this new program by filling this form (Deadline: July 31st) \nLink to join the visioconference \nSujet : Mastermind Program – Online information session\nHeure : 26 juin 2023 17:30 Paris \nParticiper à la réunion Zoom\nhttps://us02web.zoom.us/j/86545404647?pwd=blgxejNSTllxUlhvWmJEU3dOR1hjUT09 \nID de réunion : 865 4540 4647\nCode secret : 977127 \n 
URL:https://www.cwf.ch/event/mastermind-program-online-information-session/
LOCATION:Visioconference
CATEGORIES:Mastermind,Virtual Event
ATTACH;FMTTYPE=image/png:https://www.cwf.ch/wp-content/uploads/2022/05/Mastermind.png
ORGANIZER;CN="CWF":MAILTO:administration@cwf.ch
END:VEVENT
END:VCALENDAR