BEGIN:VCALENDAR
VERSION:2.0
PRODID:-//CWF Official Website - ECPv6.15.17.1//NONSGML v1.0//EN
CALSCALE:GREGORIAN
METHOD:PUBLISH
X-WR-CALNAME:CWF Official Website
X-ORIGINAL-URL:https://www.cwf.ch
X-WR-CALDESC:Events for CWF Official Website
REFRESH-INTERVAL;VALUE=DURATION:PT1H
X-Robots-Tag:noindex
X-PUBLISHED-TTL:PT1H
BEGIN:VTIMEZONE
TZID:Europe/Zurich
BEGIN:DAYLIGHT
TZOFFSETFROM:+0100
TZOFFSETTO:+0200
TZNAME:CEST
DTSTART:20220327T010000
END:DAYLIGHT
BEGIN:STANDARD
TZOFFSETFROM:+0200
TZOFFSETTO:+0100
TZNAME:CET
DTSTART:20221030T010000
END:STANDARD
BEGIN:DAYLIGHT
TZOFFSETFROM:+0100
TZOFFSETTO:+0200
TZNAME:CEST
DTSTART:20230326T010000
END:DAYLIGHT
BEGIN:STANDARD
TZOFFSETFROM:+0200
TZOFFSETTO:+0100
TZNAME:CET
DTSTART:20231029T010000
END:STANDARD
BEGIN:DAYLIGHT
TZOFFSETFROM:+0100
TZOFFSETTO:+0200
TZNAME:CEST
DTSTART:20240331T010000
END:DAYLIGHT
BEGIN:STANDARD
TZOFFSETFROM:+0200
TZOFFSETTO:+0100
TZNAME:CET
DTSTART:20241027T010000
END:STANDARD
END:VTIMEZONE
BEGIN:VEVENT
DTSTART;TZID=Europe/Zurich:20230302T180000
DTEND;TZID=Europe/Zurich:20230302T203000
DTSTAMP:20260425T232441
CREATED:20221220T115044Z
LAST-MODIFIED:20230228T120005Z
UID:189229-1677780000-1677789000@www.cwf.ch
SUMMARY:Rencontre avec Diane Barbier-Mueller: L’alliance et l’ambition de tous les possibles
DESCRIPTION:Cet événement est complet. Si vous souhaitez être sur la liste d’attente\, merci d’envoyer un message à l’adresse administration@cwf.ch.\n \nDans le cadre de l’initiative Women on Board\, nous vous proposons le temps d’un afterwork un entretien privilégié avec Diane Barbier-Mueller au sein du musée familial du même nom. \nDiane Barbier-Mueller exerce déjà à moins de 35 ans différentes hautes responsabilités en tant qu’administratrice de la régie genevoise Pilet-Renaud mais également en tant que députée au Grand Conseil. Passionnée par l’Art\, la littérature et l’Histoire des grandes civilisations\, Diane s’investit avec brillance et innovation dans l’ensemble de ces domaines. \nFéministe engagée\, Diane contribue de manière active à transmettre et promouvoir ses idées d’une société égalitaire et paritaire. Une organisation minutieuse lui permet ainsi d’allier ses différentes fonctions avec brio au niveau politique\, entrepreneurial\, associatif et dans sa sphère privée. \nEn parallèle avec sa carrière politique\, Diane est membre de différents conseils de fondation et associations: elle fait partie notamment de la Chambre Genevoise Immobilière et de l’association des Amis de la Fondation Bodmer. Diane nous parlera de la conciliation de tous les possibles qui constitue son parcours jusqu’à ce jour. \nComment a-t-elle su définir et incarner sa vision au sein du monde entrepreneurial privé\, associatif et politique ? Comment concilier ses passions et projets pour un impact durable ? Quelles sont les clés d’une ambition assumée et positive ? \nDiane pourra nous donner quelques pistes de réflexions à travers son parcours sur-mesure et ses projets pour l’avenir. \nUne rencontre privilégiée et haute gamme pour une source unique d’inspiration et dans un cadre tout à fait atypique. \nAu préalable de cet afterwork\, une visite privée et commentée de l’exposition actuelle du Musée Barbier-Mueller  « Pensées invisibles » (Le musée Barbier-Mueller\, Arik Levy & Zoé Ouvrier) est proposée aux participants qui le désirent. La visite guidée est complète.\n \nProgramme: \n\n17.30-18.00: Visite guidée (20 participants) – gratuite\, mais ouverte uniquement aux participants au cocktail – Complète\n18.15-18.30: Accueil Cocktail\n18.30-20.30: Présentation Diane Barbier-Mueller et cocktail dînatoire
URL:https://www.cwf.ch/event/afterwork-avec-diane-barbier-mueller/
LOCATION:Musée Barbier Mueller\, Rue Jean-Calvin 10\, Genève\, Genève\, 1205\, Switzerland
CATEGORIES:AfterWork,Women on Boards
ATTACH;FMTTYPE=image/jpeg:https://www.cwf.ch/wp-content/uploads/2022/12/DBM-wob-1.jpg
ORGANIZER;CN="CWF":MAILTO:administration@cwf.ch
GEO:46.2021894;6.1470392
X-APPLE-STRUCTURED-LOCATION;VALUE=URI;X-ADDRESS=Musée Barbier Mueller Rue Jean-Calvin 10 Genève Genève 1205 Switzerland;X-APPLE-RADIUS=500;X-TITLE=Rue Jean-Calvin 10:geo:6.1470392,46.2021894
END:VEVENT
BEGIN:VEVENT
DTSTART;TZID=Europe/Zurich:20230306T180000
DTEND;TZID=Europe/Zurich:20230306T200000
DTSTAMP:20260425T232441
CREATED:20230221T080102Z
LAST-MODIFIED:20230227T105639Z
UID:190263-1678125600-1678132800@www.cwf.ch
SUMMARY:Afterwork CWF-IMD Journée Internationale des Femmes
DESCRIPTION:Cet événement est inclusif\, ouvert aux femmes et aux hommes. \nLe Career Women’s Forum et le Geneva IMD Alumni Club ont le plaisir de célébrer\, en avant-première\, la Journée Internationale des Femmes avec leurs membres respectifs. \nPour l’occasion nous accueillerons Andrea Delannoy\, fondatrice et présidente de MOD-ELLE. Elle partagera diverses expériences vécues dans le cadre de son association pour illustrer le thème IWD de l’année « Adopter l’équité » et lancer la discussion sur la différence entre « Egalité » et « Equité ». Comment et pourquoi passe-t-on de la recherche de l’égalité à la recherche de l’équité ? Quelles sont les conséquences lorsque on applique ces concepts à la réalité ? \nCe partenariat CWF-IMD sera aussi une belle occasion pour nos deux associations de mieux connaître les activités et les actions de l’une et de l’autre. \nVenez nombreux avec vos partenaires\, ami(e)s\, collègues : nous vous attendons pour ce moment de réseautage et vous accueillerons autour d’un apéritif dans le cadre magnifique du Parc des Eaux-Vives. \nLes comités du CWF et du Geneva IMD Alumni Club
URL:https://www.cwf.ch/event/afterwork-cwf-imd-journee-internationale-des-femmes/
LOCATION:Parc des Eaux-Vives\, Quai Gustave-Ador 82\, Genève\, Genève\, 1207\, Switzerland
CATEGORIES:AfterWork,Festive Events
ATTACH;FMTTYPE=image/jpeg:https://www.cwf.ch/wp-content/uploads/2023/02/IWD-CWF-IMD-2.jpg
GEO:46.207693;6.1693593
X-APPLE-STRUCTURED-LOCATION;VALUE=URI;X-ADDRESS=Parc des Eaux-Vives Quai Gustave-Ador 82 Genève Genève 1207 Switzerland;X-APPLE-RADIUS=500;X-TITLE=Quai Gustave-Ador 82:geo:6.1693593,46.207693
END:VEVENT
BEGIN:VEVENT
DTSTART;TZID=Europe/Zurich:20230313T114500
DTEND;TZID=Europe/Zurich:20230313T140000
DTSTAMP:20260425T232441
CREATED:20230110T125815Z
LAST-MODIFIED:20230310T114608Z
UID:189533-1678707900-1678716000@www.cwf.ch
SUMMARY:Babette Keller Liechti : Les nouveaux gestes pour notre planète
DESCRIPTION:Cet événement est complet. Si vous souhaitez être placée sur la liste d’attente\, merci d’envoyer un message à administration@cwf.ch. \nEntrepreneure visionnaire\, connue notamment pour sa grande expertise dans le domaine de la microfibre\, Babette Keller Liechti fournit depuis trois décennies les plus grandes maisons du Luxe\, notamment celles actives dans les domaines très exigeants de la haute horlogerie suisse et de la bijouterie. \nLauréate en 2009 du Prix Veuve Clicquot de la Femme d’Affaire Suisse\, elle ne cesse de développer des gammes de nouveaux produits qui se révèlent vite incontournables : du gant démaquillant à l’eau\, qui remplace 3000 rondelles de coton\, aux masques de protection en fibre d’argent antimicrobiens\, anti-UV et antiallergènes\, développés en pleine pandémie Covid-19. Innovants\, pratiques\, mais avant tout durables\, face à un constat écologique planétaire dramatique. \nSi l’environnement est une priorité urgente selon Babette\, le respect des femmes et des enfants est celui qu’elle souhaite léguer à ses enfants et petits-enfants. Son crédo : Il n’y a que les femmes\, pour venir en aide aux femmes !  \nLe temps d’un déjeuner\, Babette Keller-Liechti nous partagera sa vision de femme engagée\, ses rêves devenus réalité et ceux qui n’ont pas vu le jour\, ses combats et sa mission. Déplorant la faible représentation des femmes dans les hautes instances économiques et entrepreneuriales\, elle appelle à s’allier\, partager et débattre pour innover\, s’améliorer\, s’entraider\, changer ou corriger notre comportement\, afin d’apporter de nouveaux éclairages au service de notre planète\, de l’humanité. \n 
URL:https://www.cwf.ch/event/dejeuner-mensuel-mars/
LOCATION:Four Seasons Hotel des Bergues Geneva\, Quai des Bergues 33\, Genève\, Genève\, 1201\, Switzerland
CATEGORIES:Lunches
ATTACH;FMTTYPE=image/jpeg:https://www.cwf.ch/wp-content/uploads/2023/01/Babette_Keller-Liechti-e1676395654145.jpeg
ORGANIZER;CN="CWF":MAILTO:administration@cwf.ch
GEO:46.2070227;6.146962
X-APPLE-STRUCTURED-LOCATION;VALUE=URI;X-ADDRESS=Four Seasons Hotel des Bergues Geneva Quai des Bergues 33 Genève Genève 1201 Switzerland;X-APPLE-RADIUS=500;X-TITLE=Quai des Bergues 33:geo:6.146962,46.2070227
END:VEVENT
BEGIN:VEVENT
DTSTART;TZID=Europe/Zurich:20230316T180000
DTEND;TZID=Europe/Zurich:20230316T203000
DTSTAMP:20260425T232441
CREATED:20230126T145535Z
LAST-MODIFIED:20230206T093046Z
UID:189724-1678989600-1678998600@www.cwf.ch
SUMMARY:Making Diversity Work - CWF Meet up
DESCRIPTION:Dear CWF Members and Corporate Members\, \nWe are pleased to invite you to a CWF Meet Up at our Corteva Agriscience Headquarters in Versoix. \nJoin us for an interactive discussion on Inclusion\, Diversity and Equity in the workplace\, with a focus on Employees Resource Groups. Gabrielle Landry Chappuis from Human Impact 5 will lead us through a ‘Step un and Speak up’ exercise. \nWe are looking forward to meeting you! \nFederica Stoppa\nCWF Ambassador \nAgenda: \n18:00: Welcome\n18:15: Introducing Corteva\n18:30: Panel discussion with four CWF’s Corporate Partners: how employees contribute to growing a sense of belonging\n19:00: ‘Step in and speak up’ exercise\n19:45: Networking Cocktail\n20:30: End of the event \nThis event is open to CWF members\, individual and corporate\, and to all Corporate members employees\, men and women. \nDue to limited places and Corteva generously offering CWF members a cocktail\, out of respect for our corporate member we will charge 20.- to registered members who do not show up on the evening of the event. \nNumber of seats: 70 (first come\, first served) – Registration deadline: March 14\, 2023 \nCorteva Agriscience is a publicly traded\, global pure-play agriculture company that combines innovation\, customer engagement and operational execution to deliver solutions for the world’s most pressing agriculture challenges. With its balanced and globally diverse mix of seed\, crop protection\, and digital products and services\, the company is committed to maximizing productivity for farmers\, while working with stakeholders throughout the food system as it fulfills its promise to enrich the lives of those who produce and those who consume\, ensuring progress for generations to come. More information can be found at www.corteva.com.\nFollow Corteva on Facebook\, Instagram\, LinkedIn\, Twitter\, and YouTube. \nHow to get there:\nBy public transportation: Train station: Pont-Céard (Leman Express); Bus stop: Port Choiseul (Bus 50)\nBy car: you can park in the external parking in front of our main entrance. Upon registration\, you will also receive information on how to park in the underground parking.
URL:https://www.cwf.ch/event/making-diversity-work-cwf-meet-up/
LOCATION:Corteva Agriscience International Sàrl\, Route de Suisse 160\, Versoix\, Genève\, 1290\, Switzerland
CATEGORIES:Corporate Members' Events
ATTACH;FMTTYPE=image/jpeg:https://www.cwf.ch/wp-content/uploads/2023/01/Corteva-Meet-up.jpg
ORGANIZER;CN="CWF":MAILTO:administration@cwf.ch
GEO:46.2906081;6.1663778
X-APPLE-STRUCTURED-LOCATION;VALUE=URI;X-ADDRESS=Corteva Agriscience International Sàrl Route de Suisse 160 Versoix Genève 1290 Switzerland;X-APPLE-RADIUS=500;X-TITLE=Route de Suisse 160:geo:6.1663778,46.2906081
END:VEVENT
BEGIN:VEVENT
DTSTART;TZID=Europe/Zurich:20230322T180000
DTEND;TZID=Europe/Zurich:20230322T210000
DTSTAMP:20260425T232441
CREATED:20230214T153442Z
LAST-MODIFIED:20230321T102530Z
UID:190030-1679508000-1679518800@www.cwf.ch
SUMMARY:Love & Work\, Work & Love
DESCRIPTION:Ce workshop est complet. Si vous souhaitez vous mettre sur la liste d’attente\, merci d’envoyer un message à administration@cwf.ch\n(Ré)enchanter votre vie affective pour un  meilleur épanouissement et succès professionnels\nLe Career Women’s Forum vous invite en cette journée spéciale Amour à un workshop inédit sur le thème « Love & Work\, Work & Love » le 22 mars 2023 animé par Yann Piette\, un grand spécialiste de la relation amoureuse avec l’objectif de vous aider à (Ré)enchanter votre vie affective pour un meilleur épanouissement et succès professionnels. \nYann Piette est un coach certifié \, expert en relation amoureuse et en développement personnel\, fondateur de sa société « l’homme expliqué »\, auteur du livre « Comment mettre un homme dans votre poche »\, renommé et très suivi sur les réseaux sociaux avec plus de 700K abonnés. Sélectionné pour ses brillantes compétences et son incroyable talent par une des plus grandes chaînes télévisées françaises pour être un Love Coach pour un de ses programmes clefs\, sollicité comme spécialiste par les radios nationales et les conférences à succès (TEDex) Yann Piette nous fait donc l’honneur et le grand plaisir de venir animer un workshop au sein du Career Women’s Forum. \nCélibataire\, en couple\, en crise\, envie de maximiser sa relation personnelle actuelle ou future\, seule par manque de temps ou d’opportunités\, déçue par des échecs amoureux passés\, difficultés à trouver un partenaire de qualité pour vivre et/ou entretenir une relation stable et mature\, n’arrivant pas à conjuguer l’équilibre professionnel et affectif : ce workshop est fait pour vous. \nLa vie personnelle et professionnelle sont indéniablement imbriquées. \nUne excellente relation peut vous aider à progresser davantage dans votre carrière professionnelle en réveillant en vous les émotions positives\, la sérénité\, la motivation et les forces nécessaires pour révéler encore plus votre plein potentiel réalisation. \nCertaines femmes brillantes qui réussissent sur le papier et qui sont axées sur leur carrière peuvent néanmoins avoir du mal à gérer leur temps et à s’organiser pour nourrir et gérer qualitativement leur vie affective ou trouver un bon partenaire. Pourtant l’équilibre affectif impacte directement ou indirectement leur comportement au travail\, leur bien- être\, leur concentration\, leur motivation\, leurs relations avec leurs collègues\, leur gestion du stress\, leurs performances et leur ambition. Un déséquilibre affectif engendre un coût pour l’organisation\, sa trajectoire professionnelle\, son couple et surtout pour soi. \nYann Piette vous propose de vous aider à (ré)enchanter votre vie affective pour être encore plus heureuse et performante au travail. Rien de mieux qu’un homme\, coach\, expert en relation amoureuse pour comprendre ce qui se passe dans la tête des hommes. \nAxé sur une démarche pragmatique et prodiguant des conseils pratiques d’un point de vue masculin\, vous allez être surprises par l’expertise de Yann Piette. Il vous fera cheminer entre des apports clefs et des exercices puissants pour vous donner plus d’audace\, d’astuces et de confiance pour transformer encore plus positivement votre vie personnelle. Prête(s) à choisir et à élever votre vie affective et professionnelle ? Ça commence maintenant : Inscrivez- vous vite ! (places limitées). \nL’événement sera précédé d’un cocktail d’entrée et se terminera par un cocktail pour les volontaires avec champagne\, vins et soft drinks à volonté. \nDescriptif Workshop « Love & Work\, Work & Love »
URL:https://www.cwf.ch/event/love-work-work-love/
LOCATION:Four Seasons Hotel des Bergues Geneva\, Quai des Bergues 33\, Genève\, Genève\, 1201\, Switzerland
CATEGORIES:Workshops
ATTACH;FMTTYPE=image/jpeg:https://www.cwf.ch/wp-content/uploads/2023/02/YannPiette3.jpg
ORGANIZER;CN="CWF":MAILTO:administration@cwf.ch
GEO:46.2070227;6.146962
X-APPLE-STRUCTURED-LOCATION;VALUE=URI;X-ADDRESS=Four Seasons Hotel des Bergues Geneva Quai des Bergues 33 Genève Genève 1201 Switzerland;X-APPLE-RADIUS=500;X-TITLE=Quai des Bergues 33:geo:6.146962,46.2070227
END:VEVENT
END:VCALENDAR