BEGIN:VCALENDAR
VERSION:2.0
PRODID:-//CWF Official Website - ECPv6.15.17.1//NONSGML v1.0//EN
CALSCALE:GREGORIAN
METHOD:PUBLISH
X-WR-CALNAME:CWF Official Website
X-ORIGINAL-URL:https://www.cwf.ch
X-WR-CALDESC:Events for CWF Official Website
REFRESH-INTERVAL;VALUE=DURATION:PT1H
X-Robots-Tag:noindex
X-PUBLISHED-TTL:PT1H
BEGIN:VTIMEZONE
TZID:Europe/Zurich
BEGIN:DAYLIGHT
TZOFFSETFROM:+0100
TZOFFSETTO:+0200
TZNAME:CEST
DTSTART:20250330T010000
END:DAYLIGHT
BEGIN:STANDARD
TZOFFSETFROM:+0200
TZOFFSETTO:+0100
TZNAME:CET
DTSTART:20251026T010000
END:STANDARD
BEGIN:DAYLIGHT
TZOFFSETFROM:+0100
TZOFFSETTO:+0200
TZNAME:CEST
DTSTART:20260329T010000
END:DAYLIGHT
BEGIN:STANDARD
TZOFFSETFROM:+0200
TZOFFSETTO:+0100
TZNAME:CET
DTSTART:20261025T010000
END:STANDARD
BEGIN:DAYLIGHT
TZOFFSETFROM:+0100
TZOFFSETTO:+0200
TZNAME:CEST
DTSTART:20270328T010000
END:DAYLIGHT
BEGIN:STANDARD
TZOFFSETFROM:+0200
TZOFFSETTO:+0100
TZNAME:CET
DTSTART:20271031T010000
END:STANDARD
END:VTIMEZONE
BEGIN:VEVENT
DTSTART;TZID=Europe/Zurich:20260518T183000
DTEND;TZID=Europe/Zurich:20260518T213000
DTSTAMP:20260423T002826
CREATED:20260416T165655Z
LAST-MODIFIED:20260420T082123Z
UID:209778-1779129000-1779139800@www.cwf.ch
SUMMARY:Se libérer du stress pour mieux performer
DESCRIPTION:SAVE THE DATE – TICKETS ON SALE SOON\nLe stress est un véritable enjeu de santé publique. Il impacte la qualité de vie et la santé des individus et limite la performance des organisations. \nL’objectif de cette conférence est de sensibiliser les participantes à l’importance de diminuer le stress pour mieux performer et adopter des comportements en faveur de la santé et de la qualité de vie. Des solutions pour diminuer le stress sont proposées. \nProgramme\n– Sensibilisation au stress\n– Travail de groupe : identification des situations et des facteurs de stress\n– Une méthode éprouvée pour se libérer du stress\n– Adopter une respiration anti-stress\n– Programmation mentale 3 signaux anti-stress\n– Questions-réponses\, échanges entre participantes \nBIO  \nDenis Inkei expert en gestion du stress et de la performance\, auteur de 2 livres (« La performance\, desserrer les freins\, booster les ressources »\, et « Je rumine moins\, c’est parti ! »\, parus aux éditions Jouvence) et conférencier\, propose une méthode de développement de soi basée sur les arts martiaux et les techniques d’accès à la conscience. Il sensibilise sur l’importance d’une harmonisation entre le corps et l’esprit\, entre la raison et les émotions\, pour une meilleure qualité de vie. Il a formé plus de 6’000 personnes à la gestion du stress et de la performance\, dont de nombreux managers. \nAvant de se dédier à la gestion de la performance\, Denis Inkei a durant 20 ans exercé de nombreux postes à responsabilité dans le champ des relations internationales et des médias (journaliste\, directeur de la communication de MSF\, chef du service de presse de la RTS\, fondateur-directeur d’une agence de relations publics\, enseignant dans les Universités de Genève et Annecy). Il est titulaire d’un master en relations internationales et d’un master en science de la communication\, il est aussi diplômé de l’académie suisse de sophrologie et porte le titre de professeur d’arts martiaux 5e dan.
URL:https://www.cwf.ch/event/se-liberer-du-stress-pour-mieux-performer/
LOCATION:Geneva – to be confirmed
CATEGORIES:Workshops
ATTACH;FMTTYPE=image/jpeg:https://www.cwf.ch/wp-content/uploads/2026/04/photo_gregory-batardon__F6A8975.jpg
ORGANIZER;CN="Career Women's Forum":MAILTO:administration@cwf.ch
END:VEVENT
BEGIN:VEVENT
DTSTART;TZID=Europe/Zurich:20260528T180000
DTEND;TZID=Europe/Zurich:20260528T210000
DTSTAMP:20260423T002826
CREATED:20260420T120149Z
LAST-MODIFIED:20260420T120359Z
UID:209807-1779991200-1780002000@www.cwf.ch
SUMMARY:Qui gouverne notre sécurité ?
DESCRIPTION:SAVE THE DATE \nDans le cadre de l’initiative Women On Boards\, nous avons le plaisir de vous convier à une rencontre au cœur de la Genève internationale. \nQui gouverne notre sécurité ? \nAujourd’hui\, un mot domine tous les débats : sécurité. Dans un monde qui se fragmente et se réarme\, il est bon de revenir à l’essentiel : qu’est-ce qui nous protège vraiment ? À quoi ressemble une sécurité efficace ? Et pourquoi sa gouvernance est-elle devenue l’un des enjeux majeurs de notre époque ? \nAu cœur de la Genève internationale\, le DCAF – Centre de Genève pour la gouvernance du secteur de la sécurité – apporte des réponses concrètes à ces questions. Son expertise\, forgée sur le terrain et nourrie par des années d’expérience\, résonne avec une pertinence particulière dans la crise actuelle. \nTrois femmes membres de la direction du DCAF partageront leur vision : le mandat de l’organisation\, ses actions au Sud et à l’Est de l’Europe\, en Afrique ou au Moyen-Orient\, les enjeux émergents liés à la désinformation et aux nouvelles technologies\, et les leçons que ses partenariats offrent aujourd’hui\, y compris pour la Suisse et l’Europe. \nTransparence\, inclusion\, redevabilité : ces principes ne sont pas des slogans. Ils sont le socle de la confiance dans nos institutions et\, au fond\, de notre sécurité à toutes et tous. \nUne présentation riche en enseignements\, que nous clôturerons par un apéritif qui permettra de poursuivre les échanges de façon conviviale. \nCet événement WoBs est ouvert aux non-membres\, hommes et femmes. \nLes intervenantes : \nNathalie Chuard | DCAF – Le Centre pour la gouvernance du secteur de la sécurité\, Genève \nBeatrice Godefroy | DCAF – Le Centre pour la gouvernance du secteur de la sécurité\, Genève \nAnne Bennett | DCAF – Le Centre pour la gouvernance du secteur de la sécurité\, Genève
URL:https://www.cwf.ch/event/qui-gouverne-notre-securite/
LOCATION:DCAF – Geneva Centre for Security Sector Governance\, Chemin Eugène-Rigot 2E\, Genève\, 1202\, Switzerland
CATEGORIES:AfterWork,Women on Boards
ATTACH;FMTTYPE=image/png:https://www.cwf.ch/wp-content/uploads/2026/04/social_media.png
ORGANIZER;CN="Career Women's Forum":MAILTO:administration@cwf.ch
GEO:46.2222151;6.1437132
X-APPLE-STRUCTURED-LOCATION;VALUE=URI;X-ADDRESS=DCAF – Geneva Centre for Security Sector Governance Chemin Eugène-Rigot 2E Genève 1202 Switzerland;X-APPLE-RADIUS=500;X-TITLE=Chemin Eugène-Rigot 2E:geo:6.1437132,46.2222151
END:VEVENT
BEGIN:VEVENT
DTSTART;TZID=Europe/Zurich:20260601T114500
DTEND;TZID=Europe/Zurich:20260601T140000
DTSTAMP:20260423T002826
CREATED:20260416T162913Z
LAST-MODIFIED:20260420T160014Z
UID:209767-1780314300-1780322400@www.cwf.ch
SUMMARY:From Global Coffee Executive to Purpose-Driven Founder: The Story Behind DONA Coffee
DESCRIPTION:At this CWF lunch\, Elisa Dot Bach will share the remarkable journey that led her from a global career in innovation\, marketing strategy\, and business development in the coffee industry to founding DONA\, a purpose-driven coffee brand sourcing specialty Arabica coffee exclusively from women-owned farms around the world. \nHaving spent years working across international markets with some of the world’s most recognized coffee brands\, Elisa witnessed firsthand how deeply coffee is woven into culture\, connection\, and everyday life. In 2022\, she chose to transform that experience into a mission: using coffee as a powerful lever for social impact. \nThrough DONA\, Elisa connects consumers directly with women coffee producers\, giving visibility to their work while supporting their businesses and communities through fair sourcing and long-term partnerships. \nJoin us for an inspiring conversation about entrepreneurship\, purpose\, global responsibility — and how one idea can help change the world\, one sip at a time. \nBIO \nElisa Dot Bach is the founder of DONA Coffee. She spent most of my career in the global coffee industry\, working in innovation and marketing for a multinational company. After many years\, she realized that coffee was not just her profession — it was her passion. But she also became increasingly aware of a disconnect: behind one of the most consumed beverages in the world are millions of farmers\, especially women\, whose work is largely invisible and undervalued. Three years after leaving her corporate career\, Elisa founded DONA Coffee to recognize\, support\, and celebrate women coffee farmers\, and to build a business rooted in purpose\, dignity\, and long-term impact.
URL:https://www.cwf.ch/event/from-global-coffee-executive-to-purpose-driven-founder-the-story-behind-dona-coffee/
LOCATION:Hôtel Métropole\, 34 quai Général Guisan\, Geneva\, 1204\, Switzerland
CATEGORIES:Lunches
ATTACH;FMTTYPE=image/jpeg:https://www.cwf.ch/wp-content/uploads/2026/04/Unknown.jpeg
ORGANIZER;CN="Career Women's Forum":MAILTO:administration@cwf.ch
GEO:46.2033764;6.1521463
X-APPLE-STRUCTURED-LOCATION;VALUE=URI;X-ADDRESS=Hôtel Métropole 34 quai Général Guisan Geneva 1204 Switzerland;X-APPLE-RADIUS=500;X-TITLE=34 quai Général Guisan:geo:6.1521463,46.2033764
END:VEVENT
END:VCALENDAR