BEGIN:VCALENDAR
VERSION:2.0
PRODID:-//CWF Official Website - ECPv6.15.17.1//NONSGML v1.0//EN
CALSCALE:GREGORIAN
METHOD:PUBLISH
X-WR-CALNAME:CWF Official Website
X-ORIGINAL-URL:https://www.cwf.ch
X-WR-CALDESC:Events for CWF Official Website
REFRESH-INTERVAL;VALUE=DURATION:PT1H
X-Robots-Tag:noindex
X-PUBLISHED-TTL:PT1H
BEGIN:VTIMEZONE
TZID:Europe/Zurich
BEGIN:DAYLIGHT
TZOFFSETFROM:+0100
TZOFFSETTO:+0200
TZNAME:CEST
DTSTART:20250330T010000
END:DAYLIGHT
BEGIN:STANDARD
TZOFFSETFROM:+0200
TZOFFSETTO:+0100
TZNAME:CET
DTSTART:20251026T010000
END:STANDARD
BEGIN:DAYLIGHT
TZOFFSETFROM:+0100
TZOFFSETTO:+0200
TZNAME:CEST
DTSTART:20260329T010000
END:DAYLIGHT
BEGIN:STANDARD
TZOFFSETFROM:+0200
TZOFFSETTO:+0100
TZNAME:CET
DTSTART:20261025T010000
END:STANDARD
BEGIN:DAYLIGHT
TZOFFSETFROM:+0100
TZOFFSETTO:+0200
TZNAME:CEST
DTSTART:20270328T010000
END:DAYLIGHT
BEGIN:STANDARD
TZOFFSETFROM:+0200
TZOFFSETTO:+0100
TZNAME:CET
DTSTART:20271031T010000
END:STANDARD
END:VTIMEZONE
BEGIN:VEVENT
DTSTART;TZID=Europe/Zurich:20260407T190000
DTEND;TZID=Europe/Zurich:20260407T210000
DTSTAMP:20260423T002841
CREATED:20260226T204419Z
LAST-MODIFIED:20260401T172926Z
UID:209052-1775588400-1775595600@www.cwf.ch
SUMMARY:Cours de premiers secours
DESCRIPTION:Ce cours est complet \nÀ Genève\, les secours arrivent en moyenne en 5 à 7 minutes. \nC’est rapide… mais en cas d’urgence\, chaque seconde compte.Et pourtant\, beaucoup n’osent pas intervenir par peur de mal faire. \nDeux faits interpellent : \n\nLa mortalité cardio-vasculaire est plus élevée chez les femmes que chez les hommes (en Europe\, 49% contre 40%).\nLeurs symptômes sont encore peu reconnus et souvent sous-estimés alors quels sont les symptômes d’une crise cardiaque ? … chez une femme ? … chez un homme ?\n\n\n\nEtant donné l’importance vitale des premières minutes après un malaise ou un accident\, le Career Women’s Forum propose un cours de premiers secours donné par Monsieur Joël Mühlemann. \nBiographie\nFéru d’arts martiaux\, Joël Mühlemann est également instructeur à l’Académie Européenne de Cascade à Lausanne. Depuis 2009\, il organise en Suisse romande des stages de Self Défense Bienveillante destinés particulièrement au personnel soignant mais également à tout un chacun. Il est instructeur en Premiers Secours\, certifié par le Swiss Resuscitation Council. \n\nJoël abordera ces thèmes et d’autres encore lors de deux cours de sensibilisation aux Premiers Secours qui auront lieu à l’avenue de la Praille 29\, les 7 et 14 avril 2026. \nAu programme : \n\nla légalité au sein des Premiers Secours; mes devoirs et obligations\nl’appel aux secours ; que faut-il annoncer ? On commence par quoi ?\nles n° d’urgence ; lequel sert à quoi ?\nle massage cardiaque comment ? Pendant combien de temps ?\nl’utilisation d’un défibrillateur : quels risques ? Comment les prévenir ?\nla position latérale de sécurité ; à quel moment la mettre en place ?\n\nAdresse du cours\nCentre d’Etudes et de Formation en Reiki\nAvenue de la Praille 29\n1227 Genève/Carouge\, Suisse \n  \nTarif : 80 CHFNombre de places disponibles : minimum 5 – maximum 8 \nObjectif : vous donner la confiance et les bons réflexes pour agir quand ça compte vraiment.
URL:https://www.cwf.ch/event/cours-de-premiers-secours-sur-2-soirees/
LOCATION:Cours de 1er secours\, Avenue de la Praille 29\, Carouge\, 1227
CATEGORIES:Workshops
ATTACH;FMTTYPE=image/jpeg:https://www.cwf.ch/wp-content/uploads/2026/02/IMG_2925-1.jpg
ORGANIZER;CN="Career Women's Forum":MAILTO:administration@cwf.ch
GEO:46.1868191;6.1348811
X-APPLE-STRUCTURED-LOCATION;VALUE=URI;X-ADDRESS=Cours de 1er secours Avenue de la Praille 29 Carouge 1227;X-APPLE-RADIUS=500;X-TITLE=Avenue de la Praille 29:geo:6.1348811,46.1868191
END:VEVENT
BEGIN:VEVENT
DTSTART;TZID=Europe/Zurich:20260414T113000
DTEND;TZID=Europe/Zurich:20260414T123000
DTSTAMP:20260423T002841
CREATED:20260408T105755Z
LAST-MODIFIED:20260421T101525Z
UID:209708-1776166200-1776169800@www.cwf.ch
SUMMARY:2026 Mentoring Program - Information session
DESCRIPTION:This workshop is open only to the mentors and mentees who registered for the 2026 Mentoring Program \nDear 2026 CWF mentees and mentors\, \nBefore starting the CWF Mentoring Program\, we have the pleasure to invite you to an online preparatory session which will provide tips to make mentoring and personal development’s discussions highly effective. \nThis workshop will help to understand the respective roles of Mentors and Mentees and to set both up for success. \nWe encourage you to attend the session and learn how to manage development discussions and mentoring partnerships with positive impact and effectiveness. \nIn short – you will learn how to: \n\nDefine and understand the expectations of both mentors and mentees\nLeverage personal and professional growth through mentoring and development conversations\n\nThis is also a great time to ask any question you may have so that others can also benefit from the answer. \nLooking forward to e-meeting you there! \nDomiique Ben Dhaou\nMentoring and Mastermind programs \n  \nLink to register to the session: \nhttps://us06web.zoom.us/j/88445298592?pwd=nbJEBIVCU9XVTGlYabhVJOmtfdMDE4.1#success \n  \n 
URL:https://www.cwf.ch/event/2026-mentoring-program-information-session/
CATEGORIES:Mentoring
ATTACH;FMTTYPE=image/jpeg:https://www.cwf.ch/wp-content/uploads/2024/08/Dominique_SL.jpg
ORGANIZER;CN="Career Women's Forum":MAILTO:administration@cwf.ch
LOCATION:https://us06web.zoom.us/meeting/register/5Rgs_tAIQeK9FyQh6Au4dQ
END:VEVENT
BEGIN:VEVENT
DTSTART;TZID=Europe/Zurich:20260414T190000
DTEND;TZID=Europe/Zurich:20260414T210000
DTSTAMP:20260423T002841
CREATED:20260305T111649Z
LAST-MODIFIED:20260401T172808Z
UID:209178-1776193200-1776200400@www.cwf.ch
SUMMARY:Cours de premiers secours
DESCRIPTION:Ce cours est complet \nÀ Genève\, les secours arrivent en moyenne en 5 à 7 minutes. \nC’est rapide… mais en cas d’urgence\, chaque seconde compte.Et pourtant\, beaucoup n’osent pas intervenir par peur de mal faire. \nDeux faits interpellent : \n\nLa mortalité cardio-vasculaire est plus élevée chez les femmes que chez les hommes (en Europe\, 49% contre 40%).\nLeurs symptômes sont encore peu reconnus et souvent sous-estimés alors quels sont les symptômes d’une crise cardiaque ? … chez une femme ? … chez un homme ?\n\n\n\nEtant donné l’importance vitale des premières minutes après un malaise ou un accident\, le Career Women’s Forum propose un cours de premiers secours donné par Monsieur Joël Mühlemann. \nBiographie\nFéru d’arts martiaux\, Joël Mühlemann est également instructeur à l’Académie Européenne de Cascade à Lausanne. Depuis 2009\, il organise en Suisse romande des stages de Self Défense Bienveillante destinés particulièrement au personnel soignant mais également à tout un chacun. Il est instructeur en Premiers Secours\, certifié par le Swiss Resuscitation Council. \n\nJoël abordera ces thèmes et d’autres encore lors de deux cours de sensibilisation aux Premiers Secours qui auront lieu à l’avenue de la Praille 29\, les 7 et 14 avril 2026. \nAu programme : \n\nla légalité au sein des Premiers Secours; mes devoirs et obligations\nl’appel aux secours ; que faut-il annoncer ? On commence par quoi ?\nles n° d’urgence ; lequel sert à quoi ?\nle massage cardiaque comment ? Pendant combien de temps ?\nl’utilisation d’un défibrillateur : quels risques ? Comment les prévenir ?\nla position latérale de sécurité ; à quel moment la mettre en place ?\n\nAdresse du cours\nCentre d’Etudes et de Formation en Reiki\nAvenue de la Praille 29\n1227 Genève/Carouge\, Suisse \n  \nTarif : 80 CHFNombre de places disponibles : minimum 5 – maximum 8 \nObjectif : vous donner la confiance et les bons réflexes pour agir quand ça compte vraiment.
URL:https://www.cwf.ch/event/cours-de-premiers-secours/
LOCATION:Cours de 1er secours\, Avenue de la Praille 29\, Carouge\, 1227
CATEGORIES:Workshops
ATTACH;FMTTYPE=image/jpeg:https://www.cwf.ch/wp-content/uploads/2026/02/IMG_2925-1.jpg
ORGANIZER;CN="CWF":MAILTO:administration@cwf.ch
GEO:46.1868191;6.1348811
X-APPLE-STRUCTURED-LOCATION;VALUE=URI;X-ADDRESS=Cours de 1er secours Avenue de la Praille 29 Carouge 1227;X-APPLE-RADIUS=500;X-TITLE=Avenue de la Praille 29:geo:6.1348811,46.1868191
END:VEVENT
BEGIN:VEVENT
DTSTART;TZID=Europe/Zurich:20260421T180000
DTEND;TZID=Europe/Zurich:20260421T220000
DTSTAMP:20260423T002841
CREATED:20260330T094811Z
LAST-MODIFIED:20260330T111530Z
UID:209480-1776794400-1776808800@www.cwf.ch
SUMMARY:Knowledge Sharing – CWF Members Spotlight - Second Session
DESCRIPTION:Our upcoming event Knowledge Sharing Workshop will focus on the themes of Career Transition and Networking for Impact. \nKathryne Bonvin-Bercel will lead a workshop on Career transition : How to navigate and successfully position oneself  \nNavigating a career transition with success is a journey that requires a structured approach and dedicated intent. \n\nClarify one’s purpose\, values and interests\nDefine personal and professional objectives\nCrystalize transferable skills and competencies\nOptimize CV & LinkedIn profile\nIdentify skill gaps through upskilling or reskilling to increase employability\nUnderstand job market and entrepreneurial landscape and trends\nMaintain momentum\n\nAbout Kathryne Bonvin-Bercel\nKathryne accompanies and coaches individuals at a career or life crossroads\, helping them achieve success and personal satisfaction by identifying their values\, aspirations\, and personal and professional goals. She has spent over 20 years in HR generalist\, business partner\, and strategic roles within multinational headquarters across four major business sectors. \nA native of Montreal\, she also lived in Boston\, where she obtained a degree in Business Administration\, and has been based in Geneva since 1991. A native English speaker\, she is fluent in French and also speaks Hungarian. She has been a CWF member since 2009 and served as a Committee member from 2015 to 2019. \nDaniela Casetta will lead a workshop on Networking for Impact: Leveraging Professional Connections for Career Advancement. \nThis session will provide actionable strategies for professional growth and collective empowerment. Here are the key takeaways: \n\nEmpowering Leadership: Understand the importance of networking in developing leadership skills and increasing career visibility.\nInfluence through Authentic Relationships: Discover the power of genuine connections to build influence and create supportive environments where everyone can thrive.\nMentorship and Sponsorship: Learn the importance of finding mentors and sponsors who can guide you\, advocate for you\, and open doors to new opportunities.\nBuilding Confidence Together: Use your network to strengthen confidence\, share experiences\, and support one another in overcoming challenges.\n\nAbout Daniela Casetta\nDaniela is a sincere and dynamic speaker who brings energy and spontaneity to every networking conference. Known for delivering valuable insights and pragmatic strategies\, she focuses on providing practical tips that participants can immediately apply to build stronger\, more meaningful connections. \nWith a results-driven approach\, her sessions empower professionals to network with confidence and purpose\, turning conversations into lasting opportunities. Her vibrant personality captivates audiences with her smile and boundless energy. \nOriginally from Brazil\, Daniela moved to Switzerland in 2010\, bringing with her an international background in the cruise ship industry. \nFluent in several languages\, including English\, Italian and French\, Daniela excels at inspiring others and igniting their passion for networking and personal growth.\n  \nProgram :• 6:00pm–6:30pm : Welcome drinks• 6:35pm–7:15pm : Kathryne Bonvin-Bercel – Career Transition Workshop• 7:15pm–7:20pm : Break• 7:20pm–8:10pm : Daniela Casetta – Networking Techniques Workshop• 8:10pm–10:00pm : Cocktail
URL:https://www.cwf.ch/event/knowledge-sharing-cwf-members-spotlight-second-session/
LOCATION:Melrose Kitchen\, Rue des Barques 2\, Eaux-vives\, 1207
CATEGORIES:Knowledge Sharing
ATTACH;FMTTYPE=image/png:https://www.cwf.ch/wp-content/uploads/2026/03/Sans-titre-1280-x-720-px-8.png
ORGANIZER;CN="Career Women's Forum":MAILTO:administration@cwf.ch
GEO:46.2038495;6.1553659
X-APPLE-STRUCTURED-LOCATION;VALUE=URI;X-ADDRESS=Melrose Kitchen Rue des Barques 2 Eaux-vives 1207;X-APPLE-RADIUS=500;X-TITLE=Rue des Barques 2:geo:6.1553659,46.2038495
END:VEVENT
BEGIN:VEVENT
DTSTART;TZID=Europe/Zurich:20260429T180000
DTEND;TZID=Europe/Zurich:20260429T210000
DTSTAMP:20260423T002841
CREATED:20260108T154951Z
LAST-MODIFIED:20260422T132815Z
UID:207585-1777485600-1777496400@www.cwf.ch
SUMMARY:Assemblée Générale 2026
DESCRIPTION:Cet événement est réservé aux membres du CWF \nCet événement est complet. Si vous souhaitez être sur la liste d’attente\, vous pouvez envoyer un message à administration@cwf.ch \n\nChères membres et amies\, \nNous avons le plaisir de vous inviter à notre Assemblée Générale (AG) Annuelle du Career Women’s Forum réservée aux membres\, une soirée dédiée à la réflexion sur nos réalisations collectives et à la définition de l’avenir de la communauté CWF. \nCette année\, alors que le CWF continue d’évoluer dans un monde en constante mutation\, nous aurons à cœur d’échanger sur les nouvelles opportunités\, les défis à venir et les orientations stratégiques de notre communauté. Votre engagement et vos idées façonnent l’avenir du CWF. \nÀ l’issue de l’Assemblée Générale\, nous avons le plaisir de vous convier à un cocktail de réseautage exclusif réservé aux membres\, généreusement offert par le CWF. Une belle occasion d’échanger\, de partager vos expériences et de renforcer notre réseau dynamique au cœur de la région lémanique. \nde la diversité de tous vos profils qui constituent une communauté diversifiée et bienveillante. Ce sont vos compétences et votre implication qui font du Career Women’s Forum un réseau engagé et tourné vers l’avenir \nNous nous réjouissons de vous retrouver pour un moment de réseautage et d’échanges amicaux pour accueillir une nouvelle année riche en projets à partager. \nBien cordialement\, \nLe Comité du Career Women’s Forum \nStefania Di Cecca\, Gisèle Champion\, Fabienne Barresi\, Fatima Bayol\, Dominique Ben Dhaou\, Christine Gilliéron\, Ellen Kocher\, Bérénice Remy\, Rodica Rosu Fridez \n**** \nDear members and friends\, \nWe are delighted to invite you to our Annual General Meeting (AGM) of the Career Women’s Forum\, an evening dedicated to reflecting on our collective achievements and defining the future of the CWF community. \nThis year\, as the Career Women’s Forum continues to evolve in an ever-changing world\, we look forward to discussing new opportunities\, future challenges and strategic directions for our community. Your commitment and ideas shape the future of the CWF \nFollowing the Annual General Meeting\, we have the pleasure to invite you to an exclusive networking cocktail for members only\, generously offered by the Career Women’s Forum. A great opportunity to exchange ideas\, share experiences and strengthen our dynamic network in the heart of the lake Léman region. \nThe value of the Career Women’s Forum stems from the diversity of all your profiles\, which creates a diverse and caring community. It is your skills and involvement that make the Career Women’s Forum a committed and forward-looking network. \nWe look forward to seeing you for a moment of networking and friendly exchanges to welcome a new year full of projects to share. \nWarm Regards\, \nThe Career Women’s Forum Committee \nStefania Di Cecca\, Gisèle Champion\, Fabienne Barresi\, Fatima Bayol\, Dominique Ben Dhaou\, Christine Gilliéron\, Ellen Kocher\, Bérénice Remy\, Rodica Rosu Fridez \n 
URL:https://www.cwf.ch/event/assemblee-generale-2026/
LOCATION:Hotel Marriott Geneva\, Chemin du Ruisseau 1\, Cointrain - Genève\, 1216\, Switzerland
CATEGORIES:Evening Events,Festive Events
ATTACH;FMTTYPE=image/jpeg:https://www.cwf.ch/wp-content/uploads/2024/08/CWF_Commity_1-web-1.jpg
ORGANIZER;CN="CWF":MAILTO:administration@cwf.ch
GEO:46.2211624;6.103311
X-APPLE-STRUCTURED-LOCATION;VALUE=URI;X-ADDRESS=Hotel Marriott Geneva Chemin du Ruisseau 1 Cointrain - Genève 1216 Switzerland;X-APPLE-RADIUS=500;X-TITLE=Chemin du Ruisseau 1:geo:6.103311,46.2211624
END:VEVENT
BEGIN:VEVENT
DTSTART;TZID=Europe/Zurich:20260504T114500
DTEND;TZID=Europe/Zurich:20260504T140000
DTSTAMP:20260423T002841
CREATED:20260302T175931Z
LAST-MODIFIED:20260304T104605Z
UID:209119-1777895100-1777903200@www.cwf.ch
SUMMARY:Déjeuner avec Hawa Sangaré\, fondatrice de HAWA Atelier au féminin
DESCRIPTION:H.A.W.A. : plus qu’un prénom\, un manifeste.\nDans un contexte social où les récits féminins restent trop peu visibles et où l’impact social se heurte encore aux réalités du terrain\, une question essentielle se pose : comment continuer à agir avec sens\, cohérence et ambition pour soi et pour les autres ? \nLors de ce déjeuner-rencontre\, Hawa Sangaré propose un temps de réflexion nourri par son expérience\, son parcours d’entrepreneure engagée et par le manifeste qui porte son nom : H.A.W.A. \nH pour Honorer les femmes.\nA pour Accompagner.\nW pour Inspirer à devenir des Winners.\nA pour Accomplir ses rêves. \nElle expliquera comment ce manifeste s’incarne dans son travail\, dans son atelier d’insertion et dans sa vision de l’émancipation. \nHawa reviendra sur les moments clés de son histoire : de son ancrage interculturel\, né à Drancy\, à la création de HAWA Paris\, toujours guidée par une même boussole : créer du beau avec du vrai\, et donner une seconde vie\, aux matières comme aux trajectoires humaines. \nBIOGRAPHIE  \nHawa Sangaré est psychologue clinicienne de formation\, spécialisée en ethnopsychiatrie\, et fondatrice de HAWA Paris\, une maison engagée qui fait de la mode un levier d’émancipation et de transformation sociale. Née à Drancy de parents maliens\, elle développe très tôt une lecture interculturelle des dynamiques sociales et humaines. \nAprès plus de vingt ans dans l’accompagnement de personnes éloignées de l’emploi\, elle se lance dans l’entrepreneuriat en 2014 en formant au leadership féminin\, à la communication\, à la prise de parole en public ainsi qu’à la confiance et à l’estime de soi. \nEn 2021\, elle fonde HAWA Paris et son atelier d’insertion à Paris\, réunissant création\, impact social et responsabilité environnementale. La maison conçoit des pièces intemporelles à partir de matières revalorisées issues de stocks dormants de grandes maisons\, dans une démarche d’upcycling exigeante et locale. \nSon atelier forme et accompagne des femmes et des hommes en situation de vulnérabilité vers l’autonomie professionnelle. \nCe déjeuner est pensé comme un moment de dialogue ouvert\, pour distinguer ce qui relève du symbole de ce qui crée réellement de l’impact humain\, professionnel et social.
URL:https://www.cwf.ch/event/dejeuner-avec-hawa-sangare-fondatrice-de-hawa-atelier-au-feminin-h-a-w-a-plus-quun-prenom-un-manifeste/
LOCATION:Hotel Marriott Geneva\, Chemin du Ruisseau 1\, Cointrain - Genève\, 1216\, Switzerland
CATEGORIES:Lunches
ATTACH;FMTTYPE=image/jpeg:https://www.cwf.ch/wp-content/uploads/2026/03/UPpMKZjf.jpeg
ORGANIZER;CN="Career Women's Forum":MAILTO:administration@cwf.ch
GEO:46.2211624;6.103311
X-APPLE-STRUCTURED-LOCATION;VALUE=URI;X-ADDRESS=Hotel Marriott Geneva Chemin du Ruisseau 1 Cointrain - Genève 1216 Switzerland;X-APPLE-RADIUS=500;X-TITLE=Chemin du Ruisseau 1:geo:6.103311,46.2211624
END:VEVENT
BEGIN:VEVENT
DTSTART;TZID=Europe/Zurich:20260518T183000
DTEND;TZID=Europe/Zurich:20260518T213000
DTSTAMP:20260423T002841
CREATED:20260416T165655Z
LAST-MODIFIED:20260420T082123Z
UID:209778-1779129000-1779139800@www.cwf.ch
SUMMARY:Se libérer du stress pour mieux performer
DESCRIPTION:SAVE THE DATE – TICKETS ON SALE SOON\nLe stress est un véritable enjeu de santé publique. Il impacte la qualité de vie et la santé des individus et limite la performance des organisations. \nL’objectif de cette conférence est de sensibiliser les participantes à l’importance de diminuer le stress pour mieux performer et adopter des comportements en faveur de la santé et de la qualité de vie. Des solutions pour diminuer le stress sont proposées. \nProgramme\n– Sensibilisation au stress\n– Travail de groupe : identification des situations et des facteurs de stress\n– Une méthode éprouvée pour se libérer du stress\n– Adopter une respiration anti-stress\n– Programmation mentale 3 signaux anti-stress\n– Questions-réponses\, échanges entre participantes \nBIO  \nDenis Inkei expert en gestion du stress et de la performance\, auteur de 2 livres (« La performance\, desserrer les freins\, booster les ressources »\, et « Je rumine moins\, c’est parti ! »\, parus aux éditions Jouvence) et conférencier\, propose une méthode de développement de soi basée sur les arts martiaux et les techniques d’accès à la conscience. Il sensibilise sur l’importance d’une harmonisation entre le corps et l’esprit\, entre la raison et les émotions\, pour une meilleure qualité de vie. Il a formé plus de 6’000 personnes à la gestion du stress et de la performance\, dont de nombreux managers. \nAvant de se dédier à la gestion de la performance\, Denis Inkei a durant 20 ans exercé de nombreux postes à responsabilité dans le champ des relations internationales et des médias (journaliste\, directeur de la communication de MSF\, chef du service de presse de la RTS\, fondateur-directeur d’une agence de relations publics\, enseignant dans les Universités de Genève et Annecy). Il est titulaire d’un master en relations internationales et d’un master en science de la communication\, il est aussi diplômé de l’académie suisse de sophrologie et porte le titre de professeur d’arts martiaux 5e dan.
URL:https://www.cwf.ch/event/se-liberer-du-stress-pour-mieux-performer/
LOCATION:Geneva – to be confirmed
CATEGORIES:Workshops
ATTACH;FMTTYPE=image/jpeg:https://www.cwf.ch/wp-content/uploads/2026/04/photo_gregory-batardon__F6A8975.jpg
ORGANIZER;CN="Career Women's Forum":MAILTO:administration@cwf.ch
END:VEVENT
BEGIN:VEVENT
DTSTART;TZID=Europe/Zurich:20260528T180000
DTEND;TZID=Europe/Zurich:20260528T210000
DTSTAMP:20260423T002841
CREATED:20260420T120149Z
LAST-MODIFIED:20260420T120359Z
UID:209807-1779991200-1780002000@www.cwf.ch
SUMMARY:Qui gouverne notre sécurité ?
DESCRIPTION:SAVE THE DATE \nDans le cadre de l’initiative Women On Boards\, nous avons le plaisir de vous convier à une rencontre au cœur de la Genève internationale. \nQui gouverne notre sécurité ? \nAujourd’hui\, un mot domine tous les débats : sécurité. Dans un monde qui se fragmente et se réarme\, il est bon de revenir à l’essentiel : qu’est-ce qui nous protège vraiment ? À quoi ressemble une sécurité efficace ? Et pourquoi sa gouvernance est-elle devenue l’un des enjeux majeurs de notre époque ? \nAu cœur de la Genève internationale\, le DCAF – Centre de Genève pour la gouvernance du secteur de la sécurité – apporte des réponses concrètes à ces questions. Son expertise\, forgée sur le terrain et nourrie par des années d’expérience\, résonne avec une pertinence particulière dans la crise actuelle. \nTrois femmes membres de la direction du DCAF partageront leur vision : le mandat de l’organisation\, ses actions au Sud et à l’Est de l’Europe\, en Afrique ou au Moyen-Orient\, les enjeux émergents liés à la désinformation et aux nouvelles technologies\, et les leçons que ses partenariats offrent aujourd’hui\, y compris pour la Suisse et l’Europe. \nTransparence\, inclusion\, redevabilité : ces principes ne sont pas des slogans. Ils sont le socle de la confiance dans nos institutions et\, au fond\, de notre sécurité à toutes et tous. \nUne présentation riche en enseignements\, que nous clôturerons par un apéritif qui permettra de poursuivre les échanges de façon conviviale. \nCet événement WoBs est ouvert aux non-membres\, hommes et femmes. \nLes intervenantes : \nNathalie Chuard | DCAF – Le Centre pour la gouvernance du secteur de la sécurité\, Genève \nBeatrice Godefroy | DCAF – Le Centre pour la gouvernance du secteur de la sécurité\, Genève \nAnne Bennett | DCAF – Le Centre pour la gouvernance du secteur de la sécurité\, Genève
URL:https://www.cwf.ch/event/qui-gouverne-notre-securite/
LOCATION:DCAF – Geneva Centre for Security Sector Governance\, Chemin Eugène-Rigot 2E\, Genève\, 1202\, Switzerland
CATEGORIES:AfterWork,Women on Boards
ATTACH;FMTTYPE=image/png:https://www.cwf.ch/wp-content/uploads/2026/04/social_media.png
ORGANIZER;CN="Career Women's Forum":MAILTO:administration@cwf.ch
GEO:46.2222151;6.1437132
X-APPLE-STRUCTURED-LOCATION;VALUE=URI;X-ADDRESS=DCAF – Geneva Centre for Security Sector Governance Chemin Eugène-Rigot 2E Genève 1202 Switzerland;X-APPLE-RADIUS=500;X-TITLE=Chemin Eugène-Rigot 2E:geo:6.1437132,46.2222151
END:VEVENT
BEGIN:VEVENT
DTSTART;TZID=Europe/Zurich:20260601T114500
DTEND;TZID=Europe/Zurich:20260601T140000
DTSTAMP:20260423T002841
CREATED:20260416T162913Z
LAST-MODIFIED:20260420T160014Z
UID:209767-1780314300-1780322400@www.cwf.ch
SUMMARY:From Global Coffee Executive to Purpose-Driven Founder: The Story Behind DONA Coffee
DESCRIPTION:At this CWF lunch\, Elisa Dot Bach will share the remarkable journey that led her from a global career in innovation\, marketing strategy\, and business development in the coffee industry to founding DONA\, a purpose-driven coffee brand sourcing specialty Arabica coffee exclusively from women-owned farms around the world. \nHaving spent years working across international markets with some of the world’s most recognized coffee brands\, Elisa witnessed firsthand how deeply coffee is woven into culture\, connection\, and everyday life. In 2022\, she chose to transform that experience into a mission: using coffee as a powerful lever for social impact. \nThrough DONA\, Elisa connects consumers directly with women coffee producers\, giving visibility to their work while supporting their businesses and communities through fair sourcing and long-term partnerships. \nJoin us for an inspiring conversation about entrepreneurship\, purpose\, global responsibility — and how one idea can help change the world\, one sip at a time. \nBIO \nElisa Dot Bach is the founder of DONA Coffee. She spent most of my career in the global coffee industry\, working in innovation and marketing for a multinational company. After many years\, she realized that coffee was not just her profession — it was her passion. But she also became increasingly aware of a disconnect: behind one of the most consumed beverages in the world are millions of farmers\, especially women\, whose work is largely invisible and undervalued. Three years after leaving her corporate career\, Elisa founded DONA Coffee to recognize\, support\, and celebrate women coffee farmers\, and to build a business rooted in purpose\, dignity\, and long-term impact.
URL:https://www.cwf.ch/event/from-global-coffee-executive-to-purpose-driven-founder-the-story-behind-dona-coffee/
LOCATION:Hôtel Métropole\, 34 quai Général Guisan\, Geneva\, 1204\, Switzerland
CATEGORIES:Lunches
ATTACH;FMTTYPE=image/jpeg:https://www.cwf.ch/wp-content/uploads/2026/04/Unknown.jpeg
ORGANIZER;CN="Career Women's Forum":MAILTO:administration@cwf.ch
GEO:46.2033764;6.1521463
X-APPLE-STRUCTURED-LOCATION;VALUE=URI;X-ADDRESS=Hôtel Métropole 34 quai Général Guisan Geneva 1204 Switzerland;X-APPLE-RADIUS=500;X-TITLE=34 quai Général Guisan:geo:6.1521463,46.2033764
END:VEVENT
END:VCALENDAR