BEGIN:VCALENDAR
VERSION:2.0
PRODID:-//CWF Official Website - ECPv6.15.17.1//NONSGML v1.0//EN
CALSCALE:GREGORIAN
METHOD:PUBLISH
X-WR-CALNAME:CWF Official Website
X-ORIGINAL-URL:https://www.cwf.ch
X-WR-CALDESC:Events for CWF Official Website
REFRESH-INTERVAL;VALUE=DURATION:PT1H
X-Robots-Tag:noindex
X-PUBLISHED-TTL:PT1H
BEGIN:VTIMEZONE
TZID:Europe/Zurich
BEGIN:DAYLIGHT
TZOFFSETFROM:+0100
TZOFFSETTO:+0200
TZNAME:CEST
DTSTART:20230326T010000
END:DAYLIGHT
BEGIN:STANDARD
TZOFFSETFROM:+0200
TZOFFSETTO:+0100
TZNAME:CET
DTSTART:20231029T010000
END:STANDARD
BEGIN:DAYLIGHT
TZOFFSETFROM:+0100
TZOFFSETTO:+0200
TZNAME:CEST
DTSTART:20240331T010000
END:DAYLIGHT
BEGIN:STANDARD
TZOFFSETFROM:+0200
TZOFFSETTO:+0100
TZNAME:CET
DTSTART:20241027T010000
END:STANDARD
BEGIN:DAYLIGHT
TZOFFSETFROM:+0100
TZOFFSETTO:+0200
TZNAME:CEST
DTSTART:20250330T010000
END:DAYLIGHT
BEGIN:STANDARD
TZOFFSETFROM:+0200
TZOFFSETTO:+0100
TZNAME:CET
DTSTART:20251026T010000
END:STANDARD
END:VTIMEZONE
BEGIN:VEVENT
DTSTART;TZID=Europe/Zurich:20241119T180000
DTEND;TZID=Europe/Zurich:20241119T210000
DTSTAMP:20260424T032254
CREATED:20240828T132514Z
LAST-MODIFIED:20241118T120127Z
UID:199945-1732039200-1732050000@www.cwf.ch
SUMMARY:Speak up! Master. Lead. Impact.
DESCRIPTION:The workhop is fully booked. If you wish to be on the waiting list\, please send a message to administration@cwf.ch.\nFind your unique voice and value. Learn how to confidently articulate your worth in a panel of experts\, in boardroom discussions or executive meetings and influence decisions with charisma\, clarity\, and impact.\nSpeaking in public is an act that most women dread. When you are called upon to speak in front of an important audience\, at a strategic business meeting or on a panel of experts\, you are often very quickly judged by your ability to present. \nAt the many events she has hosted over the past 20 years\, Mélanie Freymond has often seen women on stage\, in TV and radio studios\, on panels (often in the minority) or as speakers who had a powerful message yet lacked impact. \nIn this workshop\, she’ll reveal her journey – the triumphs and challenges alike – and empower you to discover the confidence and impact that can truly transform your lives. \n*** \nMélanie Freymond is a well-known journalist\, presenter and moderator. She started her career as a presenter of children’s programs at RTS in 2000\, at the same time as her studies in sociology of communication and journalism at the University of Fribourg. After her master’s degree\, she worked as a journalist and columnist for various radio stations (Rouge FM\, LFM\, Radio Lac) for 9 years. \nBilingual in French and English\, and very fluent in German and Italian\, she continues to host entertainment programs for Swiss television\, as well as numerous events throughout Switzerland and beyond\, such as the Swiss Economic Forum\, Watches and Wonders or the Swiss Film Prize\, for over 20 years now. With passion and enthusiasm\, she has been hosting “The Swiss Voice Tour” for the last 7 years\, as well as several TV programmes such as “Agriculture Durable” and “Votre Argent” for La Télé. \n*** \nBeing in the spotlight is a whole job. \nCome and practise with us\, whether in English or French\, Mélanie will guide you in whichever language you feel comfortable in practicing. \n 
URL:https://www.cwf.ch/event/speak-up-master-lead-impact/
LOCATION:Royal Manotel Genève\, Rue de Lausanne 41\, Genève\, Genève\, 1201\, Switzerland
CATEGORIES:Women on Boards,Workshops
ATTACH;FMTTYPE=image/jpeg:https://www.cwf.ch/wp-content/uploads/2024/08/Melanie-Freymond_speakUp_1-e1730117322658.jpg
ORGANIZER;CN="CWF":MAILTO:administration@cwf.ch
GEO:46.2135447;6.1454261
X-APPLE-STRUCTURED-LOCATION;VALUE=URI;X-ADDRESS=Royal Manotel Genève Rue de Lausanne 41 Genève Genève 1201 Switzerland;X-APPLE-RADIUS=500;X-TITLE=Rue de Lausanne 41:geo:6.1454261,46.2135447
END:VEVENT
END:VCALENDAR