BEGIN:VCALENDAR
VERSION:2.0
PRODID:-//CWF Official Website - ECPv6.15.17.1//NONSGML v1.0//EN
CALSCALE:GREGORIAN
METHOD:PUBLISH
X-WR-CALNAME:CWF Official Website
X-ORIGINAL-URL:https://www.cwf.ch
X-WR-CALDESC:Events for CWF Official Website
REFRESH-INTERVAL;VALUE=DURATION:PT1H
X-Robots-Tag:noindex
X-PUBLISHED-TTL:PT1H
BEGIN:VTIMEZONE
TZID:Europe/Zurich
BEGIN:DAYLIGHT
TZOFFSETFROM:+0100
TZOFFSETTO:+0200
TZNAME:CEST
DTSTART:20220327T010000
END:DAYLIGHT
BEGIN:STANDARD
TZOFFSETFROM:+0200
TZOFFSETTO:+0100
TZNAME:CET
DTSTART:20221030T010000
END:STANDARD
BEGIN:DAYLIGHT
TZOFFSETFROM:+0100
TZOFFSETTO:+0200
TZNAME:CEST
DTSTART:20230326T010000
END:DAYLIGHT
BEGIN:STANDARD
TZOFFSETFROM:+0200
TZOFFSETTO:+0100
TZNAME:CET
DTSTART:20231029T010000
END:STANDARD
BEGIN:DAYLIGHT
TZOFFSETFROM:+0100
TZOFFSETTO:+0200
TZNAME:CEST
DTSTART:20240331T010000
END:DAYLIGHT
BEGIN:STANDARD
TZOFFSETFROM:+0200
TZOFFSETTO:+0100
TZNAME:CET
DTSTART:20241027T010000
END:STANDARD
END:VTIMEZONE
BEGIN:VEVENT
DTSTART;TZID=Europe/Zurich:20230920T180000
DTEND;TZID=Europe/Zurich:20230920T203000
DTSTAMP:20260425T021500
CREATED:20230526T093447Z
LAST-MODIFIED:20230919T101932Z
UID:192453-1695232800-1695241800@www.cwf.ch
SUMMARY:Développement durable et RSE : Comment aller vers une stratégie durable dans nos organisations?
DESCRIPTION:Comme tous les événements WOBs\, ce workshop est ouvert à tous\, femmes et hommes. \nDans le cadre de l’initiative WOBs\, nous avons le plaisir de vous inviter à notre prochain workshop qualitatif sur les enjeux de transformation incontournable en matière de RSE. Au cours de cet événement\, nous aborderons concrètement sa définition\, la manière d’appréhender cette thématique et partagerons des conseils pratiques pour initier une démarche de stratégie au sein de vos organisations. Nous sommes impatientes de vous accueillir pour cette occasion unique de développer vos compétences et d’échanger avec des professionnels passionnés. Réservez dès maintenant votre place pour ne pas manquer cette opportunité de croissance professionnelle ! \nLaurence De Cecco est une experte de la communication à impact\, de la gestion du changement et spécialiste dans le conseil stratégique en matière de développement durable et RSE. \nAprès 15 ans en tant que responsable de la communication du groupe Lombard Odier et un passage au sein de l’agence londonienne de branding Winkreative\, Laurence fonde en 2004 l’agence de conseil en communication blossom dont elle est la directrice. Dans un monde où les enjeux de développement durable impactent fortement les entreprises et les clients de l’agence\, Laurence intègre au sein de l’agence des compétences de conseil stratégique en durabilité et RSE ainsi qu’en stratégie de marque et communication responsable. \nLa sensibilisation et la formation des équipes étant le point de départ pour accompagner la transformation responsable des entreprises vers des modèles plus durables\, Laurence a également lancé un programme en ligne Impact Learning. Celui-ci propose un parcours immersif au sein des enjeux du développement durable et de la responsabilité sociétale des entreprises\, avec des modules de finance durable et construction durable également. \nPassionnée et engagée\, Laurence est régulièrement invitée à transmettre son expérience à travers des formations qu’elle donne dans le milieu académique et dans les réseaux professionnels. Elle est également active dans le domaine associatif et siège au Comité de réalise depuis près de 9 ans.
URL:https://www.cwf.ch/event/developpement-durable-et-rse-comment-aller-vers-une-strategie-durable-dans-nos-organisations/
LOCATION:Four Seasons Hotel des Bergues Geneva\, Quai des Bergues 33\, Genève\, Genève\, 1201\, Switzerland
CATEGORIES:Women on Boards,Workshops
ATTACH;FMTTYPE=image/jpeg:https://www.cwf.ch/wp-content/uploads/2023/05/LaurenceDeCecco.jpg
ORGANIZER;CN="CWF":MAILTO:administration@cwf.ch
GEO:46.2070227;6.146962
X-APPLE-STRUCTURED-LOCATION;VALUE=URI;X-ADDRESS=Four Seasons Hotel des Bergues Geneva Quai des Bergues 33 Genève Genève 1201 Switzerland;X-APPLE-RADIUS=500;X-TITLE=Quai des Bergues 33:geo:6.146962,46.2070227
END:VEVENT
END:VCALENDAR