BEGIN:VCALENDAR
VERSION:2.0
PRODID:-//CWF Official Website - ECPv6.15.17.1//NONSGML v1.0//EN
CALSCALE:GREGORIAN
METHOD:PUBLISH
X-WR-CALNAME:CWF Official Website
X-ORIGINAL-URL:https://www.cwf.ch
X-WR-CALDESC:Events for CWF Official Website
REFRESH-INTERVAL;VALUE=DURATION:PT1H
X-Robots-Tag:noindex
X-PUBLISHED-TTL:PT1H
BEGIN:VTIMEZONE
TZID:Europe/Zurich
BEGIN:DAYLIGHT
TZOFFSETFROM:+0100
TZOFFSETTO:+0200
TZNAME:CEST
DTSTART:20160327T010000
END:DAYLIGHT
BEGIN:STANDARD
TZOFFSETFROM:+0200
TZOFFSETTO:+0100
TZNAME:CET
DTSTART:20161030T010000
END:STANDARD
BEGIN:DAYLIGHT
TZOFFSETFROM:+0100
TZOFFSETTO:+0200
TZNAME:CEST
DTSTART:20170326T010000
END:DAYLIGHT
BEGIN:STANDARD
TZOFFSETFROM:+0200
TZOFFSETTO:+0100
TZNAME:CET
DTSTART:20171029T010000
END:STANDARD
BEGIN:DAYLIGHT
TZOFFSETFROM:+0100
TZOFFSETTO:+0200
TZNAME:CEST
DTSTART:20180325T010000
END:DAYLIGHT
BEGIN:STANDARD
TZOFFSETFROM:+0200
TZOFFSETTO:+0100
TZNAME:CET
DTSTART:20181028T010000
END:STANDARD
END:VTIMEZONE
BEGIN:VEVENT
DTSTART;TZID=Europe/Zurich:20171012T200000
DTEND;TZID=Europe/Zurich:20171012T220000
DTSTAMP:20260420T041857
CREATED:20171017T102655Z
LAST-MODIFIED:20171115T155330Z
UID:1162-1507838400-1507845600@www.cwf.ch
SUMMARY:Une aventure théino-fromagère
DESCRIPTION:Dégustation thés-fromages organisée en collaboration avec le Club Finance Genève \nVéronique Gallais et Dominique Ryser nous emmènent pour une aventure théino-fromagère ! Nous connaissons tous l’association des vins et fromage mais nous sommes persuadés que l’expérience thé et fromage nous réservera une surprise agréable. \nThé : \nBetjeman and Barton \nDepuis plus de 20 ans en Suisse \nBoutique : 35 rue St Joseph 1227 Carouge\, \nwww.barton.ch\, info@barton.ch\,  tél + 41 22 301 20 30 \n  \nFromage : \nDominique Ryser \nFromagerie Bruand SA\, Halle de Rive et Vésenaz \nhttps://halle-de-rive.com/fromagerie-bruand-s-a/ \nClub Finance Genève : cette organisation\, créée en septembre 2006\, a pour vocation de rassembler les professionnels de la finance\, de la comptabilité et du contrôle de gestion\, au sein d’une même association. Le premier but étant de faire se rencontrer des personnes travaillant dans les mêmes métiers de la finance\, afin de partager leurs expériences et d’échanger leurs idées dans une ambiance décontractée.
URL:https://www.cwf.ch/event/une-aventure-theino-fromagere/
LOCATION:PwC PricewaterhouseCoopers\, Avenue Guiseppe Motta 50\, Genève\, 1202\, Switzerland
CATEGORIES:Partners' Events
ATTACH;FMTTYPE=image/jpeg:https://www.cwf.ch/wp-content/uploads/2017/11/CFG.jpg
ORGANIZER;CN="CWF":MAILTO:administration@cwf.ch
GEO:46.2199839;6.1358655
X-APPLE-STRUCTURED-LOCATION;VALUE=URI;X-ADDRESS=PwC PricewaterhouseCoopers Avenue Guiseppe Motta 50 Genève 1202 Switzerland;X-APPLE-RADIUS=500;X-TITLE=Avenue Guiseppe Motta 50:geo:6.1358655,46.2199839
END:VEVENT
BEGIN:VEVENT
DTSTART;TZID=Europe/Zurich:20170919T200000
DTEND;TZID=Europe/Zurich:20170919T230000
DTSTAMP:20260420T041857
CREATED:20171016T155923Z
LAST-MODIFIED:20171116T122909Z
UID:1118-1505851200-1505862000@www.cwf.ch
SUMMARY:Devenir entrepreneur ou comment se lancer dans une nouvelle aventure professionnelle?
DESCRIPTION:La conférence organisée avec le Réseau Entreprendre présentera deux entrepreneures qui se sont récemment lancées dans la création de leur propre société et qui ont bénéficié du soutien de ce réseau. \nDr Véronique Basch\, Directrice générale de Steriswiss\, une société de stérilisation d’instruments médicaux réutilisables en 24h pour les médecins\, dentistes et cliniques. \nAprès des études de pharmacie à Strasbourg\, Dr Véronique Basch passe deux ans en Californie chez un fabricant de pompes à insuline\, puis rejoint l’Hôpital universitaire de Zürich\, pour une mission de recherche scientifique. En 2000\, elle rejoint l’industrie pharmaceutique : chez Novartis à Zürich puis à Bâle\, puis enfin chez UBC\, un prestataire de service pour l’industrie pharmaceutique à Genève. Véronique Basch est spécialisée dans la pharmacovigilance et occupe des postes à responsabilités croissantes jusqu’en 2015\, année où à la tête du bureau de Genève et de la « business unit » globale chez UBC\, elle décide de quitter le monde « corporate » pour se lancer dans une aventure plus entrepreneuriale et plus humaine. Elle décide de reprendre une société locale et prend les rênes de Steriswiss en décembre 2015. Steriswiss est une société de service située à Genève qui stérilise les instruments médicaux réutilisables pour les médecins\, dentistes\, et cliniques\, en 24h. Véronique Basch est lauréate du Réseau Entreprendre Suisse Romande depuis 2016. \nWendy Vanhonacker\, Fondatrice et Directrice de Fit ’n’ Tasty\, qui propose une option saine et naturelle sous forme de dose quotidienne de jus de fruits et légumes en Suisse \nWendy Vanhonacker obtient son Master en Systèmes de Communication de l’EPFL en 2004. Elle commence sa carrière en tant que consultante IT pour des groupes de consulting internationaux et approfondit ses connaissances principalement dans les ventes en ligne (pour des projets tels que Orange en Suisse\, Victoria’s Secret aux Etats-Unis et Wonderbox en France). Avec une nouvelle aventure en tête\, Wendy obtient un MBA de l’INSEAD en 2013\, et concentre toute son énergie pour créer sa première startup: Fit ’n’ Tasty. Wendy est aussi mère de deux enfants\, 2 beaux garçons pour une équation parfaite. \nDepuis 2014\, Fit ’n’ Tasty propose une option saine et naturelle sous forme de dose quotidienne de jus de fruits et légumes en Suisse. Les jus Fit ’n’ Tasty sont proposés en ligne sous forme de cure détox de jus\, en magasin comme chez Manor\, ou dans certains hôtels & spas. Envie de fraîcheur naturellement sain? De quelle couleur sera votre journée fit & tasty? \n  \n 
URL:https://www.cwf.ch/event/devenir-entrepreneur-ou-comment-se-lancer-dans-une-nouvelle-aventure-professionnelle/
LOCATION:Hôtel Beau-Rivage\, Quai du Mont-Blanc 13\, Genève\, 1201\, Switzerland
CATEGORIES:Partners' Events
ATTACH;FMTTYPE=image/jpeg:https://www.cwf.ch/wp-content/uploads/2017/11/R-Entreprendre-2.jpg
ORGANIZER;CN="CWF":MAILTO:administration@cwf.ch
GEO:46.2091782;6.1499402
X-APPLE-STRUCTURED-LOCATION;VALUE=URI;X-ADDRESS=Hôtel Beau-Rivage Quai du Mont-Blanc 13 Genève 1201 Switzerland;X-APPLE-RADIUS=500;X-TITLE=Quai du Mont-Blanc 13:geo:6.1499402,46.2091782
END:VEVENT
BEGIN:VEVENT
DTSTART;TZID=Europe/Zurich:20170314T180000
DTEND;TZID=Europe/Zurich:20170314T210000
DTSTAMP:20260420T041857
CREATED:20171212T164009Z
LAST-MODIFIED:20171212T164009Z
UID:5225-1489514400-1489525200@www.cwf.ch
SUMMARY:Workshop Le patrimoine au féminin
DESCRIPTION:« Le patrimoine au féminin » \nVous souhaitez effectuer un bilan de votre patrimoine actuel\, planifier votre avenir de manière prévoyante et optimiser vos actifs à long terme? Pour ce faire\, il faut une base solide et des décisions mûrement réfléchies. La planification patrimoniale vous aide à envisager votre situation financière de manière globale et à l’optimiser dans un processus continu. \nLors de cette manifestation\, nous aborderons de manière interactive les différentes composantes de ce processus\, à savoir : la question du régime matrimonial\, les possibilités d’aménagement du droit successoral et du nouveau droit de la protection de l’adulte ainsi que les possibilités de déterminer individuellement sa prévoyance et son départ à la retraite. Vous obtiendrez en outre un aperçu des incidences patrimoniales quant aux investissements immobiliers ou en matière de choix entrepreneurial. \nProgramme  \n« Régime matrimonial\, Successions\, et nouveau droit de la protection de l’enfant et de l’adulte »\, Karen Favre\, Successoraliste \n« Prévoyance et Retraite »\, Alexandra Caliman\, Planificatrice financière \n« Immobilier et Entreprise »\, Valérie Chausse\, Responsable Planification Patrimoniale \n 
URL:https://www.cwf.ch/event/workshop-le-patrimoine-au-feminin/
CATEGORIES:Partners' Events
ATTACH;FMTTYPE=image/png:https://www.cwf.ch/wp-content/uploads/2017/12/index.png
ORGANIZER;CN="CWF":MAILTO:administration@cwf.ch
END:VEVENT
END:VCALENDAR