BEGIN:VCALENDAR
VERSION:2.0
PRODID:-//CWF Official Website - ECPv6.15.17.1//NONSGML v1.0//EN
CALSCALE:GREGORIAN
METHOD:PUBLISH
X-WR-CALNAME:CWF Official Website
X-ORIGINAL-URL:https://www.cwf.ch
X-WR-CALDESC:Events for CWF Official Website
REFRESH-INTERVAL;VALUE=DURATION:PT1H
X-Robots-Tag:noindex
X-PUBLISHED-TTL:PT1H
BEGIN:VTIMEZONE
TZID:Europe/Zurich
BEGIN:DAYLIGHT
TZOFFSETFROM:+0100
TZOFFSETTO:+0200
TZNAME:CEST
DTSTART:20240331T010000
END:DAYLIGHT
BEGIN:STANDARD
TZOFFSETFROM:+0200
TZOFFSETTO:+0100
TZNAME:CET
DTSTART:20241027T010000
END:STANDARD
BEGIN:DAYLIGHT
TZOFFSETFROM:+0100
TZOFFSETTO:+0200
TZNAME:CEST
DTSTART:20250330T010000
END:DAYLIGHT
BEGIN:STANDARD
TZOFFSETFROM:+0200
TZOFFSETTO:+0100
TZNAME:CET
DTSTART:20251026T010000
END:STANDARD
BEGIN:DAYLIGHT
TZOFFSETFROM:+0100
TZOFFSETTO:+0200
TZNAME:CEST
DTSTART:20260329T010000
END:DAYLIGHT
BEGIN:STANDARD
TZOFFSETFROM:+0200
TZOFFSETTO:+0100
TZNAME:CET
DTSTART:20261025T010000
END:STANDARD
END:VTIMEZONE
BEGIN:VEVENT
DTSTART;TZID=Europe/Zurich:20251125T183000
DTEND;TZID=Europe/Zurich:20251125T223000
DTSTAMP:20260420T041402
CREATED:20250711T101155Z
LAST-MODIFIED:20251118T100909Z
UID:205009-1764095400-1764109800@www.cwf.ch
SUMMARY:Soirée Gala du CLAFG
DESCRIPTION:En tant qu’association membre du CLAFG\, le Career Women’s Forum a le plaisir de vous transmettre l’invitation à la Soirée Gala annuelle du Centre de Liaison des Associations Féminines Genevoises (CLAFG)\, qui se tiendra le mardi 25 novembre 2025 à partir de 18h30 au prestigieux Four Seasons Hotel de Genève. \nÀ l’occasion de la Journée internationale pour l’élimination de la violence à l’égard des femmes\, cette soirée d’exception se veut un moment de visibilité\, de réseautage\, de mobilisation et de célébration. \nInscriptions sur le site du CLAFG \nAu programme : \n\nDîner de gala\nInterludes musicaux et performances artistiques\nDiscours inspirants\nExposition artistique sur le multiculturalisme en collaboration avec la Swiss Association of Women and Empowerment\nTirage au sort avec de nombreux lots à gagner\nEt bien d’autres surprises…\n\nParticipation au dîner : 220 CHF par personne \nRéservation d’une table (10 personnes) : 2’000 CHF \nCet événement vise également à soutenir concrètement nos actions en faveur des femmes\, telles que : \n\nL’Académie CLAFG pour la formation en leadership\nLe programme « Coup de pouce » pour les femmes en difficulté\nLe développement de projets numériques inclusifs\nL’accès à la santé mentale et globale\nDes espaces de co-travail\, studios\, et permanences sociales et juridiques\n\nBlerina ZOTO\nPrésidente
URL:https://www.cwf.ch/event/save-the-date-soiree-gala-du-clafg/
LOCATION:Four Seasons Hotel des Bergues Geneva\, Quai des Bergues 33\, Genève\, Genève\, 1201\, Switzerland
CATEGORIES:Partners' Events
ATTACH;FMTTYPE=image/jpeg:https://www.cwf.ch/wp-content/uploads/2025/07/GalaCLAFG-2025.jpg
ORGANIZER;CN="CLAFG - Centre de liaison des associations f%C3%A9minines genevoises":MAILTO:contact@clafg.ch
GEO:46.2070227;6.146962
X-APPLE-STRUCTURED-LOCATION;VALUE=URI;X-ADDRESS=Four Seasons Hotel des Bergues Geneva Quai des Bergues 33 Genève Genève 1201 Switzerland;X-APPLE-RADIUS=500;X-TITLE=Quai des Bergues 33:geo:6.146962,46.2070227
END:VEVENT
END:VCALENDAR