BEGIN:VCALENDAR
VERSION:2.0
PRODID:-//CWF Official Website - ECPv6.15.17.1//NONSGML v1.0//EN
CALSCALE:GREGORIAN
METHOD:PUBLISH
X-ORIGINAL-URL:https://www.cwf.ch
X-WR-CALDESC:Events for CWF Official Website
REFRESH-INTERVAL;VALUE=DURATION:PT1H
X-Robots-Tag:noindex
X-PUBLISHED-TTL:PT1H
BEGIN:VTIMEZONE
TZID:Europe/Zurich
BEGIN:DAYLIGHT
TZOFFSETFROM:+0100
TZOFFSETTO:+0200
TZNAME:CEST
DTSTART:20250330T010000
END:DAYLIGHT
BEGIN:STANDARD
TZOFFSETFROM:+0200
TZOFFSETTO:+0100
TZNAME:CET
DTSTART:20251026T010000
END:STANDARD
BEGIN:DAYLIGHT
TZOFFSETFROM:+0100
TZOFFSETTO:+0200
TZNAME:CEST
DTSTART:20260329T010000
END:DAYLIGHT
BEGIN:STANDARD
TZOFFSETFROM:+0200
TZOFFSETTO:+0100
TZNAME:CET
DTSTART:20261025T010000
END:STANDARD
BEGIN:DAYLIGHT
TZOFFSETFROM:+0100
TZOFFSETTO:+0200
TZNAME:CEST
DTSTART:20270328T010000
END:DAYLIGHT
BEGIN:STANDARD
TZOFFSETFROM:+0200
TZOFFSETTO:+0100
TZNAME:CET
DTSTART:20271031T010000
END:STANDARD
END:VTIMEZONE
BEGIN:VEVENT
DTSTART;TZID=Europe/Zurich:20260430T133000
DTEND;TZID=Europe/Zurich:20260430T143000
DTSTAMP:20260424T150144
CREATED:20260423T150842Z
LAST-MODIFIED:20260423T152401Z
UID:209880-1777555800-1777559400@www.cwf.ch
SUMMARY:Mentoring for Leadership – Module 1
DESCRIPTION:This workshop is open only to the MENTORS of the 2026 Mentoring Program \nDear 2026 CWF mentors\, \nYou are invited to join us for the first module of the “Mentoring as a Leadership Skill” program. This is the first module of a series of four\, all meant to enhance your understanding and mentoring ability. This is also to help you turn your mentoring experience into success and provide your mentee with a great experience. \nAll modules of this series will be highly interactive. The recording of the sessions will be sent to you after each session so that you can review them as many times as you wish and don’t feel lost if you cannot attend one of the four modules. \nLooking forward to e-meeting you on April 30 at 13.30 for the first module. \nDomiique Ben Dhaou\nMentoring and Mastermind programs \nLink to join your session on April 30 at 13.30 CET
URL:https://www.cwf.ch/event/mentoring-for-leadership-module-1-2/
LOCATION:Visioconference
CATEGORIES:Mentoring
ATTACH;FMTTYPE=image/png:https://www.cwf.ch/wp-content/uploads/2017/10/Mentoring-2.png
END:VEVENT
BEGIN:VEVENT
DTSTART;TZID=Europe/Zurich:20260506T170000
DTEND;TZID=Europe/Zurich:20260506T180000
DTSTAMP:20260424T150144
CREATED:20260423T151648Z
LAST-MODIFIED:20260423T151649Z
UID:209882-1778086800-1778090400@www.cwf.ch
SUMMARY:Mentoring for Leadership – Module 2
DESCRIPTION:This workshop is open only to the MENTORS of the 2026 Mentoring Program \nDear 2026 CWF mentors\, \nYou are invited to join us for the second module of the “Mentoring as a Leadership Skill” program. This is the second module of a series of four\, all meant to enhance your understanding and mentoring ability. This is also to help you turn your mentoring experience into success and provide your mentee with a great experience. \nAll modules of this series will be highly interactive. The recording of the sessions will be sent to you after each session so that you can review them as many times as you wish and don’t feel lost if you cannot attend one of the four modules. \nLooking forward to e-meeting you on May 6 at 17.00 for the secont module. \nDomiique Ben Dhaou\nMentoring and Mastermind programs \nLink to join your session on May 6 at 17.00 CET
URL:https://www.cwf.ch/event/mentoring-for-leadership-module-2-2/
LOCATION:Visioconference
CATEGORIES:Mentoring
ATTACH;FMTTYPE=image/png:https://www.cwf.ch/wp-content/uploads/2017/10/Mentoring-2.png
ORGANIZER;CN="CWF":MAILTO:administration@cwf.ch
END:VEVENT
BEGIN:VEVENT
DTSTART;TZID=Europe/Zurich:20260512T083000
DTEND;TZID=Europe/Zurich:20260512T093000
DTSTAMP:20260424T150144
CREATED:20260423T152349Z
LAST-MODIFIED:20260423T152350Z
UID:209884-1778574600-1778578200@www.cwf.ch
SUMMARY:Mentoring for Leadership – Module 3
DESCRIPTION:This workshop is open only to the MENTORS of the 2026 Mentoring Program \nDear 2026 CWF mentors\, \nYou are invited to join us for the third module of the “Mentoring as a Leadership Skill” program. This is the third module of a series of four\, all meant to enhance your understanding and mentoring ability. This is also to help you turn your mentoring experience into success and provide your mentee with a great experience. \nAll modules of this series will be highly interactive. The recording of the sessions will be sent to you after each session so that you can review them as many times as you wish and don’t feel lost if you cannot attend one of the four modules. \nLooking forward to e-meeting you on May 12 at 8.30 for the third module. \nDomiique Ben Dhaou\nMentoring and Mastermind programs \nLink to join your session on May 12 at 8.30 CET
URL:https://www.cwf.ch/event/mentoring-for-leadership-module-3-2/
LOCATION:Visioconference
CATEGORIES:Mentoring
ATTACH;FMTTYPE=image/png:https://www.cwf.ch/wp-content/uploads/2017/10/Mentoring-2.png
ORGANIZER;CN="CWF":MAILTO:administration@cwf.ch
END:VEVENT
BEGIN:VEVENT
DTSTART;TZID=Europe/Zurich:20260520T113000
DTEND;TZID=Europe/Zurich:20260520T123000
DTSTAMP:20260424T150144
CREATED:20260423T153106Z
LAST-MODIFIED:20260423T153107Z
UID:209887-1779276600-1779280200@www.cwf.ch
SUMMARY:Mentoring for Leadership – Module 4
DESCRIPTION:This workshop is open only to the MENTORS of the 2026 Mentoring Program \nDear 2026 CWF mentors\, \nYou are invited to join us for the fourth module of the “Mentoring as a Leadership Skill” program. This is the last module of a series of four\, all meant to enhance your understanding and mentoring ability. This is also to help you turn your mentoring experience into success and provide your mentee with a great experience. \nAll modules of this series will be highly interactive. The recording of the sessions will be sent to you after each session so that you can review them as many times as you wish and don’t feel lost if you cannot attend one of the four modules. \nLooking forward to e-meeting you on May 20 at 11.30 for the last module. \nDomiique Ben Dhaou\nMentoring and Mastermind programs \nLink to join your session on April 30 at 13.30 CET
URL:https://www.cwf.ch/event/mentoring-for-leadership-module-4-2/
LOCATION:Visioconference
CATEGORIES:Mentoring
ATTACH;FMTTYPE=image/png:https://www.cwf.ch/wp-content/uploads/2017/10/Mentoring-2.png
ORGANIZER;CN="CWF":MAILTO:administration@cwf.ch
END:VEVENT
END:VCALENDAR