BEGIN:VCALENDAR
VERSION:2.0
PRODID:-//CWF Official Website - ECPv6.15.17.1//NONSGML v1.0//EN
CALSCALE:GREGORIAN
METHOD:PUBLISH
X-ORIGINAL-URL:https://www.cwf.ch
X-WR-CALDESC:Events for CWF Official Website
REFRESH-INTERVAL;VALUE=DURATION:PT1H
X-Robots-Tag:noindex
X-PUBLISHED-TTL:PT1H
BEGIN:VTIMEZONE
TZID:Europe/Zurich
BEGIN:DAYLIGHT
TZOFFSETFROM:+0100
TZOFFSETTO:+0200
TZNAME:CEST
DTSTART:20210328T010000
END:DAYLIGHT
BEGIN:STANDARD
TZOFFSETFROM:+0200
TZOFFSETTO:+0100
TZNAME:CET
DTSTART:20211031T010000
END:STANDARD
BEGIN:DAYLIGHT
TZOFFSETFROM:+0100
TZOFFSETTO:+0200
TZNAME:CEST
DTSTART:20220327T010000
END:DAYLIGHT
BEGIN:STANDARD
TZOFFSETFROM:+0200
TZOFFSETTO:+0100
TZNAME:CET
DTSTART:20221030T010000
END:STANDARD
BEGIN:DAYLIGHT
TZOFFSETFROM:+0100
TZOFFSETTO:+0200
TZNAME:CEST
DTSTART:20230326T010000
END:DAYLIGHT
BEGIN:STANDARD
TZOFFSETFROM:+0200
TZOFFSETTO:+0100
TZNAME:CET
DTSTART:20231029T010000
END:STANDARD
END:VTIMEZONE
BEGIN:VEVENT
DTSTART;TZID=Europe/Zurich:20221108T183000
DTEND;TZID=Europe/Zurich:20221108T203000
DTSTAMP:20260424T110742
CREATED:20220920T091725Z
LAST-MODIFIED:20221018T083909Z
UID:186160-1667932200-1667939400@www.cwf.ch
SUMMARY:Afterwork Mentoring and Mastermind
DESCRIPTION:This event is open ONLY to participants in the CWF mentoring and mastermind programs \nDear Mentors and Mentees of the CWF mentoring programs (Fall 2021 and Spring 2022 sessions)\,\nDear participants in the Mastermind program\, \nAs we regularly do during the year\, we would like to invite you to share a moment of networking and face-to-face exchange with the other pairs involved at different stages in the programs. For this session will will also invite the partitipants involved in the new Mastermind program. \nPlease come and join us at le Bar à vins Les Philosophes\, a nice place where we can meet and share informal discussions about our mentoring/mastermind experiences\, questions\, ideas… around a light collation. \nFor organisational reasons\, we thank you for registering below.
URL:https://www.cwf.ch/event/afterwork-mentoring/
LOCATION:Les Philosophes\, Rue Prévost-Martin 5\, Genève\, Genève\, 1205\, Switzerland
CATEGORIES:AfterWork,Co-development
ATTACH;FMTTYPE=image/jpeg:https://www.cwf.ch/wp-content/uploads/2022/09/Mentoring-Carosello-05.07.2022.jpg
ORGANIZER;CN="CWF":MAILTO:administration@cwf.ch
GEO:46.1955985;6.1458424
X-APPLE-STRUCTURED-LOCATION;VALUE=URI;X-ADDRESS=Les Philosophes Rue Prévost-Martin 5 Genève Genève 1205 Switzerland;X-APPLE-RADIUS=500;X-TITLE=Rue Prévost-Martin 5:geo:6.1458424,46.1955985
END:VEVENT
BEGIN:VEVENT
DTSTART;TZID=Europe/Zurich:20221122T180000
DTEND;TZID=Europe/Zurich:20221122T190000
DTSTAMP:20260424T110743
CREATED:20221026T143951Z
LAST-MODIFIED:20221116T095154Z
UID:186849-1669140000-1669143600@www.cwf.ch
SUMMARY:High Impact Mentoring Catch-up
DESCRIPTION:Registration is open only to mentees and mentors who have received the invitation and link to register (Spring or Fall session)\n \nAs a participant to the CWF’s Mentoring Program\, we have the pleasure to invite you to a one hour online workshop/catch-up facilitated by Christelle Patriarca. \nBased on the recording of the High Impact Mentoring worskhop given by Christelle Patriarca on April 5\, which will be sent to you\, you will be able to ask questions\, exchange ideas and experiences\, with the other mentors and mentees. It is not mandatory\, but however it will help you make the most of the mentoring journey with CWF! \nThe combination of the recorded workshop and this one hour catch-up will help to understand the respective roles of Mentors and  Mentees and  to increase their mutual confidence. You will also learn how to manage development discussions and mentoring partnerships with positive impact and effectiveness. \nIn short – you will learn how to: \n\nDefine and understand the expectations of both mentors and mentees\nLeverage personal and professional growth through mentoring and development conversations\nApply the GROW (Goal/Reality/Obstacles/Options/Way forward) model\, a development tool that works for mentees\, reports\, colleagues\, friends and relatives.\n\nFor confidentiality reasons\, this workshop will not be recorded. \n 
URL:https://www.cwf.ch/event/high-impact-mentoring-workshop-4/
LOCATION:Visioconference
CATEGORIES:Co-development
ATTACH;FMTTYPE=image/jpeg:https://www.cwf.ch/wp-content/uploads/2022/03/Christelle-couleur.jpg
ORGANIZER;CN="CWF":MAILTO:administration@cwf.ch
END:VEVENT
END:VCALENDAR