BEGIN:VCALENDAR
VERSION:2.0
PRODID:-//CWF Official Website - ECPv6.15.17.1//NONSGML v1.0//EN
CALSCALE:GREGORIAN
METHOD:PUBLISH
X-WR-CALNAME:CWF Official Website
X-ORIGINAL-URL:https://www.cwf.ch
X-WR-CALDESC:Events for CWF Official Website
REFRESH-INTERVAL;VALUE=DURATION:PT1H
X-Robots-Tag:noindex
X-PUBLISHED-TTL:PT1H
BEGIN:VTIMEZONE
TZID:Europe/Zurich
BEGIN:DAYLIGHT
TZOFFSETFROM:+0100
TZOFFSETTO:+0200
TZNAME:CEST
DTSTART:20250330T010000
END:DAYLIGHT
BEGIN:STANDARD
TZOFFSETFROM:+0200
TZOFFSETTO:+0100
TZNAME:CET
DTSTART:20251026T010000
END:STANDARD
BEGIN:DAYLIGHT
TZOFFSETFROM:+0100
TZOFFSETTO:+0200
TZNAME:CEST
DTSTART:20260329T010000
END:DAYLIGHT
BEGIN:STANDARD
TZOFFSETFROM:+0200
TZOFFSETTO:+0100
TZNAME:CET
DTSTART:20261025T010000
END:STANDARD
BEGIN:DAYLIGHT
TZOFFSETFROM:+0100
TZOFFSETTO:+0200
TZNAME:CEST
DTSTART:20270328T010000
END:DAYLIGHT
BEGIN:STANDARD
TZOFFSETFROM:+0200
TZOFFSETTO:+0100
TZNAME:CET
DTSTART:20271031T010000
END:STANDARD
END:VTIMEZONE
BEGIN:VEVENT
DTSTART;TZID=Europe/Zurich:20260331T183000
DTEND;TZID=Europe/Zurich:20260331T223000
DTSTAMP:20260425T173200
CREATED:20260223T170058Z
LAST-MODIFIED:20260330T180126Z
UID:208948-1774981800-1774996200@www.cwf.ch
SUMMARY:Une soirée unique placée sous le signe de l’élégance avec Manor Genève
DESCRIPTION:Accueil de 18.30 à 19.00 \nA 19.00 les portes seront fermées pour des raisons de sécurité. \nLe parking de Manor est offert et ouvert jusqu’à 19h. \n(il sera fermé à 19h (pour les entrées) \nManor Genève nous ouvre ses portes le temps d’une soirée entièrement réservée aux membres Career Women’s Forum. \nPour cette occasion particulière le magasin sera privatisé\, nous permettant de découvrir ses nouveaux espaces dans une atmosphère privilégiée. Une immersion en toute intimité dans un lieu qui affirme aujourd’hui son positionnement premium et son rôle de référence à Genève. \nNous aurons également l’opportunité de revenir sur l’histoire de cette enseigne emblématique en Suisse et d’en comprendre les orientations stratégiques\, avant de parcourir les collections et les espaces récemment repensés. La soirée se conclura autour d’un cocktail dînatoire propice aux échanges et aux rencontres. Quelques surprises viendront agrémenter la soirée. \nCette soirée étant exclusive\, le nombre de places est limité et les inscriptions seront prises en compte selon le principe « premier arrivé\, premier servi ». \nNous nous réjouissons de partager avec vous cette expérience singulière\, pensée pour nos membres. \nMerci de noter: par respect envers Manor qui offre généreusement cet événement et le cocktail aux membres du CWF\, nous facturerons un montant de CHF 30.- aux membres inscrites qui ne se présenteront pas à l’événement.
URL:https://www.cwf.ch/event/une-soiree-unique-placee-sous-le-signe-de-lelegance-avec-manor-geneve/
LOCATION:Manor\, Rue de Cornavin 6\, Genève\, 1201\, Switzerland
CATEGORIES:Evening Events,Festive Events
ATTACH;FMTTYPE=image/png:https://www.cwf.ch/wp-content/uploads/2026/02/Unknown-1.png
ORGANIZER;CN="CWF":MAILTO:administration@cwf.ch
GEO:46.2073597;6.1425635
X-APPLE-STRUCTURED-LOCATION;VALUE=URI;X-ADDRESS=Manor Rue de Cornavin 6 Genève 1201 Switzerland;X-APPLE-RADIUS=500;X-TITLE=Rue de Cornavin 6:geo:6.1425635,46.2073597
END:VEVENT
BEGIN:VEVENT
DTSTART;TZID=Europe/Zurich:20260429T180000
DTEND;TZID=Europe/Zurich:20260429T210000
DTSTAMP:20260425T173200
CREATED:20260108T154951Z
LAST-MODIFIED:20260422T132815Z
UID:207585-1777485600-1777496400@www.cwf.ch
SUMMARY:Assemblée Générale 2026
DESCRIPTION:Cet événement est réservé aux membres du CWF \nCet événement est complet. Si vous souhaitez être sur la liste d’attente\, vous pouvez envoyer un message à administration@cwf.ch \n\nChères membres et amies\, \nNous avons le plaisir de vous inviter à notre Assemblée Générale (AG) Annuelle du Career Women’s Forum réservée aux membres\, une soirée dédiée à la réflexion sur nos réalisations collectives et à la définition de l’avenir de la communauté CWF. \nCette année\, alors que le CWF continue d’évoluer dans un monde en constante mutation\, nous aurons à cœur d’échanger sur les nouvelles opportunités\, les défis à venir et les orientations stratégiques de notre communauté. Votre engagement et vos idées façonnent l’avenir du CWF. \nÀ l’issue de l’Assemblée Générale\, nous avons le plaisir de vous convier à un cocktail de réseautage exclusif réservé aux membres\, généreusement offert par le CWF. Une belle occasion d’échanger\, de partager vos expériences et de renforcer notre réseau dynamique au cœur de la région lémanique. \nde la diversité de tous vos profils qui constituent une communauté diversifiée et bienveillante. Ce sont vos compétences et votre implication qui font du Career Women’s Forum un réseau engagé et tourné vers l’avenir \nNous nous réjouissons de vous retrouver pour un moment de réseautage et d’échanges amicaux pour accueillir une nouvelle année riche en projets à partager. \nBien cordialement\, \nLe Comité du Career Women’s Forum \nStefania Di Cecca\, Gisèle Champion\, Fabienne Barresi\, Fatima Bayol\, Dominique Ben Dhaou\, Christine Gilliéron\, Ellen Kocher\, Bérénice Remy\, Rodica Rosu Fridez \n**** \nDear members and friends\, \nWe are delighted to invite you to our Annual General Meeting (AGM) of the Career Women’s Forum\, an evening dedicated to reflecting on our collective achievements and defining the future of the CWF community. \nThis year\, as the Career Women’s Forum continues to evolve in an ever-changing world\, we look forward to discussing new opportunities\, future challenges and strategic directions for our community. Your commitment and ideas shape the future of the CWF \nFollowing the Annual General Meeting\, we have the pleasure to invite you to an exclusive networking cocktail for members only\, generously offered by the Career Women’s Forum. A great opportunity to exchange ideas\, share experiences and strengthen our dynamic network in the heart of the lake Léman region. \nThe value of the Career Women’s Forum stems from the diversity of all your profiles\, which creates a diverse and caring community. It is your skills and involvement that make the Career Women’s Forum a committed and forward-looking network. \nWe look forward to seeing you for a moment of networking and friendly exchanges to welcome a new year full of projects to share. \nWarm Regards\, \nThe Career Women’s Forum Committee \nStefania Di Cecca\, Gisèle Champion\, Fabienne Barresi\, Fatima Bayol\, Dominique Ben Dhaou\, Christine Gilliéron\, Ellen Kocher\, Bérénice Remy\, Rodica Rosu Fridez \n 
URL:https://www.cwf.ch/event/assemblee-generale-2026/
LOCATION:Hotel Marriott Geneva\, Chemin du Ruisseau 1\, Cointrain - Genève\, 1216\, Switzerland
CATEGORIES:Evening Events,Festive Events
ATTACH;FMTTYPE=image/jpeg:https://www.cwf.ch/wp-content/uploads/2024/08/CWF_Commity_1-web-1.jpg
ORGANIZER;CN="CWF":MAILTO:administration@cwf.ch
GEO:46.2211624;6.103311
X-APPLE-STRUCTURED-LOCATION;VALUE=URI;X-ADDRESS=Hotel Marriott Geneva Chemin du Ruisseau 1 Cointrain - Genève 1216 Switzerland;X-APPLE-RADIUS=500;X-TITLE=Chemin du Ruisseau 1:geo:6.103311,46.2211624
END:VEVENT
END:VCALENDAR