BEGIN:VCALENDAR
VERSION:2.0
PRODID:-//CWF Official Website - ECPv6.15.17.1//NONSGML v1.0//EN
CALSCALE:GREGORIAN
METHOD:PUBLISH
X-WR-CALNAME:CWF Official Website
X-ORIGINAL-URL:https://www.cwf.ch
X-WR-CALDESC:Events for CWF Official Website
REFRESH-INTERVAL;VALUE=DURATION:PT1H
X-Robots-Tag:noindex
X-PUBLISHED-TTL:PT1H
BEGIN:VTIMEZONE
TZID:Europe/Zurich
BEGIN:DAYLIGHT
TZOFFSETFROM:+0100
TZOFFSETTO:+0200
TZNAME:CEST
DTSTART:20170326T010000
END:DAYLIGHT
BEGIN:STANDARD
TZOFFSETFROM:+0200
TZOFFSETTO:+0100
TZNAME:CET
DTSTART:20171029T010000
END:STANDARD
BEGIN:DAYLIGHT
TZOFFSETFROM:+0100
TZOFFSETTO:+0200
TZNAME:CEST
DTSTART:20180325T010000
END:DAYLIGHT
BEGIN:STANDARD
TZOFFSETFROM:+0200
TZOFFSETTO:+0100
TZNAME:CET
DTSTART:20181028T010000
END:STANDARD
BEGIN:DAYLIGHT
TZOFFSETFROM:+0100
TZOFFSETTO:+0200
TZNAME:CEST
DTSTART:20190331T010000
END:DAYLIGHT
BEGIN:STANDARD
TZOFFSETFROM:+0200
TZOFFSETTO:+0100
TZNAME:CET
DTSTART:20191027T010000
END:STANDARD
END:VTIMEZONE
BEGIN:VEVENT
DTSTART;TZID=Europe/Zurich:20180925T180000
DTEND;TZID=Europe/Zurich:20180925T210000
DTSTAMP:20260420T130136
CREATED:20180405T155655Z
LAST-MODIFIED:20180926T173915Z
UID:20554-1537898400-1537909200@www.cwf.ch
SUMMARY:Workshop "J'active la confiance"
DESCRIPTION:Manager une équipe\, gérer un conflit\, changer de carrière\, se mettre à son compte… Le regard que l’on porte sur nous-mêmes a un impact sur nos décisions et nos évolutions professionnelles. La confiance en soi devient alors un ingrédient important de notre réussite: elle nous aide à nous affirmer davantage\, à faire face à des situations que l’on avait de la peine à affronter\, elle nous encourage à passer à l’action. Nous\, les femmes\, avons parfois des difficultés à reconnaître nos réussites.  \nAlors qu’il nous faut tout\, plutôt vite de surcroît\, nous nous posons régulièrement des tas de questions\, notre mental ne nous lâche pas : \n\nEst-ce que je serai à la hauteur ?\nEst-ce que je suis assez présente à la maison ?\nEst-ce que ? Est-ce que ? Est-ce que? Pourquoi… ?\n\nEt voilà que la confiance s’invite !  \nDurant cet atelier\, on sortira des sentiers battus… pas de prise de note\, pas de présentation Powerpoint\, on va «expérimenter» !  \nCet atelier va vous permettre de : \n\nMieux comprendre les différents degrés de confiance en vous.\nSavoir où vous en êtes par rapport à la confiance.\nExpérimenter et activer la confiance.\nAvoir des clefs pour augmenter votre degré de confiance au quotidien.\n\nVous repartirez reboostée\, avec des exercices concrets à utiliser dans votre quotidien.  \nVeronica Catapano Bostock \nOriginaire d’Italie\, Veronica a vécu dans plusieurs pays avant de s’installer à Genève avec sa famille il y a 13 ans. Titulaire d’un diplôme universitaire en économie internationale et d’un MBA\, elle a travaillé en tant que directeur financier dans 6 compagnies internationales globalement reconnues. « J’ai vécu au quotidien les défis que le style de vie moderne impose jusqu’au moment où je me suis demandé comment surmonter tout cela en préservant mon bien-être et mon intégrité ». Sophrologue spécialisée dans la gestion des états anxieux qui limitent le développement de la personne elle exerce en entreprise et auprès des particuliers (www.vivresophro.ch). \nKatia Véru \nFrançaise\, expatriée pendant 13 ans aux 4 coins du monde\, elle s’est installée avec sa petite tribu dans le bassin lémanique il y a 9 ans. Sophrologue\, Katia est présente en entreprise (formations et séances de groupe hebdomadaires)\, ainsi qu’en cabinet à Genève pour de l’accompagnement individuel. « Dans ce monde où tout va toujours plus vite\, j’aime permettre de vraies pauses\, offrir un retour à soi indispensable à notre santé\, transmettre des outils que chacun s’approprie pour vivre mieux » (www.KV-sophrologie.com). \nLieu : sera confirmé en fonction du nombre de participants (1-2 semaines avant l’événement) \nAccueil: 18h00 \nWorkshop: 18h30 \nCe workshop est complet.
URL:https://www.cwf.ch/event/workshop-jactive-la-confiance/
LOCATION:Von Rohr and Associates SA\, 47 avenue Blanc (7ème étage)\, Geneva\, 1202\, Switzerland
CATEGORIES:Workshops
ATTACH;FMTTYPE=image/png:https://www.cwf.ch/wp-content/uploads/2018/04/Veronica-Katia.png
ORGANIZER;CN="CWF":MAILTO:administration@cwf.ch
GEO:46.220995;6.1477462
X-APPLE-STRUCTURED-LOCATION;VALUE=URI;X-ADDRESS=Von Rohr and Associates SA 47 avenue Blanc (7ème étage) Geneva 1202 Switzerland;X-APPLE-RADIUS=500;X-TITLE=47 avenue Blanc (7ème étage):geo:6.1477462,46.220995
END:VEVENT
END:VCALENDAR