BEGIN:VCALENDAR
VERSION:2.0
PRODID:-//CWF Official Website - ECPv6.15.17.1//NONSGML v1.0//EN
CALSCALE:GREGORIAN
METHOD:PUBLISH
X-WR-CALNAME:CWF Official Website
X-ORIGINAL-URL:https://www.cwf.ch
X-WR-CALDESC:Events for CWF Official Website
REFRESH-INTERVAL;VALUE=DURATION:PT1H
X-Robots-Tag:noindex
X-PUBLISHED-TTL:PT1H
BEGIN:VTIMEZONE
TZID:Europe/Zurich
BEGIN:DAYLIGHT
TZOFFSETFROM:+0100
TZOFFSETTO:+0200
TZNAME:CEST
DTSTART:20250330T010000
END:DAYLIGHT
BEGIN:STANDARD
TZOFFSETFROM:+0200
TZOFFSETTO:+0100
TZNAME:CET
DTSTART:20251026T010000
END:STANDARD
BEGIN:DAYLIGHT
TZOFFSETFROM:+0100
TZOFFSETTO:+0200
TZNAME:CEST
DTSTART:20260329T010000
END:DAYLIGHT
BEGIN:STANDARD
TZOFFSETFROM:+0200
TZOFFSETTO:+0100
TZNAME:CET
DTSTART:20261025T010000
END:STANDARD
BEGIN:DAYLIGHT
TZOFFSETFROM:+0100
TZOFFSETTO:+0200
TZNAME:CEST
DTSTART:20270328T010000
END:DAYLIGHT
BEGIN:STANDARD
TZOFFSETFROM:+0200
TZOFFSETTO:+0100
TZNAME:CET
DTSTART:20271031T010000
END:STANDARD
END:VTIMEZONE
BEGIN:VEVENT
DTSTART;TZID=Europe/Zurich:20260430T133000
DTEND;TZID=Europe/Zurich:20260430T143000
DTSTAMP:20260424T145825
CREATED:20260423T150842Z
LAST-MODIFIED:20260423T152401Z
UID:209880-1777555800-1777559400@www.cwf.ch
SUMMARY:Mentoring for Leadership – Module 1
DESCRIPTION:This workshop is open only to the MENTORS of the 2026 Mentoring Program \nDear 2026 CWF mentors\, \nYou are invited to join us for the first module of the “Mentoring as a Leadership Skill” program. This is the first module of a series of four\, all meant to enhance your understanding and mentoring ability. This is also to help you turn your mentoring experience into success and provide your mentee with a great experience. \nAll modules of this series will be highly interactive. The recording of the sessions will be sent to you after each session so that you can review them as many times as you wish and don’t feel lost if you cannot attend one of the four modules. \nLooking forward to e-meeting you on April 30 at 13.30 for the first module. \nDomiique Ben Dhaou\nMentoring and Mastermind programs \nLink to join your session on April 30 at 13.30 CET
URL:https://www.cwf.ch/event/mentoring-for-leadership-module-1-2/
LOCATION:Visioconference
CATEGORIES:Mentoring
ATTACH;FMTTYPE=image/png:https://www.cwf.ch/wp-content/uploads/2017/10/Mentoring-2.png
END:VEVENT
END:VCALENDAR