BEGIN:VCALENDAR
VERSION:2.0
PRODID:-//CWF Official Website - ECPv6.15.17.1//NONSGML v1.0//EN
CALSCALE:GREGORIAN
METHOD:PUBLISH
X-WR-CALNAME:CWF Official Website
X-ORIGINAL-URL:https://www.cwf.ch
X-WR-CALDESC:Events for CWF Official Website
REFRESH-INTERVAL;VALUE=DURATION:PT1H
X-Robots-Tag:noindex
X-PUBLISHED-TTL:PT1H
BEGIN:VTIMEZONE
TZID:Europe/Zurich
BEGIN:DAYLIGHT
TZOFFSETFROM:+0100
TZOFFSETTO:+0200
TZNAME:CEST
DTSTART:20170326T010000
END:DAYLIGHT
BEGIN:STANDARD
TZOFFSETFROM:+0200
TZOFFSETTO:+0100
TZNAME:CET
DTSTART:20171029T010000
END:STANDARD
BEGIN:DAYLIGHT
TZOFFSETFROM:+0100
TZOFFSETTO:+0200
TZNAME:CEST
DTSTART:20180325T010000
END:DAYLIGHT
BEGIN:STANDARD
TZOFFSETFROM:+0200
TZOFFSETTO:+0100
TZNAME:CET
DTSTART:20181028T010000
END:STANDARD
BEGIN:DAYLIGHT
TZOFFSETFROM:+0100
TZOFFSETTO:+0200
TZNAME:CEST
DTSTART:20190331T010000
END:DAYLIGHT
BEGIN:STANDARD
TZOFFSETFROM:+0200
TZOFFSETTO:+0100
TZNAME:CET
DTSTART:20191027T010000
END:STANDARD
END:VTIMEZONE
BEGIN:VEVENT
DTSTART;TZID=Europe/Zurich:20180528T114500
DTEND;TZID=Europe/Zurich:20180528T140000
DTSTAMP:20260420T012059
CREATED:20171129T160818Z
LAST-MODIFIED:20180607T214839Z
UID:2657-1527507900-1527516000@www.cwf.ch
SUMMARY:Abir Oreibi\, CEO of LIFT : a woman with many hats !
DESCRIPTION:Many hats\, just one woman – Abir OREIBI is an entrepreneur\, investor\, founder and board member. Her ambition : to understand the impact and potentiel of technology on businesses and society. This led her career path in various sectors in Europe and Asia\, even contributing to build the Chinese E-commerce Group Alibaba\, one of the most successful internet companies. \nHow does she succeed in all these different domains?  \nWhat did she learn from all these experiences? \nCome to this CWF lunch conference to listen to Abir’s tips and tricks! She will share her experience as business visionary and mother/ step-mother of 5! \nBiography \nAbir Oreibi has an international professional background having lived and worked in Shanghai\, Hong Kong\, Bangkok and London. For more than 18 years\, she has been active in multiple fields related to the world of innovation and startups. She joined the Chinese group Alibaba at its creation and was its General Manager for Europe\, the Middle East and Africa for more than 8 years. \nToday\, as CEO of Lift\, she leads an organization that identifies technology trends\, their business and social impact through the organization of events and open innovation programs. Issues related to the challenges and opportunities created by new technologies as well as the strategic responses from organizations are at the heart of Lift‘s activities. \nAfter 2 years as member of the EPFL-based Commission for Technology and Innovation (CTI) – a Swiss government agency for innovation – Abir continues its commitment as an expert in Innosuisse\, the newly set up Swiss agency for innovation. \nAbir Oreibi is also active in investor networks and sits on various boards of innovation as an active member.
URL:https://www.cwf.ch/event/lunch-with-abir-oreibi-ceo-of-lift/
LOCATION:Hôtel Métropole\, 34 quai Général Guisan\, Geneva\, 1204\, Switzerland
CATEGORIES:Lunches
ATTACH;FMTTYPE=image/jpeg:https://www.cwf.ch/wp-content/uploads/2017/11/Abir-Oreibi_2.jpg
ORGANIZER;CN="CWF":MAILTO:administration@cwf.ch
GEO:46.2033764;6.1521463
X-APPLE-STRUCTURED-LOCATION;VALUE=URI;X-ADDRESS=Hôtel Métropole 34 quai Général Guisan Geneva 1204 Switzerland;X-APPLE-RADIUS=500;X-TITLE=34 quai Général Guisan:geo:6.1521463,46.2033764
END:VEVENT
END:VCALENDAR