BEGIN:VCALENDAR
VERSION:2.0
PRODID:-//CWF Official Website - ECPv6.15.17.1//NONSGML v1.0//EN
CALSCALE:GREGORIAN
METHOD:PUBLISH
X-WR-CALNAME:CWF Official Website
X-ORIGINAL-URL:https://www.cwf.ch
X-WR-CALDESC:Events for CWF Official Website
REFRESH-INTERVAL;VALUE=DURATION:PT1H
X-Robots-Tag:noindex
X-PUBLISHED-TTL:PT1H
BEGIN:VTIMEZONE
TZID:Europe/Zurich
BEGIN:DAYLIGHT
TZOFFSETFROM:+0100
TZOFFSETTO:+0200
TZNAME:CEST
DTSTART:20180325T010000
END:DAYLIGHT
BEGIN:STANDARD
TZOFFSETFROM:+0200
TZOFFSETTO:+0100
TZNAME:CET
DTSTART:20181028T010000
END:STANDARD
BEGIN:DAYLIGHT
TZOFFSETFROM:+0100
TZOFFSETTO:+0200
TZNAME:CEST
DTSTART:20190331T010000
END:DAYLIGHT
BEGIN:STANDARD
TZOFFSETFROM:+0200
TZOFFSETTO:+0100
TZNAME:CET
DTSTART:20191027T010000
END:STANDARD
BEGIN:DAYLIGHT
TZOFFSETFROM:+0100
TZOFFSETTO:+0200
TZNAME:CEST
DTSTART:20200329T010000
END:DAYLIGHT
BEGIN:STANDARD
TZOFFSETFROM:+0200
TZOFFSETTO:+0100
TZNAME:CET
DTSTART:20201025T010000
END:STANDARD
END:VTIMEZONE
BEGIN:VEVENT
DTSTART;TZID=Europe/Zurich:20190131T080000
DTEND;TZID=Europe/Zurich:20190131T170000
DTSTAMP:20260420T134248
CREATED:20181106T104045Z
LAST-MODIFIED:20190116T090729Z
UID:49683-1548921600-1548954000@www.cwf.ch
SUMMARY:Journée du Conseil d'administration
DESCRIPTION:En qualité de membre du Career Women Forum\, vous bénéficiez d’une réduction de CHF 200.-. \nOrganisée par la Fondation Swiss Board Institute sous l’égide de l’Université de Genève (Geneva School of Economics and Management – GSEM) et en partenariat avec l’IMD et le quotidien Le Temps\, la Journée du Conseil d’administration s’adresse aux membres de conseils d’administration et de directions générales d’entreprises cotées et non cotées de Suisse Romande. \nElle propose un forum pluridisciplinaire de qualité autour de la fonction d’administrateur au cours duquel des acteurs clés du paysage économique suisse s’expriment sur des questions d’actualité et partagent leurs expériences concrètes. A l’occasion de l’édition 2019\, les débats porteront notamment sur la transformation digitale et le rôle du conseil d’administration\, la culture de l’innovation au sein d’un groupe\, le passage de témoin dans les entreprises familiales\, le rôle du conseil d’administration en temps de crise et les enjeux liés au pilotage d’une entreprise publique. \nProgramme\, informations et inscriptions : www.swissboardinstitute.ch \nSBI_Annonce_Le Temps
URL:https://www.cwf.ch/event/journee-du-conseil-dadministration-2/
LOCATION:IMD Business School\, Chemin de Bellerive 34\, Lausanne\, 1003\, Switzerland
CATEGORIES:Partners' Events
ATTACH;FMTTYPE=image/jpeg:https://www.cwf.ch/wp-content/uploads/2018/04/SBI_logo-1.jpg
ORGANIZER;CN="Swiss Board Institute":MAILTO:contact@swissboardinstitute.ch
GEO:46.5109961;6.6193476
X-APPLE-STRUCTURED-LOCATION;VALUE=URI;X-ADDRESS=IMD Business School Chemin de Bellerive 34 Lausanne 1003 Switzerland;X-APPLE-RADIUS=500;X-TITLE=Chemin de Bellerive 34:geo:6.6193476,46.5109961
END:VEVENT
END:VCALENDAR