BEGIN:VCALENDAR
VERSION:2.0
PRODID:-//CWF Official Website - ECPv6.15.17.1//NONSGML v1.0//EN
CALSCALE:GREGORIAN
METHOD:PUBLISH
X-WR-CALNAME:CWF Official Website
X-ORIGINAL-URL:https://www.cwf.ch
X-WR-CALDESC:Events for CWF Official Website
REFRESH-INTERVAL;VALUE=DURATION:PT1H
X-Robots-Tag:noindex
X-PUBLISHED-TTL:PT1H
BEGIN:VTIMEZONE
TZID:Europe/Zurich
BEGIN:DAYLIGHT
TZOFFSETFROM:+0100
TZOFFSETTO:+0200
TZNAME:CEST
DTSTART:20230326T010000
END:DAYLIGHT
BEGIN:STANDARD
TZOFFSETFROM:+0200
TZOFFSETTO:+0100
TZNAME:CET
DTSTART:20231029T010000
END:STANDARD
BEGIN:DAYLIGHT
TZOFFSETFROM:+0100
TZOFFSETTO:+0200
TZNAME:CEST
DTSTART:20240331T010000
END:DAYLIGHT
BEGIN:STANDARD
TZOFFSETFROM:+0200
TZOFFSETTO:+0100
TZNAME:CET
DTSTART:20241027T010000
END:STANDARD
BEGIN:DAYLIGHT
TZOFFSETFROM:+0100
TZOFFSETTO:+0200
TZNAME:CEST
DTSTART:20250330T010000
END:DAYLIGHT
BEGIN:STANDARD
TZOFFSETFROM:+0200
TZOFFSETTO:+0100
TZNAME:CET
DTSTART:20251026T010000
END:STANDARD
END:VTIMEZONE
BEGIN:VEVENT
DTSTART;TZID=Europe/Zurich:20240122T114500
DTEND;TZID=Europe/Zurich:20240122T140000
DTSTAMP:20260423T005150
CREATED:20240102T122710Z
LAST-MODIFIED:20240108T090211Z
UID:195172-1705923900-1705932000@www.cwf.ch
SUMMARY:Inspirational Lunch with Dania Samawi\, International Ambassador to the Swiss Red Cross
DESCRIPTION:Let’s start the year under the banner of solidarity and commitment to those most in need. \nOur very first guest of 2024 is an International Ambassador to the Swiss Red Cross\, Dania Samawi.\nDania began her journey in philanthropy 15 years ago with Action Sabrina\, a Swiss Foundation dedicated to assisting families with children facing cancer. In 2010\, Dania joined the Swiss Red Cross with a mission to raise funds for victims of forgotten disasters. She co-chaired fundraising events for six years\, actively contributing to this cause. \nDania’s unwavering commitment extended beyond the boardroom as she embarked on journeys to witness firsthand the Red Cross’s projects\, including visits to Armenia\, Nepal\, and refugee camps in Lebanon. Additionally\, she was appointed to the Support and Development Board of the Swiss Red Cross. \nDespite challenging circumstances brought about by the Covid pandemic\, she founded Tiffany Circle Switzerland in 2021\, an International Network for women leaders and philanthropist who support and advance the work of the Red Cross and was recognized for her unwavering commitment when she was honored with the title of International Ambassador of the Swiss Red Cross in 2022. \nOver the lunch\, Dania will share with us her mission and her work with the Red Cross. But this will also be an opportunity to get to know her better and to learn more about her other projects and the message she wants to convey to women from all walks of life. \n 
URL:https://www.cwf.ch/event/inspirational-lunch-with-dania-samawi-international-ambassador-to-the-swiss-red-cross/
LOCATION:Four Seasons Hotel des Bergues Geneva\, Quai des Bergues 33\, Genève\, Genève\, 1201\, Switzerland
CATEGORIES:Lunches
ATTACH;FMTTYPE=image/jpeg:https://www.cwf.ch/wp-content/uploads/2024/01/Dania_Samawi.jpg
ORGANIZER;CN="CWF":MAILTO:administration@cwf.ch
GEO:46.2070227;6.146962
X-APPLE-STRUCTURED-LOCATION;VALUE=URI;X-ADDRESS=Four Seasons Hotel des Bergues Geneva Quai des Bergues 33 Genève Genève 1201 Switzerland;X-APPLE-RADIUS=500;X-TITLE=Quai des Bergues 33:geo:6.146962,46.2070227
END:VEVENT
END:VCALENDAR