BEGIN:VCALENDAR
VERSION:2.0
PRODID:-//CWF Official Website - ECPv6.15.17.1//NONSGML v1.0//EN
CALSCALE:GREGORIAN
METHOD:PUBLISH
X-WR-CALNAME:CWF Official Website
X-ORIGINAL-URL:https://www.cwf.ch
X-WR-CALDESC:Events for CWF Official Website
REFRESH-INTERVAL;VALUE=DURATION:PT1H
X-Robots-Tag:noindex
X-PUBLISHED-TTL:PT1H
BEGIN:VTIMEZONE
TZID:Europe/Zurich
BEGIN:DAYLIGHT
TZOFFSETFROM:+0100
TZOFFSETTO:+0200
TZNAME:CEST
DTSTART:20240331T010000
END:DAYLIGHT
BEGIN:STANDARD
TZOFFSETFROM:+0200
TZOFFSETTO:+0100
TZNAME:CET
DTSTART:20241027T010000
END:STANDARD
BEGIN:DAYLIGHT
TZOFFSETFROM:+0100
TZOFFSETTO:+0200
TZNAME:CEST
DTSTART:20250330T010000
END:DAYLIGHT
BEGIN:STANDARD
TZOFFSETFROM:+0200
TZOFFSETTO:+0100
TZNAME:CET
DTSTART:20251026T010000
END:STANDARD
BEGIN:DAYLIGHT
TZOFFSETFROM:+0100
TZOFFSETTO:+0200
TZNAME:CEST
DTSTART:20260329T010000
END:DAYLIGHT
BEGIN:STANDARD
TZOFFSETFROM:+0200
TZOFFSETTO:+0100
TZNAME:CET
DTSTART:20261025T010000
END:STANDARD
END:VTIMEZONE
BEGIN:VEVENT
DTSTART;TZID=Europe/Zurich:20250915T114500
DTEND;TZID=Europe/Zurich:20250915T140000
DTSTAMP:20260421T024338
CREATED:20250606T082739Z
LAST-MODIFIED:20250913T100201Z
UID:204414-1757936700-1757944800@www.cwf.ch
SUMMARY:Éducation & Enjeux : Regards croisés avec Anne Hiltpold
DESCRIPTION:Si vous souhaitez participer à ce déjeuner\, merci d’envoyer un message à administration@cwf.ch \nUn rendez-vous inspirant autour de l’Éducation et des grands Enjeux de notre société \nPour ce premier déjeuner de la rentrée\, le Career Women’s Forum a le plaisir d’accueillir Anne Hiltpold\, Conseillère d’État genevoise en charge du Département de l’instruction publique\, de la formation et de la jeunesse (DIP). \nFemme engagée depuis toujours\, juriste de formation\, Anne Hiltpold a parcouru les sphères politique et administrative genevoises avec conviction et dynamisme. Elle partagera avec nous son parcours d’engagement\, les dimensions humaines et organisationnelles du DIP\, et surtout\, les défis actuels et à venir de l’éducation à Genève et au-delà. \nAu programme : \n\nÉducation & formation tout au long de la vie\nÉvolution des attentes et des enjeux sociétaux\nÉquilibre entre exigences académiques\, numériques et humaines\nEnseignants\, Élèves\, Écoles : qui sont les actrices et acteurs du changement?\nEcrans & Externes : comment gérer les nouvelles influences?\nExtrascolaire & parentalité : soutenir la conciliation vie privée – vie professionnelle\n\nUne conversation authentique et éclairante issue d’un échange personnel inspirant avec Anne Hiltpold. \nBiographie \nNée à Carouge en 1973\, Anne Hiltpold a étudié le droit à Genève\, puis en Allemagne. Après l’obtention de son brevet d’avocate\, elle travaille 6 ans comme avocate collaboratrice dans une Etude avant de rejoindre la Chambre genevoise immobilière comme responsable du service juridique puis Secrétaire générale adjointe. \nDepuis sa jeunesse\, elle a toujours été active en politique. Elue au Conseil municipal de la ville de Carouge en 1999\, elle devient conseillère administrative en 2015 (Maire en 2017-2018 et 2021-2022) et le restera jusqu’en 2023\, année de son élection au Conseil d’Etat. En charge de la police municipale\, des ressources humaines et des affaires sociales\, elle était également membre du comité du GIAP (groupement intercommunal pour les activités parascolaires) et Vice-Présidente de la FASe (fondation pour l’animation socioculturelle). \nDepuis le 1er juin 2023\, Anne Hiltpold est conseillère d’Etat en charge du département de l’instruction publique\, de la formation et de la jeunesse. Elle est à ce titre membre de la CIIP (conférence latine des directeurs de l’instruction publique) et de la CDIP (conférence suisse des directeurs de l’instruction publique)\, dont elle a rejoint le comité en janvier 2024. Elle est par ailleurs Vice-Présidente du Comité gouvernemental de la HES-SO et membre du Conseil suisse des hautes écoles.
URL:https://www.cwf.ch/event/education-er-enjeux-regards-croises-avec-anne-hiltpold/
LOCATION:Hôtel Métropole\, 34 quai Général Guisan\, Geneva\, 1204\, Switzerland
CATEGORIES:Lunches
ATTACH;FMTTYPE=image/jpeg:https://www.cwf.ch/wp-content/uploads/2025/06/anne_hiltpold_007_bis-2.jpg
ORGANIZER;CN="CWF":MAILTO:administration@cwf.ch
GEO:46.2033764;6.1521463
X-APPLE-STRUCTURED-LOCATION;VALUE=URI;X-ADDRESS=Hôtel Métropole 34 quai Général Guisan Geneva 1204 Switzerland;X-APPLE-RADIUS=500;X-TITLE=34 quai Général Guisan:geo:6.1521463,46.2033764
END:VEVENT
END:VCALENDAR