BEGIN:VCALENDAR
VERSION:2.0
PRODID:-//CWF Official Website - ECPv6.15.17.1//NONSGML v1.0//EN
CALSCALE:GREGORIAN
METHOD:PUBLISH
X-WR-CALNAME:CWF Official Website
X-ORIGINAL-URL:https://www.cwf.ch
X-WR-CALDESC:Events for CWF Official Website
REFRESH-INTERVAL;VALUE=DURATION:PT1H
X-Robots-Tag:noindex
X-PUBLISHED-TTL:PT1H
BEGIN:VTIMEZONE
TZID:Europe/Zurich
BEGIN:DAYLIGHT
TZOFFSETFROM:+0100
TZOFFSETTO:+0200
TZNAME:CEST
DTSTART:20230326T010000
END:DAYLIGHT
BEGIN:STANDARD
TZOFFSETFROM:+0200
TZOFFSETTO:+0100
TZNAME:CET
DTSTART:20231029T010000
END:STANDARD
BEGIN:DAYLIGHT
TZOFFSETFROM:+0100
TZOFFSETTO:+0200
TZNAME:CEST
DTSTART:20240331T010000
END:DAYLIGHT
BEGIN:STANDARD
TZOFFSETFROM:+0200
TZOFFSETTO:+0100
TZNAME:CET
DTSTART:20241027T010000
END:STANDARD
BEGIN:DAYLIGHT
TZOFFSETFROM:+0100
TZOFFSETTO:+0200
TZNAME:CEST
DTSTART:20250330T010000
END:DAYLIGHT
BEGIN:STANDARD
TZOFFSETFROM:+0200
TZOFFSETTO:+0100
TZNAME:CET
DTSTART:20251026T010000
END:STANDARD
END:VTIMEZONE
BEGIN:VEVENT
DTSTART;VALUE=DATE:20240228
DTEND;VALUE=DATE:20240229
DTSTAMP:20260422T230107
CREATED:20231211T161435Z
LAST-MODIFIED:20240215T084730Z
UID:195132-1709078400-1709164799@www.cwf.ch
SUMMARY:CWF Mentoring Program 2024: Closing Registration
DESCRIPTION:Dear CWF Members\, \nReady to take part in a mentoring experience?  \nNOW is the right time to take a step to your development…\n \nBy mid-January\, the registration will be open to apply for the Mentoring program 2024\, all you will have to do is fill in the relevant form (links to be added in due time). \nMentoring is one of the most powerful activities for the individual’s personal and professional growth. A privileged relationship develops between the mentee and mentor\, usually a person with valuable experience in an area the mentee would like to develop in.  The mentor brings a new perspective to the mentee and provides her with a base to her reflections\, to reach her specific development goals. For more information\, click on this link. \nMentoring offer\nBacked by long-term experience\, CWF offers its members mentoring programs matching high-potential women with senior/executive mentors to help foster development and growth. \n \nProgram: \nIndividual members: The number of mentees will depend on the number of registered mentors. You can register for mentor or mentee or for both roles. \nCorporate Partners: Each company identifies mentors and mentees candidates (balanced). Each candidate fills in a profile form with professional and personal information. \nHere is the timeline of the program: \n\nBy February 29: Please complete the registration\nThroughout March: Pairs are formed with the help of corporate representatives\nBy March 31: Participants are informed about their counterparts\nBy April 1: Start of the mentoring partnership.\nDecember 2024: End of the program.\n\n\n\nNB \n\nMentees can participate in only ONE program per year\nMentors can apply to accompany more than one Mentee\, if you are interested\, please mention it into your form in the comments\nIf you are in the mastermind program\, you can register as a mentor\, not as a mentee\nCorporate Partners must propose as many Mentors as Mentees\n\nThroughout the program\, the CWF will invite participants to attend a High-Impact training session and regular catch-ups to support each Mentee and Mentor to make the most of their mentoring journey. \nTo apply\, please follow the links below: \nMentors form \nMentees form \n\n\nIf you have any questions\, or comments please do not hesitate to contact us at administration@cwf.ch. For more information about the CWF\, visit our website at www.cwf.ch. \nYours Sincerely\, \nThe CWF Mentoring Program Team
URL:https://www.cwf.ch/event/cwf-mentoring-program-spring-2024-closing-registration/
CATEGORIES:Co-development
ATTACH;FMTTYPE=image/jpeg:https://www.cwf.ch/wp-content/uploads/2018/02/MentoringProgram_2.jpg
ORGANIZER;CN="CWF":MAILTO:administration@cwf.ch
END:VEVENT
END:VCALENDAR