BEGIN:VCALENDAR
VERSION:2.0
PRODID:-//CWF Official Website - ECPv6.15.17.1//NONSGML v1.0//EN
CALSCALE:GREGORIAN
METHOD:PUBLISH
X-WR-CALNAME:CWF Official Website
X-ORIGINAL-URL:https://www.cwf.ch
X-WR-CALDESC:Events for CWF Official Website
REFRESH-INTERVAL;VALUE=DURATION:PT1H
X-Robots-Tag:noindex
X-PUBLISHED-TTL:PT1H
BEGIN:VTIMEZONE
TZID:Europe/Zurich
BEGIN:DAYLIGHT
TZOFFSETFROM:+0100
TZOFFSETTO:+0200
TZNAME:CEST
DTSTART:20170326T010000
END:DAYLIGHT
BEGIN:STANDARD
TZOFFSETFROM:+0200
TZOFFSETTO:+0100
TZNAME:CET
DTSTART:20171029T010000
END:STANDARD
BEGIN:DAYLIGHT
TZOFFSETFROM:+0100
TZOFFSETTO:+0200
TZNAME:CEST
DTSTART:20180325T010000
END:DAYLIGHT
BEGIN:STANDARD
TZOFFSETFROM:+0200
TZOFFSETTO:+0100
TZNAME:CET
DTSTART:20181028T010000
END:STANDARD
BEGIN:DAYLIGHT
TZOFFSETFROM:+0100
TZOFFSETTO:+0200
TZNAME:CEST
DTSTART:20190331T010000
END:DAYLIGHT
BEGIN:STANDARD
TZOFFSETFROM:+0200
TZOFFSETTO:+0100
TZNAME:CET
DTSTART:20191027T010000
END:STANDARD
END:VTIMEZONE
BEGIN:VEVENT
DTSTART;TZID=Europe/Zurich:20180612T180000
DTEND;TZID=Europe/Zurich:20180612T213000
DTSTAMP:20260420T022746
CREATED:20180412T164707Z
LAST-MODIFIED:20180613T174626Z
UID:21429-1528826400-1528839000@www.cwf.ch
SUMMARY:Board of Directors – Gender Quotas: A Nice Bad Idea\, or the Future of Governance?
DESCRIPTION:Witness and partake in the second edition of the “Women on Boards” Panel discussion. \nThis year’s Panel will cover the much heated debate on the participation of women in corporate and public boards. \nWhy does gender equality and diversity matter for corporate boards? Are you for or against gender quotas? \nJoin us in this pivotal discussion – at a time when the Swiss Parliament and many professional and social organizations are defining Swiss policy now\, and for the future. \nSpeakers: \nEsther-Mirjam de Boer: Co-Owner and CEO GetDiversity GmbH \nAnne Hornung-Soukup: Chair of the Board Transports publics genevois (TPG) \nDenise Koopmans: Board member Sanoma \nProf. Gilbert Probst: Chairman BCGE Group \nPanel moderated by Michael McKay\, Founder and Presenter “The McKay Interview”. \nProgram: \n\n18:00 Registration\n18:30 Conference\n20:30Cocktail Dinner\n\nCWF_WOB Panel-Program \nCorporate Members Statements \nOur event in AGEFI \nLa question des quotas de femmes suscite un vif débat _ Agefi.com \n  \nIn partnership with:\n \n                  
URL:https://www.cwf.ch/event/board-of-directors-gender-quotas-a-nice-bad-idea-or-the-future-of-governance/
CATEGORIES:Partners' Events,Women on Boards
ATTACH;FMTTYPE=image/png:https://www.cwf.ch/wp-content/uploads/2018/04/WOB_2_2018.png
ORGANIZER;CN="CWF":MAILTO:administration@cwf.ch
END:VEVENT
END:VCALENDAR