BEGIN:VCALENDAR
VERSION:2.0
PRODID:-//CWF Official Website - ECPv6.15.17.1//NONSGML v1.0//EN
CALSCALE:GREGORIAN
METHOD:PUBLISH
X-WR-CALNAME:CWF Official Website
X-ORIGINAL-URL:https://www.cwf.ch
X-WR-CALDESC:Events for CWF Official Website
REFRESH-INTERVAL;VALUE=DURATION:PT1H
X-Robots-Tag:noindex
X-PUBLISHED-TTL:PT1H
BEGIN:VTIMEZONE
TZID:Europe/Zurich
BEGIN:DAYLIGHT
TZOFFSETFROM:+0100
TZOFFSETTO:+0200
TZNAME:CEST
DTSTART:20170326T010000
END:DAYLIGHT
BEGIN:STANDARD
TZOFFSETFROM:+0200
TZOFFSETTO:+0100
TZNAME:CET
DTSTART:20171029T010000
END:STANDARD
BEGIN:DAYLIGHT
TZOFFSETFROM:+0100
TZOFFSETTO:+0200
TZNAME:CEST
DTSTART:20180325T010000
END:DAYLIGHT
BEGIN:STANDARD
TZOFFSETFROM:+0200
TZOFFSETTO:+0100
TZNAME:CET
DTSTART:20181028T010000
END:STANDARD
BEGIN:DAYLIGHT
TZOFFSETFROM:+0100
TZOFFSETTO:+0200
TZNAME:CEST
DTSTART:20190331T010000
END:DAYLIGHT
BEGIN:STANDARD
TZOFFSETFROM:+0200
TZOFFSETTO:+0100
TZNAME:CET
DTSTART:20191027T010000
END:STANDARD
END:VTIMEZONE
BEGIN:VEVENT
DTSTART;TZID=Europe/Zurich:20180426T180000
DTEND;TZID=Europe/Zurich:20180426T210000
DTSTAMP:20260419T184909
CREATED:20171208T140238Z
LAST-MODIFIED:20180504T074819Z
UID:5103-1524765600-1524776400@www.cwf.ch
SUMMARY:Assemblée générale annuelle - Annual General Assembly
DESCRIPTION:The General Assembly will be followed by a cocktail offered by the Career Women’s Forum
URL:https://www.cwf.ch/event/annual-general-assembly/
LOCATION:Hôtel Métropole\, 34 quai Général Guisan\, Geneva\, 1204\, Switzerland
CATEGORIES:Festive Events
ATTACH;FMTTYPE=image/jpeg:https://www.cwf.ch/wp-content/uploads/2017/09/CWF-Metropole-GE-26092016-HD-9.jpg
ORGANIZER;CN="CWF":MAILTO:administration@cwf.ch
GEO:46.2033764;6.1521463
X-APPLE-STRUCTURED-LOCATION;VALUE=URI;X-ADDRESS=Hôtel Métropole 34 quai Général Guisan Geneva 1204 Switzerland;X-APPLE-RADIUS=500;X-TITLE=34 quai Général Guisan:geo:6.1521463,46.2033764
END:VEVENT
END:VCALENDAR