BEGIN:VCALENDAR
VERSION:2.0
PRODID:-//CWF Official Website - ECPv6.15.17.1//NONSGML v1.0//EN
CALSCALE:GREGORIAN
METHOD:PUBLISH
X-WR-CALNAME:CWF Official Website
X-ORIGINAL-URL:https://www.cwf.ch
X-WR-CALDESC:Events for CWF Official Website
REFRESH-INTERVAL;VALUE=DURATION:PT1H
X-Robots-Tag:noindex
X-PUBLISHED-TTL:PT1H
BEGIN:VTIMEZONE
TZID:Europe/Zurich
BEGIN:DAYLIGHT
TZOFFSETFROM:+0100
TZOFFSETTO:+0200
TZNAME:CEST
DTSTART:20220327T010000
END:DAYLIGHT
BEGIN:STANDARD
TZOFFSETFROM:+0200
TZOFFSETTO:+0100
TZNAME:CET
DTSTART:20221030T010000
END:STANDARD
BEGIN:DAYLIGHT
TZOFFSETFROM:+0100
TZOFFSETTO:+0200
TZNAME:CEST
DTSTART:20230326T010000
END:DAYLIGHT
BEGIN:STANDARD
TZOFFSETFROM:+0200
TZOFFSETTO:+0100
TZNAME:CET
DTSTART:20231029T010000
END:STANDARD
BEGIN:DAYLIGHT
TZOFFSETFROM:+0100
TZOFFSETTO:+0200
TZNAME:CEST
DTSTART:20240331T010000
END:DAYLIGHT
BEGIN:STANDARD
TZOFFSETFROM:+0200
TZOFFSETTO:+0100
TZNAME:CET
DTSTART:20241027T010000
END:STANDARD
END:VTIMEZONE
BEGIN:VEVENT
DTSTART;TZID=Europe/Zurich:20230612T114500
DTEND;TZID=Europe/Zurich:20230612T140000
DTSTAMP:20260425T152003
CREATED:20230202T091137Z
LAST-MODIFIED:20230516T150713Z
UID:189818-1686570300-1686578400@www.cwf.ch
SUMMARY:Anne Marion-Bouchacourt - Echanges & partages d’expériences
DESCRIPTION:Comme c’est la tradition pour les événements WOB\, ce déjeuner est ouvert à tous\, femmes et hommes \nDans le cadre de l’initiative Women on Board\, nous vous proposons de découvrir le parcours d’Anne Marion-Bouchacourt\, Responsable Pays du groupe Société Générale en Suisse. \nDepuis février 2019\, Anne Marion-Bouchacourt exerce différentes hautes responsabilités : \n\nResponsable Pays du groupe Société Générale en Suisse.\nPrésidente du Conseil d’administration de Société Générale Private Banking Suisse.\nCEO de Société Générale Corporate & Investment Banking Suisse.\n\nUne très belle évolution depuis ses débuts au sein du groupe Société Générale en 2004 en tant que Directrice des Ressources Humaines de Société Générale Corporate and Investment Banking. \nCe moment d’échange nous permettra de découvrir le parcours brillant et inspirant d’Anne Marion-Bouchacourt. Quels ont été ses défis et ses plus belles réussites ? Quels sont ses projets et son ambition à ce stade de sa carrière ? Quelles sont ses conseils pour les femmes évoluant dans un monde du travail en pleine mutation ? \nUn déjeuner riche en apprentissage et dans le partage d’expériences. Nous vous y attendons nombreuses et nombreux.
URL:https://www.cwf.ch/event/anne-marion-bouchacourt-echanges-partages-dexperiences/
LOCATION:Four Seasons Hotel des Bergues Geneva\, Quai des Bergues 33\, Genève\, Genève\, 1201\, Switzerland
CATEGORIES:Lunches,Women on Boards
ATTACH;FMTTYPE=image/jpeg:https://www.cwf.ch/wp-content/uploads/2023/02/Anne_Marion-Bouchacourt.jpg
ORGANIZER;CN="CWF":MAILTO:administration@cwf.ch
GEO:46.2070227;6.146962
X-APPLE-STRUCTURED-LOCATION;VALUE=URI;X-ADDRESS=Four Seasons Hotel des Bergues Geneva Quai des Bergues 33 Genève Genève 1201 Switzerland;X-APPLE-RADIUS=500;X-TITLE=Quai des Bergues 33:geo:6.146962,46.2070227
END:VEVENT
END:VCALENDAR